BEGIN:VCALENDAR
VERSION:2.0
PRODID:-//Recapping Everything in Reading, MA - ECPv6.15.20//NONSGML v1.0//EN
CALSCALE:GREGORIAN
METHOD:PUBLISH
X-WR-CALNAME:Recapping Everything in Reading, MA
X-ORIGINAL-URL:https://www.readingrecap.com
X-WR-CALDESC:Events for Recapping Everything in Reading, MA
REFRESH-INTERVAL;VALUE=DURATION:PT1H
X-Robots-Tag:noindex
X-PUBLISHED-TTL:PT1H
BEGIN:VTIMEZONE
TZID:America/New_York
BEGIN:DAYLIGHT
TZOFFSETFROM:-0500
TZOFFSETTO:-0400
TZNAME:EDT
DTSTART:20210314T070000
END:DAYLIGHT
BEGIN:STANDARD
TZOFFSETFROM:-0400
TZOFFSETTO:-0500
TZNAME:EST
DTSTART:20211107T060000
END:STANDARD
BEGIN:DAYLIGHT
TZOFFSETFROM:-0500
TZOFFSETTO:-0400
TZNAME:EDT
DTSTART:20220313T070000
END:DAYLIGHT
BEGIN:STANDARD
TZOFFSETFROM:-0400
TZOFFSETTO:-0500
TZNAME:EST
DTSTART:20221106T060000
END:STANDARD
BEGIN:DAYLIGHT
TZOFFSETFROM:-0500
TZOFFSETTO:-0400
TZNAME:EDT
DTSTART:20230312T070000
END:DAYLIGHT
BEGIN:STANDARD
TZOFFSETFROM:-0400
TZOFFSETTO:-0500
TZNAME:EST
DTSTART:20231105T060000
END:STANDARD
BEGIN:DAYLIGHT
TZOFFSETFROM:-0500
TZOFFSETTO:-0400
TZNAME:EDT
DTSTART:20240310T070000
END:DAYLIGHT
BEGIN:STANDARD
TZOFFSETFROM:-0400
TZOFFSETTO:-0500
TZNAME:EST
DTSTART:20241103T060000
END:STANDARD
BEGIN:DAYLIGHT
TZOFFSETFROM:-0500
TZOFFSETTO:-0400
TZNAME:EDT
DTSTART:20250309T070000
END:DAYLIGHT
BEGIN:STANDARD
TZOFFSETFROM:-0400
TZOFFSETTO:-0500
TZNAME:EST
DTSTART:20251102T060000
END:STANDARD
BEGIN:DAYLIGHT
TZOFFSETFROM:-0500
TZOFFSETTO:-0400
TZNAME:EDT
DTSTART:20260308T070000
END:DAYLIGHT
BEGIN:STANDARD
TZOFFSETFROM:-0400
TZOFFSETTO:-0500
TZNAME:EST
DTSTART:20261101T060000
END:STANDARD
END:VTIMEZONE
BEGIN:VEVENT
DTSTART;TZID=America/New_York:20250713T180000
DTEND;TZID=America/New_York:20250713T193000
DTSTAMP:20260420T205541
CREATED:20250705T194801Z
LAST-MODIFIED:20250705T194801Z
UID:10000824-1752429600-1752435000@www.readingrecap.com
SUMMARY:🎶 Summer Concert Series - Reading Community Concert Band
DESCRIPTION:Reading Community Concert Band  – Concert Variety  \n\nConcerts will be held at Memorial Park this year.  There is street parking on Charles Street and Harrison Street and there is a small parking lot off of Salem Street.  Bring your blanket or chairs and enjoy these free summer concerts.\nThere are no rain dates for our summer concerts.  For information regarding weather cancellations\, please visit the home page of our website at www.readingrec.com after 5:00PM on the day of  the concert.  We will try to post the cancellation notice as close to 5:00PM as possible but please understand that a last-minute cancellation could happen.
URL:https://www.readingrecap.com/event/%f0%9f%8e%b6-summer-concert-series-reading-community-concert-band/
LOCATION:Memorial Park\, 53 Harrison St\, Reading\, MA\, 01867\, United States
CATEGORIES:Entertainment
ATTACH;FMTTYPE=image/webp:https://www.readingrecap.com/wp-content/uploads/2025/07/Memorial-Park-2025.webp
ORGANIZER;CN="Reading Recreation Division":MAILTO:recreation@ci.reading.ma.us
END:VEVENT
BEGIN:VEVENT
DTSTART;TZID=America/New_York:20240818T180000
DTEND;TZID=America/New_York:20240818T193000
DTSTAMP:20260420T205541
CREATED:20240721T183324Z
LAST-MODIFIED:20240721T183324Z
UID:10000707-1724004000-1724009400@www.readingrecap.com
SUMMARY:🎶 Summer Concert Series: Squeezebox Stompers
DESCRIPTION:Squeezebox Stompers – Americana\, Cajun\, zydeco\, blues\, Folk     \n\nConcerts will be held at Memorial Park this year.  There is street parking on Charles Street and Harrison Street and there is a small parking lot off of Salem Street.  Bring your blanket or chairs and enjoy these free summer concerts.\nThere are no rain dates for our summer concerts.  For information regarding weather cancellations\, please visit the home page of our website at www.readingrec.com after 5:00PM on the day of  the concert.  We will try to post the cancellation notice as close to 5:00PM as possible but please understand that a last-minute cancellation could happen.
URL:https://www.readingrecap.com/event/%f0%9f%8e%b6-summer-concert-series-squeezebox-stompers/
LOCATION:Memorial Park\, 53 Harrison St\, Reading\, MA\, 01867\, United States
CATEGORIES:Entertainment
ATTACH;FMTTYPE=image/jpeg:https://www.readingrecap.com/wp-content/uploads/2023/07/Sumer-Concert.jpg
ORGANIZER;CN="Reading Recreation Division":MAILTO:recreation@ci.reading.ma.us
END:VEVENT
BEGIN:VEVENT
DTSTART;TZID=America/New_York:20240811T180000
DTEND;TZID=America/New_York:20240811T193000
DTSTAMP:20260420T205541
CREATED:20240721T183229Z
LAST-MODIFIED:20240721T183229Z
UID:10000706-1723399200-1723404600@www.readingrecap.com
SUMMARY:🎶 Summer Concert Series - The Reminisants
DESCRIPTION:The Reminisants   – Oldies Cover Band – Music from the 50’s to the 90’s   \n\nConcerts will be held at Memorial Park this year.  There is street parking on Charles Street and Harrison Street and there is a small parking lot off of Salem Street.  Bring your blanket or chairs and enjoy these free summer concerts.\nThere are no rain dates for our summer concerts.  For information regarding weather cancellations\, please visit the home page of our website at www.readingrec.com after 5:00PM on the day of  the concert.  We will try to post the cancellation notice as close to 5:00PM as possible but please understand that a last-minute cancellation could happen.
URL:https://www.readingrecap.com/event/%f0%9f%8e%b6-summer-concert-series-the-reminisants/
LOCATION:Memorial Park\, 53 Harrison St\, Reading\, MA\, 01867\, United States
CATEGORIES:Entertainment
ATTACH;FMTTYPE=image/jpeg:https://www.readingrecap.com/wp-content/uploads/2023/07/Sumer-Concert.jpg
ORGANIZER;CN="Reading Recreation Division":MAILTO:recreation@ci.reading.ma.us
END:VEVENT
BEGIN:VEVENT
DTSTART;TZID=America/New_York:20240804T180000
DTEND;TZID=America/New_York:20240804T193000
DTSTAMP:20260420T205541
CREATED:20240721T183115Z
LAST-MODIFIED:20240721T183115Z
UID:10000705-1722794400-1722799800@www.readingrecap.com
SUMMARY:🎶 Summer Concert Series - Steve Savio
DESCRIPTION:Steve Savio  – Contemporary Classics   \n\nConcerts will be held at Memorial Park this year.  There is street parking on Charles Street and Harrison Street and there is a small parking lot off of Salem Street.  Bring your blanket or chairs and enjoy these free summer concerts.\nThere are no rain dates for our summer concerts.  For information regarding weather cancellations\, please visit the home page of our website at www.readingrec.com after 5:00PM on the day of  the concert.  We will try to post the cancellation notice as close to 5:00PM as possible but please understand that a last-minute cancellation could happen.
URL:https://www.readingrecap.com/event/%f0%9f%8e%b6-summer-concert-series-steve-savio/
LOCATION:Memorial Park\, 53 Harrison St\, Reading\, MA\, 01867\, United States
CATEGORIES:Entertainment
ATTACH;FMTTYPE=image/jpeg:https://www.readingrecap.com/wp-content/uploads/2023/07/Sumer-Concert.jpg
ORGANIZER;CN="Reading Recreation Division":MAILTO:recreation@ci.reading.ma.us
END:VEVENT
BEGIN:VEVENT
DTSTART;TZID=America/New_York:20240728T180000
DTEND;TZID=America/New_York:20240728T193000
DTSTAMP:20260420T205541
CREATED:20240721T183019Z
LAST-MODIFIED:20240721T183019Z
UID:10000704-1722189600-1722195000@www.readingrecap.com
SUMMARY:🎶 Summer Concert Series - Jumpin' Juba
DESCRIPTION:Jumpin’ Juba   – Classic Boogie-Woogie\, Blues\, Folk and Memphis Rock & Roll    \n\nConcerts will be held at Memorial Park this year.  There is street parking on Charles Street and Harrison Street and there is a small parking lot off of Salem Street.  Bring your blanket or chairs and enjoy these free summer concerts.\nThere are no rain dates for our summer concerts.  For information regarding weather cancellations\, please visit the home page of our website at www.readingrec.com after 5:00PM on the day of  the concert.  We will try to post the cancellation notice as close to 5:00PM as possible but please understand that a last-minute cancellation could happen.
URL:https://www.readingrecap.com/event/%f0%9f%8e%b6-summer-concert-series-jumpin-juba/
LOCATION:Memorial Park\, 53 Harrison St\, Reading\, MA\, 01867\, United States
CATEGORIES:Entertainment
ATTACH;FMTTYPE=image/jpeg:https://www.readingrecap.com/wp-content/uploads/2023/07/Sumer-Concert.jpg
ORGANIZER;CN="Reading Recreation Division":MAILTO:recreation@ci.reading.ma.us
END:VEVENT
BEGIN:VEVENT
DTSTART;TZID=America/New_York:20240718T183000
DTEND;TZID=America/New_York:20240718T200000
DTSTAMP:20260420T205541
CREATED:20240522T131818Z
LAST-MODIFIED:20240522T131847Z
UID:10000689-1721327400-1721332800@www.readingrecap.com
SUMMARY:👟 Reading Lions/ Friends of Reading Recreation 5K Road Race
DESCRIPTION:Lace up your sneakers\, the Reading Lions Club and\nFriends of Reading Recreation\nJourney for Sight 5K Road Race returns! \nThe Reading Lions Club and The Friends of Reading Recreation are teaming up again for this year’s 5K Road Race and One Mile Walk to benefit the Mass Lions Eye Research Fund. \nThis is a family-friendly flat course convenient centrally located in Reading. T-shirts for the first 150 registrants and age-category awards. A professional dj provides entertainment\, and we have refreshments including pizza for all! \nThursday\, July 18\, 2024 \nTime: 6:30 pm \nMemorial Park\, Harrison St. Reading\, MA \nRegistration: 5:00-6:15 pm sharp \nRegistration link:  http://www.runsignup.com/ReadingLionsFORR5K \n\n$30.00 pre registration/ $35.00 day of race\n$20.00 pre registration ages 17 and under / $25.00 day of race\nT shirts for the first 150 entrants\n\nAwards will be given out for the following categories\n\n1st Overall Male and Female\nTop 3 Male and Female in each of the age categories:\n\n19 and under\, 20-29\, 30-39\, 40-49\, 50-59\, 60-69\, 70-79\, 80+\n\n\n\nAny questions\, please contact Tom Clough
URL:https://www.readingrecap.com/event/%f0%9f%91%9f-reading-lions-friends-of-reading-recreation-5k-road-race/
LOCATION:Memorial Park\, 53 Harrison St\, Reading\, MA\, 01867\, United States
CATEGORIES:Fundraiser,Sports
ATTACH;FMTTYPE=image/webp:https://www.readingrecap.com/wp-content/uploads/2024/05/lionsrace.webp
ORGANIZER;CN="Reading Lions Club":MAILTO:info@readinglionsclub.org
END:VEVENT
BEGIN:VEVENT
DTSTART;TZID=America/New_York:20231111T110000
DTEND;TZID=America/New_York:20231111T120000
DTSTAMP:20260420T205541
CREATED:20231003T191513Z
LAST-MODIFIED:20231003T191513Z
UID:10000526-1699700400-1699704000@www.readingrecap.com
SUMMARY:🇺🇸 Veterans Day Ceremony
DESCRIPTION:Join us for our Veterans Day Ceremony!
URL:https://www.readingrecap.com/event/%f0%9f%87%ba%f0%9f%87%b8-veterans-day-ceremony/
LOCATION:Memorial Park\, 53 Harrison St\, Reading\, MA\, 01867\, United States
CATEGORIES:Holiday
ATTACH;FMTTYPE=image/jpeg:https://www.readingrecap.com/wp-content/uploads/2023/10/Town-of-Reading-Veterans-Day-2023.jpg
END:VEVENT
BEGIN:VEVENT
DTSTART;TZID=America/New_York:20230923T120000
DTEND;TZID=America/New_York:20230923T140000
DTSTAMP:20260420T205541
CREATED:20230923T122920Z
LAST-MODIFIED:20230923T122948Z
UID:10000508-1695470400-1695477600@www.readingrecap.com
SUMMARY:👟 Operation Run to Heal 5k
DESCRIPTION:Join us this Saturday for a Charity 5K benefiting the Green Beret Foundation!\nCan’t make it? You can still support by donating or sponsoring a runner. Every contribution counts!\n\nRegister Now  www.OperationRunToHeal.com\nDonate Now \nhttps://raceroster.com/…/fitness…/pledge/team/561111\n\n DATE: September 23\, 2023\n TIME: Opening Ceremony Starts at 1:00pm\n LOCATION: Memorial Park in Reading OR Virtually\n\n All proceeds from this event go directly to the Green Beret Foundation\, an organization that supports our brave servicemen and their families. Together\, we can honor their sacrifice and show our appreciation. \n\n What to expect:\nA fun 5K for all levels of runners and walkers\nLocal Brews\, food\, live music\, and games for all ages.\n\n** Let’s rally our community!**\nShare\, Invite\, and Register now: www.OperationRunToHeal.com\nSee you there rain or shine!  Let’s run for a cause and make an impact!
URL:https://www.readingrecap.com/event/%f0%9f%91%9f-operation-run-to-heal-5k/
LOCATION:Memorial Park\, 53 Harrison St\, Reading\, MA\, 01867\, United States
CATEGORIES:Fundraiser
ATTACH;FMTTYPE=image/jpeg:https://www.readingrecap.com/wp-content/uploads/2023/09/Fitness-Within-5k.jpg
ORGANIZER;CN="Fitness Within":MAILTO:info@fitness-within.com
END:VEVENT
BEGIN:VEVENT
DTSTART;TZID=America/New_York:20230813T180000
DTEND;TZID=America/New_York:20230813T193000
DTSTAMP:20260420T205541
CREATED:20230707T045029Z
LAST-MODIFIED:20230707T045157Z
UID:10000407-1691949600-1691955000@www.readingrecap.com
SUMMARY:🎶 Summer Concert Series - The Reminisants
DESCRIPTION:The Reminisants   – Oldies Cover Band – Music from the 50’s to the 90’s   \n\nConcerts will be held at Memorial Park this year.  There is street parking on Charles Street and Harrison Street and there is a small parking lot off of Salem Street.  Bring your blanket or chairs and enjoy these free summer concerts.\nThere are no rain dates for our summer concerts.  For information regarding weather cancellations\, please visit the home page of our website at www.readingrec.com after 5:00PM on the day of  the concert.  We will try to post the cancellation notice as close to 5:00PM as possible but please understand that a last-minute cancellation could happen.
URL:https://www.readingrecap.com/event/summer-concert-series-the-reminisants/
LOCATION:Memorial Park\, 53 Harrison St\, Reading\, MA\, 01867\, United States
CATEGORIES:Entertainment
ATTACH;FMTTYPE=image/jpeg:https://www.readingrecap.com/wp-content/uploads/2023/07/Sumer-Concert.jpg
ORGANIZER;CN="Reading Recreation Division":MAILTO:recreation@ci.reading.ma.us
END:VEVENT
BEGIN:VEVENT
DTSTART;TZID=America/New_York:20230809T100000
DTEND;TZID=America/New_York:20230809T110000
DTSTAMP:20260420T205541
CREATED:20230707T051638Z
LAST-MODIFIED:20230707T051638Z
UID:10000410-1691575200-1691578800@www.readingrecap.com
SUMMARY:🪀 The Yo-Yo People
DESCRIPTION:Summer Children’s Performances at Memorial Park presents: Yo-Yo People  \nhttps://www.yoyoshow.com/ \n\nThese children’s performances will be held on Wednesday mornings at Memorial Park. Please park on Charles Street or Harrison Street for these free Wednesday performances. \nThere are no rain dates for these performances. For information regarding weather cancellations\, please call the Recreation Division at (781) 942-9075 after 9:00AM on the day of the performance or visit the home page of our website at www.readingrec.com.  We will try to post the cancellation notice as close to 9:00AM as possible but please understand that a last-minute cancellation could happen.
URL:https://www.readingrecap.com/event/%f0%9f%aa%80-the-yo-yo-people/
LOCATION:Memorial Park\, 53 Harrison St\, Reading\, MA\, 01867\, United States
CATEGORIES:Entertainment
ATTACH;FMTTYPE=image/jpeg:https://www.readingrecap.com/wp-content/uploads/2023/07/Summer-Childrens-Performances.jpg
ORGANIZER;CN="Reading Recreation Division":MAILTO:recreation@ci.reading.ma.us
END:VEVENT
BEGIN:VEVENT
DTSTART;TZID=America/New_York:20230806T180000
DTEND;TZID=America/New_York:20230806T193000
DTSTAMP:20260420T205541
CREATED:20230707T044932Z
LAST-MODIFIED:20230707T045202Z
UID:10000406-1691344800-1691350200@www.readingrecap.com
SUMMARY:🎶 Summer Concert Series - Jumpin' Juba
DESCRIPTION:Jumpin’ Juba   – Classic Boogie-Woogie\, Blues\, Folk and Memphis Rock & Roll    \n\nConcerts will be held at Memorial Park this year.  There is street parking on Charles Street and Harrison Street and there is a small parking lot off of Salem Street.  Bring your blanket or chairs and enjoy these free summer concerts.\nThere are no rain dates for our summer concerts.  For information regarding weather cancellations\, please visit the home page of our website at www.readingrec.com after 5:00PM on the day of  the concert.  We will try to post the cancellation notice as close to 5:00PM as possible but please understand that a last-minute cancellation could happen.
URL:https://www.readingrecap.com/event/summer-concert-series-jumpin-juba/
LOCATION:Memorial Park\, 53 Harrison St\, Reading\, MA\, 01867\, United States
CATEGORIES:Entertainment
ATTACH;FMTTYPE=image/jpeg:https://www.readingrecap.com/wp-content/uploads/2023/07/Sumer-Concert.jpg
ORGANIZER;CN="Reading Recreation Division":MAILTO:recreation@ci.reading.ma.us
END:VEVENT
BEGIN:VEVENT
DTSTART;TZID=America/New_York:20230802T100000
DTEND;TZID=America/New_York:20230802T110000
DTSTAMP:20260420T205541
CREATED:20230707T051334Z
LAST-MODIFIED:20230707T051334Z
UID:10000409-1690970400-1690974000@www.readingrecap.com
SUMMARY:📚 Big Joe the Storyteller
DESCRIPTION:Summer Children’s Performances at Memorial Park presents: Big Joe the Storyteller \nhttps://bigjoe.com/ \n\nThese children’s performances will be held on Wednesday mornings at Memorial Park. Please park on Charles Street or Harrison Street for these free Wednesday performances. \nThere are no rain dates for these performances. For information regarding weather cancellations\, please call the Recreation Division at (781) 942-9075 after 9:00AM on the day of the performance or visit the home page of our website at www.readingrec.com.  We will try to post the cancellation notice as close to 9:00AM as possible but please understand that a last-minute cancellation could happen.
URL:https://www.readingrecap.com/event/%f0%9f%93%9a-big-joe-the-storyteller/
LOCATION:Memorial Park\, 53 Harrison St\, Reading\, MA\, 01867\, United States
CATEGORIES:Entertainment
ATTACH;FMTTYPE=image/png:https://www.readingrecap.com/wp-content/uploads/2023/07/logo-big-joe.png
ORGANIZER;CN="Reading Recreation Division":MAILTO:recreation@ci.reading.ma.us
END:VEVENT
BEGIN:VEVENT
DTSTART;TZID=America/New_York:20230730T180000
DTEND;TZID=America/New_York:20230730T193000
DTSTAMP:20260420T205541
CREATED:20230707T044846Z
LAST-MODIFIED:20230707T045205Z
UID:10000405-1690740000-1690745400@www.readingrecap.com
SUMMARY:🎶 Summer Concert Series - Island Castaways
DESCRIPTION:Island Castaways  – Tropical Rock Band   \n\nConcerts will be held at Memorial Park this year.  There is street parking on Charles Street and Harrison Street and there is a small parking lot off of Salem Street.  Bring your blanket or chairs and enjoy these free summer concerts.\nThere are no rain dates for our summer concerts.  For information regarding weather cancellations\, please visit the home page of our website at www.readingrec.com after 5:00PM on the day of  the concert.  We will try to post the cancellation notice as close to 5:00PM as possible but please understand that a last-minute cancellation could happen.
URL:https://www.readingrecap.com/event/summer-concert-series-island-castaways/
LOCATION:Memorial Park\, 53 Harrison St\, Reading\, MA\, 01867\, United States
CATEGORIES:Entertainment
ATTACH;FMTTYPE=image/jpeg:https://www.readingrecap.com/wp-content/uploads/2023/07/Sumer-Concert.jpg
ORGANIZER;CN="Reading Recreation Division":MAILTO:recreation@ci.reading.ma.us
END:VEVENT
BEGIN:VEVENT
DTSTART;TZID=America/New_York:20230726T100000
DTEND;TZID=America/New_York:20230726T110000
DTSTAMP:20260420T205541
CREATED:20230707T051042Z
LAST-MODIFIED:20230707T051042Z
UID:10000408-1690365600-1690369200@www.readingrecap.com
SUMMARY:🌝 Toe Jam Puppet Band Moon Rock Show
DESCRIPTION:Summer Children’s Performances at Memorial Park presents: Toe Jam Puppet Band Moon Rock Show  \nhttps://www.toejampuppetband.com/ \n\nThese children’s performances will be held on Wednesday mornings at Memorial Park. Please park on Charles Street or Harrison Street for these free Wednesday performances. \nThere are no rain dates for these performances. For information regarding weather cancellations\, please call the Recreation Division at (781) 942-9075 after 9:00AM on the day of the performance or visit the home page of our website at www.readingrec.com.  We will try to post the cancellation notice as close to 9:00AM as possible but please understand that a last-minute cancellation could happen.
URL:https://www.readingrecap.com/event/%f0%9f%8c%9d-toe-jam-puppet-band-moon-rock-show/
LOCATION:Memorial Park\, 53 Harrison St\, Reading\, MA\, 01867\, United States
CATEGORIES:Entertainment
ATTACH;FMTTYPE=image/webp:https://www.readingrecap.com/wp-content/uploads/2023/07/Toe-Jam.webp
ORGANIZER;CN="Reading Recreation Division":MAILTO:recreation@ci.reading.ma.us
END:VEVENT
BEGIN:VEVENT
DTSTART;TZID=America/New_York:20230723T180000
DTEND;TZID=America/New_York:20230723T193000
DTSTAMP:20260420T205541
CREATED:20230707T044659Z
LAST-MODIFIED:20230721T121308Z
UID:10000404-1690135200-1690140600@www.readingrecap.com
SUMMARY:🎶 Summer Concert Series: Squeezebox Stompers
DESCRIPTION:Squeezebox Stompers – Americana\, Cajun\, zydeco\, blues\, Folk     \n\nConcerts will be held at Memorial Park this year.  There is street parking on Charles Street and Harrison Street and there is a small parking lot off of Salem Street.  Bring your blanket or chairs and enjoy these free summer concerts.\nThere are no rain dates for our summer concerts.  For information regarding weather cancellations\, please visit the home page of our website at www.readingrec.com after 5:00PM on the day of  the concert.  We will try to post the cancellation notice as close to 5:00PM as possible but please understand that a last-minute cancellation could happen.
URL:https://www.readingrecap.com/event/summer-concert-series-squeezebox-stompers/
LOCATION:Memorial Park\, 53 Harrison St\, Reading\, MA\, 01867\, United States
CATEGORIES:Entertainment
ATTACH;FMTTYPE=image/jpeg:https://www.readingrecap.com/wp-content/uploads/2023/07/Sumer-Concert.jpg
ORGANIZER;CN="Reading Recreation Division":MAILTO:recreation@ci.reading.ma.us
END:VEVENT
BEGIN:VEVENT
DTSTART;TZID=America/New_York:20230720T183000
DTEND;TZID=America/New_York:20230720T200000
DTSTAMP:20260420T205541
CREATED:20230409T223150Z
LAST-MODIFIED:20230707T045657Z
UID:10000333-1689877800-1689883200@www.readingrecap.com
SUMMARY:👟 Reading Lions/ Friends of Reading Recreation 5K Road Race
DESCRIPTION:Lace up your sneakers\, the Reading Lions Club and\nFriends of Reading Recreation\nJourney for Sight 5K Road Race returns! \nThe Reading Lions Club and The Friends of Reading Recreation are teaming up again for this year’s 5K Road Race and One Mile Walk to benefit the Mass Lions Eye Research Fund. \nThis is a family-friendly flat course convenient centrally located in Reading. T-shirts for the first 150 registrants and age-category awards. A professional dj provides entertainment\, and we have refreshments including pizza for all! \nThursday\, July 20\, 2023 \nTime: 6:30 pm \nMemorial Park\, Harrison St. Reading\, MA \nRegistration: 5:00-6:15 pm sharp \nRegistration link:  http://www.runsignup.com/ReadingLionsFORR5K \n\n$30.00 pre registration/ $35.00 day of race\n$20.00 pre registration ages 17 and under / $25.00 day of race\nT shirts for the first 150 entrants\n\nAwards will be given out for the following categories\n\n1st Overall Male and Female\nTop 3 Male and Female in each of the age categories:\n\n19 and under\, 20-29\, 30-39\, 40-49\, 50-59\, 60-69\, 70-79\, 80+\n\n\n\nAny questions\, please contact Tom Clough
URL:https://www.readingrecap.com/event/reading-lions-friends-of-reading-recreation-5k-road-race/
LOCATION:Memorial Park\, 53 Harrison St\, Reading\, MA\, 01867\, United States
CATEGORIES:Fundraiser,Sports
ATTACH;FMTTYPE=image/jpeg:https://www.readingrecap.com/wp-content/uploads/2023/04/Lions-5K-1.jpg
ORGANIZER;CN="Reading Lions Club":MAILTO:info@readinglionsclub.org
END:VEVENT
BEGIN:VEVENT
DTSTART;TZID=America/New_York:20230716T180000
DTEND;TZID=America/New_York:20230716T193000
DTSTAMP:20260420T205541
CREATED:20230707T044432Z
LAST-MODIFIED:20230707T045213Z
UID:10000403-1689530400-1689535800@www.readingrecap.com
SUMMARY:🎶 Summer Concert Series - Shriners Swing Band
DESCRIPTION:Shriners Swing Band  –  Big Band Jazz     \n\nConcerts will be held at Memorial Park this year.  There is street parking on Charles Street and Harrison Street and there is a small parking lot off of Salem Street.  Bring your blanket or chairs and enjoy these free summer concerts.\nThere are no rain dates for our summer concerts.  For information regarding weather cancellations\, please visit the home page of our website at www.readingrec.com after 5:00PM on the day of  the concert.  We will try to post the cancellation notice as close to 5:00PM as possible but please understand that a last-minute cancellation could happen.
URL:https://www.readingrecap.com/event/summer-concert-series-shriners-swing-band/
LOCATION:Memorial Park\, 53 Harrison St\, Reading\, MA\, 01867\, United States
CATEGORIES:Entertainment
ATTACH;FMTTYPE=image/jpeg:https://www.readingrecap.com/wp-content/uploads/2023/07/Sumer-Concert.jpg
ORGANIZER;CN="Reading Recreation Division":MAILTO:recreation@ci.reading.ma.us
END:VEVENT
BEGIN:VEVENT
DTSTART;TZID=America/New_York:20230709T180000
DTEND;TZID=America/New_York:20230709T193000
DTSTAMP:20260420T205541
CREATED:20230707T044323Z
LAST-MODIFIED:20230707T045218Z
UID:10000402-1688925600-1688931000@www.readingrecap.com
SUMMARY:🎶 Summer Concert Series - Steve Savio
DESCRIPTION:Steve Savio  – Contemporary Classics   \n\nConcerts will be held at Memorial Park this year.  There is street parking on Charles Street and Harrison Street and there is a small parking lot off of Salem Street.  Bring your blanket or chairs and enjoy these free summer concerts.\nThere are no rain dates for our summer concerts.  For information regarding weather cancellations\, please visit the home page of our website at www.readingrec.com after 5:00PM on the day of  the concert.  We will try to post the cancellation notice as close to 5:00PM as possible but please understand that a last-minute cancellation could happen.
URL:https://www.readingrecap.com/event/summer-concert-series-steve-savio/
LOCATION:Memorial Park\, 53 Harrison St\, Reading\, MA\, 01867\, United States
CATEGORIES:Entertainment
ATTACH;FMTTYPE=image/jpeg:https://www.readingrecap.com/wp-content/uploads/2023/07/Sumer-Concert.jpg
ORGANIZER;CN="Reading Recreation Division":MAILTO:recreation@ci.reading.ma.us
END:VEVENT
BEGIN:VEVENT
DTSTART;TZID=America/New_York:20221022T120000
DTEND;TZID=America/New_York:20221022T140000
DTSTAMP:20260420T205541
CREATED:20221009T212615Z
LAST-MODIFIED:20221009T212615Z
UID:10000121-1666440000-1666447200@www.readingrecap.com
SUMMARY:Run to Heal 5K
DESCRIPTION:  \nMark your calendars. Fitness Within’s 2022 Operation Run To Heal 5K will be IN-PERSON on Saturday\, October 22\, at Memorial Park\, with an epic after-party beer garden celebration at the Reading Common! We are thrilled to partner with Home Base and the Town of Reading to create an event that will have a massive impact on our Veterans and their Families. Join our incredible community in this year’s Operation Run To Heal 5K\, and together we will be part of something much bigger than ourselves! \n——————– \nWALK – RUN – RUCK \nWhether you want to take your time\, push your pace\, or throw a pack on to experience rucking with our brave service members\, we will complete the mission together! \n——————– \nWHAT’S INCLUDED \n\nOperation Run To Heal Race Shirt.\nOperation Run To Heal Dog Tag Finisher Medal\nFREE beer ticket for the beer garden after party (participants 21 & over)**Must show ID when picking up your race packet to receive your beer ticket\nEntertainment includes live music\, food offerings\, local vendors\n**Gold Warrior Challenge Dog Tag Medal for participants who register for the pre-race Warrior Challenge Bootcamp Class – 1.5 hours before the 5K race (ALL fitness levels welcomed) **limited spots**\nChipped Timed\n\nSchedule\n\nOctober 22 12:00 PM EDT – WARRIOR CHALLENGE BOOT-CAMP CLASS\nOctober 22 1:00 PM EDT – OPENING CEREMONY\n\nOctober 22 1:30 PM EDT – RACE START\n\n\nOctober 22 2:00 PM EDT – Beer Garden
URL:https://www.readingrecap.com/event/run-to-heal-5k/
LOCATION:Memorial Park\, 53 Harrison St\, Reading\, MA\, 01867\, United States
CATEGORIES:Sports
ATTACH;FMTTYPE=image/webp:https://www.readingrecap.com/wp-content/uploads/2022/10/Run-to-Heal-5k.webp
ORGANIZER;CN="Fitness Within":MAILTO:info@fitness-within.com
END:VEVENT
END:VCALENDAR