BEGIN:VCALENDAR
VERSION:2.0
PRODID:-//Recapping Everything in Reading, MA - ECPv6.15.20//NONSGML v1.0//EN
CALSCALE:GREGORIAN
METHOD:PUBLISH
X-ORIGINAL-URL:https://www.readingrecap.com
X-WR-CALDESC:Events for Recapping Everything in Reading, MA
REFRESH-INTERVAL;VALUE=DURATION:PT1H
X-Robots-Tag:noindex
X-PUBLISHED-TTL:PT1H
BEGIN:VTIMEZONE
TZID:America/New_York
BEGIN:DAYLIGHT
TZOFFSETFROM:-0500
TZOFFSETTO:-0400
TZNAME:EDT
DTSTART:20210314T070000
END:DAYLIGHT
BEGIN:STANDARD
TZOFFSETFROM:-0400
TZOFFSETTO:-0500
TZNAME:EST
DTSTART:20211107T060000
END:STANDARD
BEGIN:DAYLIGHT
TZOFFSETFROM:-0500
TZOFFSETTO:-0400
TZNAME:EDT
DTSTART:20220313T070000
END:DAYLIGHT
BEGIN:STANDARD
TZOFFSETFROM:-0400
TZOFFSETTO:-0500
TZNAME:EST
DTSTART:20221106T060000
END:STANDARD
BEGIN:DAYLIGHT
TZOFFSETFROM:-0500
TZOFFSETTO:-0400
TZNAME:EDT
DTSTART:20230312T070000
END:DAYLIGHT
BEGIN:STANDARD
TZOFFSETFROM:-0400
TZOFFSETTO:-0500
TZNAME:EST
DTSTART:20231105T060000
END:STANDARD
END:VTIMEZONE
BEGIN:VEVENT
DTSTART;TZID=America/New_York:20220829T090000
DTEND;TZID=America/New_York:20220829T150000
DTSTAMP:20260423T220034
CREATED:20220812T013706Z
LAST-MODIFIED:20220812T013706Z
UID:10000049-1661763600-1661785200@www.readingrecap.com
SUMMARY:Laschi Hairstylists & Day Spa Cut-A-Thon
DESCRIPTION:CUT-A-THON DETAILS \n8/29/22 from 9-3 pm Laschi Hairstylists & Day Spa \nHair cuts only (no blow drying\, this is to maximize our time) \n$20 Donation \n100% of the proceeds go directly to the foundation. \nPlease call 781-944-6111 for your appointment. \nThere will be raffles\, and prize baskets given out throughout the day. Haircuts only\, please. \nWe will have the raffle prizes displayed for the cut-a-thon starting the week of the 22nd in the salon. So even if you can’t make it that day you can buy a raffle ticket. \nRaffle Baskets/Gift Certificates/Money Tree (Big plant filled with tons of Scratch tickets) &much more! \nOrange tickets  \n\n1 ticket is $5\n3 tickets for $10\n7 tickets for $20\n\nPurple tickets  \n\n$10 each\nPrizes worth over $250+\nFire Pit\nDinner for 2 @ North End Restaurant (Limoncellos)\nComplimentary one weekend night stay package @The Renaissance Boston Waterfront Hotel with breakfast for 2 included\nComplimentary one-night stay package with breakfast for 2 included @ Boston Marriott Long Wharf Hotel\n\nMore big prizes to share!
URL:https://www.readingrecap.com/event/laschi-hairstylists-day-spa-cut-a-thon/
LOCATION:Laschi Hairstylists & Day Spa\, 150 Main Street\, Reading\, MA\, 01867\, United States
CATEGORIES:Fundraiser,Shop 01867
ATTACH;FMTTYPE=image/jpeg:https://www.readingrecap.com/wp-content/uploads/2022/08/Laschi-Hairstylists.jpg
END:VEVENT
END:VCALENDAR