BEGIN:VCALENDAR
VERSION:2.0
PRODID:-//Recapping Everything in Reading, MA - ECPv6.15.20//NONSGML v1.0//EN
CALSCALE:GREGORIAN
METHOD:PUBLISH
X-ORIGINAL-URL:https://www.readingrecap.com
X-WR-CALDESC:Events for Recapping Everything in Reading, MA
REFRESH-INTERVAL;VALUE=DURATION:PT1H
X-Robots-Tag:noindex
X-PUBLISHED-TTL:PT1H
BEGIN:VTIMEZONE
TZID:America/New_York
BEGIN:DAYLIGHT
TZOFFSETFROM:-0500
TZOFFSETTO:-0400
TZNAME:EDT
DTSTART:20210314T070000
END:DAYLIGHT
BEGIN:STANDARD
TZOFFSETFROM:-0400
TZOFFSETTO:-0500
TZNAME:EST
DTSTART:20211107T060000
END:STANDARD
BEGIN:DAYLIGHT
TZOFFSETFROM:-0500
TZOFFSETTO:-0400
TZNAME:EDT
DTSTART:20220313T070000
END:DAYLIGHT
BEGIN:STANDARD
TZOFFSETFROM:-0400
TZOFFSETTO:-0500
TZNAME:EST
DTSTART:20221106T060000
END:STANDARD
BEGIN:DAYLIGHT
TZOFFSETFROM:-0500
TZOFFSETTO:-0400
TZNAME:EDT
DTSTART:20230312T070000
END:DAYLIGHT
BEGIN:STANDARD
TZOFFSETFROM:-0400
TZOFFSETTO:-0500
TZNAME:EST
DTSTART:20231105T060000
END:STANDARD
END:VTIMEZONE
BEGIN:VEVENT
DTSTART;TZID=America/New_York:20221020T110000
DTEND;TZID=America/New_York:20221020T210000
DTSTAMP:20260421T210344
CREATED:20221012T201849Z
LAST-MODIFIED:20221012T201849Z
UID:10000128-1666263600-1666299600@www.readingrecap.com
SUMMARY:RMHS PTO Restaurant Night
DESCRIPTION:Hello RMHS Families!\n\n\n\nSAVE THE DATE…Our first restaurant night for the 2022/2023 calendar year is next THURSDAY\, OCTOBER 20TH at Anthony’s Coal Fire Pizza!!! Spread the word!!!\n\n\n\nAnthony’s Coal Fired Pizza is donating back to Reading Memorial High School PTO – you can help by eating!\n\n\n\nOn Thursday\, October 20th Anthony’s Coal Fired Pizza\, 48 WALKERS BROOK DR\, will donate 20% of Dine-In\, Takeout & Pick up orders to Reading Memorial High School PTO. Please help us by RSVPing to save the date and inviting a friend (or 2) to eat with you! RSVP & details here: https://grouprai.se/s234807
URL:https://www.readingrecap.com/event/rmhs-pto-restaurant-night/
LOCATION:Anthony’s Coal Fired Pizza\, 48 Walkers Brook Dr\, Reading\, MA\, 01867\, United States
CATEGORIES:Fundraiser
ATTACH;FMTTYPE=image/webp:https://www.readingrecap.com/wp-content/uploads/2022/10/Anthonys-Coal-Fired-Pizza-Fundraiser.webp
ORGANIZER;CN="RMHS PTO":MAILTO:rmhspto@gmail.com
END:VEVENT
END:VCALENDAR