BEGIN:VCALENDAR
VERSION:2.0
PRODID:-//Recapping Everything in Reading, MA - ECPv6.15.20//NONSGML v1.0//EN
CALSCALE:GREGORIAN
METHOD:PUBLISH
X-WR-CALNAME:Recapping Everything in Reading, MA
X-ORIGINAL-URL:https://www.readingrecap.com
X-WR-CALDESC:Events for Recapping Everything in Reading, MA
REFRESH-INTERVAL;VALUE=DURATION:PT1H
X-Robots-Tag:noindex
X-PUBLISHED-TTL:PT1H
BEGIN:VTIMEZONE
TZID:America/New_York
BEGIN:DAYLIGHT
TZOFFSETFROM:-0500
TZOFFSETTO:-0400
TZNAME:EDT
DTSTART:20210314T070000
END:DAYLIGHT
BEGIN:STANDARD
TZOFFSETFROM:-0400
TZOFFSETTO:-0500
TZNAME:EST
DTSTART:20211107T060000
END:STANDARD
BEGIN:DAYLIGHT
TZOFFSETFROM:-0500
TZOFFSETTO:-0400
TZNAME:EDT
DTSTART:20220313T070000
END:DAYLIGHT
BEGIN:STANDARD
TZOFFSETFROM:-0400
TZOFFSETTO:-0500
TZNAME:EST
DTSTART:20221106T060000
END:STANDARD
BEGIN:DAYLIGHT
TZOFFSETFROM:-0500
TZOFFSETTO:-0400
TZNAME:EDT
DTSTART:20230312T070000
END:DAYLIGHT
BEGIN:STANDARD
TZOFFSETFROM:-0400
TZOFFSETTO:-0500
TZNAME:EST
DTSTART:20231105T060000
END:STANDARD
END:VTIMEZONE
BEGIN:VEVENT
DTSTART;TZID=America/New_York:20221218T160000
DTEND;TZID=America/New_York:20221218T183000
DTSTAMP:20260424T143212
CREATED:20221129T032039Z
LAST-MODIFIED:20221129T032039Z
UID:10000158-1671379200-1671388200@www.readingrecap.com
SUMMARY:RMHS Choir Caroling
DESCRIPTION:Enjoy Christmas caroling? Celebrate the holiday season by adding a festive tone to your home\, event\, or business while supporting Reading Memorial High School’s Choral Groups!\n\nDecember 16\, 17\, & 18. (Local Reading locations only)\n\n\n\nDetails and time requests: link or email rmhsvoice@gmail.com for more information
URL:https://www.readingrecap.com/event/rmhs-choir-caroling/2022-12-18/
CATEGORIES:Fundraiser,Holiday
ATTACH;FMTTYPE=image/webp:https://www.readingrecap.com/wp-content/uploads/2022/11/RMHS-Choir-Caroling.webp
ORGANIZER;CN="RMHS Choir":MAILTO:anna.wentlent@reading.k12.ma.us
END:VEVENT
BEGIN:VEVENT
DTSTART;TZID=America/New_York:20221217T180000
DTEND;TZID=America/New_York:20221217T203000
DTSTAMP:20260424T143212
CREATED:20221129T032039Z
LAST-MODIFIED:20221129T032039Z
UID:10000157-1671300000-1671309000@www.readingrecap.com
SUMMARY:RMHS Choir Caroling
DESCRIPTION:Enjoy Christmas caroling? Celebrate the holiday season by adding a festive tone to your home\, event\, or business while supporting Reading Memorial High School’s Choral Groups!\n\nDecember 16\, 17\, & 18. (Local Reading locations only)\n\n\n\nDetails and time requests: link or email rmhsvoice@gmail.com for more information
URL:https://www.readingrecap.com/event/rmhs-choir-caroling/2022-12-17/
CATEGORIES:Fundraiser,Holiday
ATTACH;FMTTYPE=image/webp:https://www.readingrecap.com/wp-content/uploads/2022/11/RMHS-Choir-Caroling.webp
ORGANIZER;CN="RMHS Choir":MAILTO:anna.wentlent@reading.k12.ma.us
END:VEVENT
BEGIN:VEVENT
DTSTART;TZID=America/New_York:20221216T180000
DTEND;TZID=America/New_York:20221216T203000
DTSTAMP:20260424T143212
CREATED:20221129T032039Z
LAST-MODIFIED:20221129T032039Z
UID:10000156-1671213600-1671222600@www.readingrecap.com
SUMMARY:RMHS Choir Caroling
DESCRIPTION:Enjoy Christmas caroling? Celebrate the holiday season by adding a festive tone to your home\, event\, or business while supporting Reading Memorial High School’s Choral Groups!\n\nDecember 16\, 17\, & 18. (Local Reading locations only)\n\n\n\nDetails and time requests: link or email rmhsvoice@gmail.com for more information
URL:https://www.readingrecap.com/event/rmhs-choir-caroling/2022-12-16/
CATEGORIES:Fundraiser,Holiday
ATTACH;FMTTYPE=image/webp:https://www.readingrecap.com/wp-content/uploads/2022/11/RMHS-Choir-Caroling.webp
ORGANIZER;CN="RMHS Choir":MAILTO:anna.wentlent@reading.k12.ma.us
END:VEVENT
BEGIN:VEVENT
DTSTART;TZID=America/New_York:20221214T190000
DTEND;TZID=America/New_York:20221214T213000
DTSTAMP:20260424T143212
CREATED:20221213T203749Z
LAST-MODIFIED:20221213T203749Z
UID:10000169-1671044400-1671053400@www.readingrecap.com
SUMMARY:RMHS Choir Winter SongFest
DESCRIPTION:Join the RMHS Choir for their Winter SongFest concert. Admission is free!
URL:https://www.readingrecap.com/event/rmhs-choir-winter-songfest/
LOCATION:Reading Memorial High School\, 62 Oakland Rd\, Reading\, MA\, 01867\, United States
CATEGORIES:Music
ATTACH;FMTTYPE=image/jpeg:https://www.readingrecap.com/wp-content/uploads/2022/12/RMHS-Choir.jpg
ORGANIZER;CN="RMHS Choir":MAILTO:anna.wentlent@reading.k12.ma.us
END:VEVENT
BEGIN:VEVENT
DTSTART;TZID=America/New_York:20220927T160000
DTEND;TZID=America/New_York:20220927T200000
DTSTAMP:20260424T143212
CREATED:20220908T202921Z
LAST-MODIFIED:20220908T203123Z
UID:10000082-1664294400-1664308800@www.readingrecap.com
SUMMARY:RMHS Choir Ice Cream Fundraiser
DESCRIPTION:Tuesday September 27th from 4-8PM at Cal’s Creamery. Ice Cream Only.
URL:https://www.readingrecap.com/event/rmhs-choir-ice-cream-fundraiser/
LOCATION:Cal’s Creamery\, 122 Main Street\, Reading\, MA\, 01867\, United States
CATEGORIES:Fundraiser
ATTACH;FMTTYPE=image/webp:https://www.readingrecap.com/wp-content/uploads/2022/09/RMHS-Choir-Cals-Fundraiser.webp
ORGANIZER;CN="RMHS Choir":MAILTO:anna.wentlent@reading.k12.ma.us
END:VEVENT
END:VCALENDAR