BEGIN:VCALENDAR
VERSION:2.0
PRODID:-//Recapping Everything in Reading, MA - ECPv6.15.20//NONSGML v1.0//EN
CALSCALE:GREGORIAN
METHOD:PUBLISH
X-ORIGINAL-URL:https://www.readingrecap.com
X-WR-CALDESC:Events for Recapping Everything in Reading, MA
REFRESH-INTERVAL;VALUE=DURATION:PT1H
X-Robots-Tag:noindex
X-PUBLISHED-TTL:PT1H
BEGIN:VTIMEZONE
TZID:America/New_York
BEGIN:DAYLIGHT
TZOFFSETFROM:-0500
TZOFFSETTO:-0400
TZNAME:EDT
DTSTART:20220313T070000
END:DAYLIGHT
BEGIN:STANDARD
TZOFFSETFROM:-0400
TZOFFSETTO:-0500
TZNAME:EST
DTSTART:20221106T060000
END:STANDARD
BEGIN:DAYLIGHT
TZOFFSETFROM:-0500
TZOFFSETTO:-0400
TZNAME:EDT
DTSTART:20230312T070000
END:DAYLIGHT
BEGIN:STANDARD
TZOFFSETFROM:-0400
TZOFFSETTO:-0500
TZNAME:EST
DTSTART:20231105T060000
END:STANDARD
BEGIN:DAYLIGHT
TZOFFSETFROM:-0500
TZOFFSETTO:-0400
TZNAME:EDT
DTSTART:20240310T070000
END:DAYLIGHT
BEGIN:STANDARD
TZOFFSETFROM:-0400
TZOFFSETTO:-0500
TZNAME:EST
DTSTART:20241103T060000
END:STANDARD
END:VTIMEZONE
BEGIN:VEVENT
DTSTART;TZID=America/New_York:20231021T150000
DTEND;TZID=America/New_York:20231021T230000
DTSTAMP:20260424T162056
CREATED:20231002T211339Z
LAST-MODIFIED:20231002T211406Z
UID:10000524-1697900400-1697929200@www.readingrecap.com
SUMMARY:🚒 Reading Firefighters Local 1640 Cancer Fundraiser
DESCRIPTION:Join for Cancer Fundraiser on October 21\, 2023\, for a heartfelt evening of supporting cancer patients and research. \nTickets are still available for Local 1640s cancer fundraising event! Saturday October 21st from 3pm-11pm at Hopothecary on Main Street in North Reading. Come support a good cause with proceeds being donated to an area firefighter battling cancer as well as breast cancer education and awareness. \n\nDate and time\n\n\n\n\n\n\n\n\nSaturday\, October 21 · 3 – 11pm EDT\n\n\n\n\n\n\n\n\n\n\n\n\nLocation\n\n\n\n\n\nHopothecary Ales Brewery and Kitchen \n303 Main Street North Reading\, MA 01864
URL:https://www.readingrecap.com/event/%f0%9f%9a%92-reading-firefighters-local-1640-cancer-fundraiser/
LOCATION:Hopothecary Ales\, 303 Main Street\, North Reading\, 01864\, United States
CATEGORIES:Fundraiser
ATTACH;FMTTYPE=image/jpeg:https://www.readingrecap.com/wp-content/uploads/2023/10/Reading-Fire-Cancer-Fundraiser.jpg
ORGANIZER;CN="Reading Fire Department":MAILTO:khammond@ci.reading.ma.us
END:VEVENT
END:VCALENDAR