BEGIN:VCALENDAR
VERSION:2.0
PRODID:-//Recapping Everything in Reading, MA - ECPv6.15.20//NONSGML v1.0//EN
CALSCALE:GREGORIAN
METHOD:PUBLISH
X-WR-CALNAME:Recapping Everything in Reading, MA
X-ORIGINAL-URL:https://www.readingrecap.com
X-WR-CALDESC:Events for Recapping Everything in Reading, MA
REFRESH-INTERVAL;VALUE=DURATION:PT1H
X-Robots-Tag:noindex
X-PUBLISHED-TTL:PT1H
BEGIN:VTIMEZONE
TZID:America/New_York
BEGIN:DAYLIGHT
TZOFFSETFROM:-0500
TZOFFSETTO:-0400
TZNAME:EDT
DTSTART:20210314T070000
END:DAYLIGHT
BEGIN:STANDARD
TZOFFSETFROM:-0400
TZOFFSETTO:-0500
TZNAME:EST
DTSTART:20211107T060000
END:STANDARD
BEGIN:DAYLIGHT
TZOFFSETFROM:-0500
TZOFFSETTO:-0400
TZNAME:EDT
DTSTART:20220313T070000
END:DAYLIGHT
BEGIN:STANDARD
TZOFFSETFROM:-0400
TZOFFSETTO:-0500
TZNAME:EST
DTSTART:20221106T060000
END:STANDARD
BEGIN:DAYLIGHT
TZOFFSETFROM:-0500
TZOFFSETTO:-0400
TZNAME:EDT
DTSTART:20230312T070000
END:DAYLIGHT
BEGIN:STANDARD
TZOFFSETFROM:-0400
TZOFFSETTO:-0500
TZNAME:EST
DTSTART:20231105T060000
END:STANDARD
BEGIN:DAYLIGHT
TZOFFSETFROM:-0500
TZOFFSETTO:-0400
TZNAME:EDT
DTSTART:20240310T070000
END:DAYLIGHT
BEGIN:STANDARD
TZOFFSETFROM:-0400
TZOFFSETTO:-0500
TZNAME:EST
DTSTART:20241103T060000
END:STANDARD
BEGIN:DAYLIGHT
TZOFFSETFROM:-0500
TZOFFSETTO:-0400
TZNAME:EDT
DTSTART:20250309T070000
END:DAYLIGHT
BEGIN:STANDARD
TZOFFSETFROM:-0400
TZOFFSETTO:-0500
TZNAME:EST
DTSTART:20251102T060000
END:STANDARD
BEGIN:DAYLIGHT
TZOFFSETFROM:-0500
TZOFFSETTO:-0400
TZNAME:EDT
DTSTART:20260308T070000
END:DAYLIGHT
BEGIN:STANDARD
TZOFFSETFROM:-0400
TZOFFSETTO:-0500
TZNAME:EST
DTSTART:20261101T060000
END:STANDARD
END:VTIMEZONE
BEGIN:VEVENT
DTSTART;TZID=America/New_York:20250410T181500
DTEND;TZID=America/New_York:20250410T200000
DTSTAMP:20260419T223355
CREATED:20250404T225958Z
LAST-MODIFIED:20250404T225958Z
UID:10000803-1744308900-1744315200@www.readingrecap.com
SUMMARY:📽️ CodeSwitching: Race and Identity in the Suburban Schoolhouse
DESCRIPTION:CodeSwitching: Race and Identity in the Suburban Schoolhouse an intimate portrayal of self-identity\, race\, gender\, and education by Mike Mascoll
URL:https://www.readingrecap.com/event/%f0%9f%93%bd%ef%b8%8f-codeswitching-race-and-identity-in-the-suburban-schoolhouse/
LOCATION:Reading Memorial High School\, 62 Oakland Rd\, Reading\, MA\, 01867\, United States
CATEGORIES:Entertainment,METCO
ATTACH;FMTTYPE=image/jpeg:https://www.readingrecap.com/wp-content/uploads/2025/04/488316537_1097946812361042_1215505919889109310_n.jpg
END:VEVENT
BEGIN:VEVENT
DTSTART;TZID=America/New_York:20230819T103000
DTEND;TZID=America/New_York:20230819T123000
DTSTAMP:20260419T223355
CREATED:20230728T143141Z
LAST-MODIFIED:20230728T143141Z
UID:10000426-1692441000-1692448200@www.readingrecap.com
SUMMARY:🥞 Friends of Reading METCO Breakfast
DESCRIPTION:Meet friends old and new and kick off the school year with us! \n\n\nBy Friends of Reading METCO\n\n\n\n\n\n\n\nDate and time\n\nStarts on Saturday\, August 19 · 10:30am EDT \n\n\n\n\n\n\nLocation\n\nBurbank YMCA 36 Arthur B Lord Drive Reading\, MA 01867
URL:https://www.readingrecap.com/event/%f0%9f%a5%9e-friends-of-reading-metco-breakfast/
LOCATION:Burbank YMCA\, 36 Arthur B Lord Dr\, Reading\, MA\, 01867\, United States
CATEGORIES:METCO
ATTACH;FMTTYPE=image/jpeg:https://www.readingrecap.com/wp-content/uploads/2023/07/Friends-of-Reading-Metco.jpg
END:VEVENT
BEGIN:VEVENT
DTSTART;TZID=America/New_York:20220820T120000
DTEND;TZID=America/New_York:20220820T160000
DTSTAMP:20260419T223355
CREATED:20220816T012632Z
LAST-MODIFIED:20220816T013050Z
UID:10000052-1660996800-1661011200@www.readingrecap.com
SUMMARY:2022 Welcome Back Picnic
DESCRIPTION:Calling all RPS families and staff for a welcome back “multicultural mash-up” picnic for the 2022-23 school year! \n\n\nAbout this event\n\n\n\nThe event will be outdoors with lawn games and music\, with access to restrooms and free parking. In case of rain\, there is an indoor space onsite. Bring lawn chairs or blankets. \nMain courses will be provided and anyone who would like to bring a side dish or dessert to share\, please feel free to do so\, and please bring a listing of the ingredients to place next to the dish. Dishes from all cuisines are welcome – bring something your family loves! \nRegister for the event here. \n\nAdditionally\, there is a SignUpGenius link for the event as well for donations\, food and other materials needed for the event.
URL:https://www.readingrecap.com/event/2022-welcome-back-picnic/
LOCATION:280 Bridge Street\, 280 Bridge Street\, Dedham\, MA\, 02026\, United States
CATEGORIES:METCO
ATTACH;FMTTYPE=image/png:https://www.readingrecap.com/wp-content/uploads/2022/08/2022-METCO-Welcome-Picnic.png
END:VEVENT
END:VCALENDAR