BEGIN:VCALENDAR
VERSION:2.0
PRODID:-//Recapping Everything in Reading, MA - ECPv6.15.20//NONSGML v1.0//EN
CALSCALE:GREGORIAN
METHOD:PUBLISH
X-WR-CALNAME:Recapping Everything in Reading, MA
X-ORIGINAL-URL:https://www.readingrecap.com
X-WR-CALDESC:Events for Recapping Everything in Reading, MA
REFRESH-INTERVAL;VALUE=DURATION:PT1H
X-Robots-Tag:noindex
X-PUBLISHED-TTL:PT1H
BEGIN:VTIMEZONE
TZID:America/New_York
BEGIN:DAYLIGHT
TZOFFSETFROM:-0500
TZOFFSETTO:-0400
TZNAME:EDT
DTSTART:20210314T070000
END:DAYLIGHT
BEGIN:STANDARD
TZOFFSETFROM:-0400
TZOFFSETTO:-0500
TZNAME:EST
DTSTART:20211107T060000
END:STANDARD
BEGIN:DAYLIGHT
TZOFFSETFROM:-0500
TZOFFSETTO:-0400
TZNAME:EDT
DTSTART:20220313T070000
END:DAYLIGHT
BEGIN:STANDARD
TZOFFSETFROM:-0400
TZOFFSETTO:-0500
TZNAME:EST
DTSTART:20221106T060000
END:STANDARD
BEGIN:DAYLIGHT
TZOFFSETFROM:-0500
TZOFFSETTO:-0400
TZNAME:EDT
DTSTART:20230312T070000
END:DAYLIGHT
BEGIN:STANDARD
TZOFFSETFROM:-0400
TZOFFSETTO:-0500
TZNAME:EST
DTSTART:20231105T060000
END:STANDARD
BEGIN:DAYLIGHT
TZOFFSETFROM:-0500
TZOFFSETTO:-0400
TZNAME:EDT
DTSTART:20240310T070000
END:DAYLIGHT
BEGIN:STANDARD
TZOFFSETFROM:-0400
TZOFFSETTO:-0500
TZNAME:EST
DTSTART:20241103T060000
END:STANDARD
BEGIN:DAYLIGHT
TZOFFSETFROM:-0500
TZOFFSETTO:-0400
TZNAME:EDT
DTSTART:20250309T070000
END:DAYLIGHT
BEGIN:STANDARD
TZOFFSETFROM:-0400
TZOFFSETTO:-0500
TZNAME:EST
DTSTART:20251102T060000
END:STANDARD
BEGIN:DAYLIGHT
TZOFFSETFROM:-0500
TZOFFSETTO:-0400
TZNAME:EDT
DTSTART:20260308T070000
END:DAYLIGHT
BEGIN:STANDARD
TZOFFSETFROM:-0400
TZOFFSETTO:-0500
TZNAME:EST
DTSTART:20261101T060000
END:STANDARD
END:VTIMEZONE
BEGIN:VEVENT
DTSTART;TZID=America/New_York:20250927T100000
DTEND;TZID=America/New_York:20250927T140000
DTSTAMP:20260422T025107
CREATED:20250920T205809Z
LAST-MODIFIED:20250920T205809Z
UID:10000856-1758967200-1758981600@www.readingrecap.com
SUMMARY:🍂 Olde Redding Faire 2025
DESCRIPTION:The Original Olde Redding Faire\nSaturday\, September 27th\, 10am – 2pm.\n25 Woburn Street\nFirst Congregational Church of Reading \nSince 1957\, the Faire has been a special way to welcome the Fall season in the company of your friends and neighbors. Enjoy cider and donuts; play games\, shop for bargains in Jewelry\, Puzzles\, and Books; purchase tasty baked goods and fudge; have a yummy lunch; shop seasonal items; place bids on our amazing selection of Silent Auction items. \n 
URL:https://www.readingrecap.com/event/%f0%9f%8d%82-olde-redding-faire-2025/
LOCATION:First Congregational Church\, 25 Woburn Street\, Reading MA\, 01867
CATEGORIES:Fundraiser
ATTACH;FMTTYPE=image/jpeg:https://www.readingrecap.com/wp-content/uploads/2025/09/550092078_1202375798589745_7130091193976926370_n.webp
ORGANIZER;CN="First Congregational Church":MAILTO:office@churchofreading.org
END:VEVENT
BEGIN:VEVENT
DTSTART;TZID=America/New_York:20231118T183000
DTEND;TZID=America/New_York:20231118T203000
DTSTAMP:20260422T025107
CREATED:20231102T012615Z
LAST-MODIFIED:20231102T012615Z
UID:10000586-1700332200-1700339400@www.readingrecap.com
SUMMARY:🎤 Open Mic Night
DESCRIPTION:Join us Saturday\, November 18th\, for #OpenMicNight\, hosted by the Reading School of Guitar in partnership with The First Congregational Church and Creative Arts.\nThis event is FREE and open to the public; musicians\, singers\, poets\, and audience members of all ages are welcome.\nPerformers\, be sure to fill out our online form to sign up in advance: https://bit.ly/RsogOpenMicNight\nOur open mic night will be held at The First Congregational Church\, located at 25 Woburn Street in Reading\, from 6:30 to 8:30 PM.
URL:https://www.readingrecap.com/event/%f0%9f%8e%a4-open-mic-night-2/
LOCATION:First Congregational Church\, 25 Woburn Street\, Reading MA\, 01867
CATEGORIES:Entertainment
ATTACH;FMTTYPE=image/jpeg:https://www.readingrecap.com/wp-content/uploads/2023/11/Open-Mic-Night.jpg
ORGANIZER;CN="First Congregational Church":MAILTO:office@churchofreading.org
END:VEVENT
BEGIN:VEVENT
DTSTART;TZID=America/New_York:20231021T183000
DTEND;TZID=America/New_York:20231021T203000
DTSTAMP:20260422T025107
CREATED:20231021T114447Z
LAST-MODIFIED:20231021T114447Z
UID:10000557-1697913000-1697920200@www.readingrecap.com
SUMMARY:🎤 Open Mic Night
DESCRIPTION:Join us this Saturday\, October 21st\, for #OpenMicNight\, hosted by the Reading School of Guitar in partnership with The First Congregational Church and Creative Arts. \nThis event is FREE and open to the public; musicians\, singers\, poets\, and audience members of all ages are welcome. In the spirit of the season\, family-friendly costumes are encouraged for this October OMN!  \nPerformers\, be sure to fill out our online form to sign up in advance: bit.ly/RsogOpenMicNight. \nDetails:\n The First Congregational Church of Reading UCC (25 Woburn Street in Reading) \n October 21\, 6:30 to 8:30 PM
URL:https://www.readingrecap.com/event/%f0%9f%8e%a4-open-mic-night/
LOCATION:First Congregational Church\, 25 Woburn Street\, Reading MA\, 01867
CATEGORIES:Entertainment
ATTACH;FMTTYPE=image/jpeg:https://www.readingrecap.com/wp-content/uploads/2023/10/OpenMicNight.jpg
ORGANIZER;CN="First Congregational Church":MAILTO:office@churchofreading.org
END:VEVENT
BEGIN:VEVENT
DTSTART;TZID=America/New_York:20230930T100000
DTEND;TZID=America/New_York:20230930T140000
DTSTAMP:20260422T025107
CREATED:20230914T023508Z
LAST-MODIFIED:20230914T023508Z
UID:10000505-1696068000-1696082400@www.readingrecap.com
SUMMARY:🍂 Olde Redding Faire
DESCRIPTION:The Original Olde Redding Faire\nSaturday\, September 30th\, 10am – 2pm.\n25 Woburn Street\nFirst Congregational Church of Reading \nSince 1957\, the Faire has been a special way to welcome the Fall season in the company of your friends and neighbors. Enjoy cider and donuts; play games\, shop for bargains in Jewelry\, Puzzles\, and Books; purchase tasty baked goods and fudge; have a yummy lunch; shop seasonal items; place bids on our amazing selection of Silent Auction items. \n\nDonations:\n-Books may be donated from September 25 – 29 at the church during office hours.\n-Puzzles may be donated from September 25-29 at the church during office hours.\n-Jewelry may be donated until September 29 at the church office during office hours.\n-Questions? Contact oldereddingfaire@gmail.com or call the FCCR office at 781 944 0205. \n 
URL:https://www.readingrecap.com/event/%f0%9f%8d%82-olde-redding-faire/
LOCATION:First Congregational Church\, 25 Woburn Street\, Reading MA\, 01867
CATEGORIES:Fundraiser
ATTACH;FMTTYPE=image/jpeg:https://www.readingrecap.com/wp-content/uploads/2023/09/Original-Olde-Redding-Faire.jpg
ORGANIZER;CN="First Congregational Church":MAILTO:office@churchofreading.org
END:VEVENT
BEGIN:VEVENT
DTSTART;TZID=America/New_York:20230429T100000
DTEND;TZID=America/New_York:20230429T130000
DTSTAMP:20260422T025107
CREATED:20230411T043252Z
LAST-MODIFIED:20230411T043252Z
UID:10000341-1682762400-1682773200@www.readingrecap.com
SUMMARY:Town Wide Flea Market
DESCRIPTION:TOWN WIDE FLEA MARKET\nSaturday\, April 29 from 10am to 1pm at the Corner of Woburn & Sandborn Street. \nBargains galore! Crafts\, household\, antiques\, tools\, toys\, books\, and more! Crafters encouraged to join in! Sell Register for a space ($20each) by April 21st at tinyurl.com/FCCRFleaMarket.
URL:https://www.readingrecap.com/event/town-wide-flea-market/
LOCATION:First Congregational Church\, 25 Woburn Street\, Reading MA\, 01867
CATEGORIES:Yard Sale
ATTACH;FMTTYPE=image/jpeg:https://www.readingrecap.com/wp-content/uploads/2023/04/Town-Wide-Flea-Market.jpg
ORGANIZER;CN="First Congregational Church":MAILTO:office@churchofreading.org
END:VEVENT
BEGIN:VEVENT
DTSTART;TZID=America/New_York:20221001T100000
DTEND;TZID=America/New_York:20221001T140000
DTSTAMP:20260422T025107
CREATED:20220930T173647Z
LAST-MODIFIED:20220930T173647Z
UID:10000110-1664618400-1664632800@www.readingrecap.com
SUMMARY:The Olde Redding Faire
DESCRIPTION:The Olde Redding Faire returns October 1\nVisit our assortment of booths on the First Congregational Church lawn and inside while you are picking up your food order on 1st from 10 AM to 2 PM: \n\nBaked Goods. Fresh from the oven.\n Jewelry. A wide variety of contemporary and vintage.\n Jigsaw Puzzles. A favorite activity to do together.\n Farm Stand. Treats\, notecards\, and more.\nKids activities. Fun for all ages.\nSilent Auction. View items available and place your bid.\nBooks. Good reads at a bargain.\n\nOn-line Silent Auction\nThe popular Olde Redding Silent Auction returns with with items ranging from vacation stays to handcrafted items to vintage treasures. \n\nOn-line bidding opens on September 24th and closes on October 1st.\nAuction winners will be notified about payment and pick up information.\nReview and bid on our exciting auction items.\n\n\nGo to Silent Auction\n\nFall Favorites available to order\nMany of our Olde Redding Faire fall favorites are available for pre-order: \n\nBeautiful Mums. Pre-orders for mums have ended. Pick-up on Sept. 23 from 3-5 PM or Sept. 24 from 9 AM-12 PM. There will still be few available to purchase on Oct. 1.\nDelicious Food. Pre-ordering closes on September 26. Food will be picked up or delivered on October 1.\nSweet Treats.  Peanut brittle and fudge orders end September 26 but typically sell out fast! Treats will be picked up or delivered on Oct. 1. The bake table will be open for in-person purchases.\n\n\nClick here to order Food\nClick here to order Sweets\n\nMaterial Donations\nWe won’t be needing donations of used items for White Elephant\, clothing\, or furniture. You may donate the following: \n\nBooks & Puzzles – Donate September 24 and 25 from 3-5 PM; September 26 to 29 from 10 AM-1 PM.\nJewelry – Donate when the office is open M-Th from 10 AM-1PM. Call 781-944-0205\n\nThank you all for past support for White Elephant\, clothing\, and furniture. While we will not be taking these donations this year\, please consider the following for your current donations: \n\nMission of Deeds – Reading (Housewares\, Furniture)\nMore Than Words – Waltham (Books)\nGoodwill @ Homegoods  – Reading (Almost Anything)\nSavers – Wilmington (Almost Anything)\n\nCommunity Support\n\nCan’t be part of this year’s Olde Redding Express? \nConsider a financial donation. \nProfits raised through the Olde Redding Express help to support the ministry of the First Congregational Church of Reading\, as well as community partners.\nThis year\, the profits will be shared with the Reading Food Pantry and Mission of Deeds.\n\n\nDonate Now\n\nCome celebrate the season with the Olde Redding Express!  Visit us on Facebook or contact us at oldereddingfaire@gmail.com to find out more.
URL:https://www.readingrecap.com/event/the-olde-redding-faire/
LOCATION:First Congregational Church\, 25 Woburn Street\, Reading MA\, 01867
CATEGORIES:Fundraiser
ATTACH;FMTTYPE=image/webp:https://www.readingrecap.com/wp-content/uploads/2022/09/Olde-Redding-Faire.webp
ORGANIZER;CN="First Congregational Church":MAILTO:office@churchofreading.org
END:VEVENT
END:VCALENDAR