BEGIN:VCALENDAR
VERSION:2.0
PRODID:-//Recapping Everything in Reading, MA - ECPv6.15.20//NONSGML v1.0//EN
CALSCALE:GREGORIAN
METHOD:PUBLISH
X-ORIGINAL-URL:https://www.readingrecap.com
X-WR-CALDESC:Events for Recapping Everything in Reading, MA
REFRESH-INTERVAL;VALUE=DURATION:PT1H
X-Robots-Tag:noindex
X-PUBLISHED-TTL:PT1H
BEGIN:VTIMEZONE
TZID:America/New_York
BEGIN:DAYLIGHT
TZOFFSETFROM:-0500
TZOFFSETTO:-0400
TZNAME:EDT
DTSTART:20230312T070000
END:DAYLIGHT
BEGIN:STANDARD
TZOFFSETFROM:-0400
TZOFFSETTO:-0500
TZNAME:EST
DTSTART:20231105T060000
END:STANDARD
BEGIN:DAYLIGHT
TZOFFSETFROM:-0500
TZOFFSETTO:-0400
TZNAME:EDT
DTSTART:20240310T070000
END:DAYLIGHT
BEGIN:STANDARD
TZOFFSETFROM:-0400
TZOFFSETTO:-0500
TZNAME:EST
DTSTART:20241103T060000
END:STANDARD
BEGIN:DAYLIGHT
TZOFFSETFROM:-0500
TZOFFSETTO:-0400
TZNAME:EDT
DTSTART:20250309T070000
END:DAYLIGHT
BEGIN:STANDARD
TZOFFSETFROM:-0400
TZOFFSETTO:-0500
TZNAME:EST
DTSTART:20251102T060000
END:STANDARD
BEGIN:DAYLIGHT
TZOFFSETFROM:-0500
TZOFFSETTO:-0400
TZNAME:EDT
DTSTART:20260308T070000
END:DAYLIGHT
BEGIN:STANDARD
TZOFFSETFROM:-0400
TZOFFSETTO:-0500
TZNAME:EST
DTSTART:20261101T060000
END:STANDARD
BEGIN:DAYLIGHT
TZOFFSETFROM:-0500
TZOFFSETTO:-0400
TZNAME:EDT
DTSTART:20270314T070000
END:DAYLIGHT
BEGIN:STANDARD
TZOFFSETFROM:-0400
TZOFFSETTO:-0500
TZNAME:EST
DTSTART:20271107T060000
END:STANDARD
END:VTIMEZONE
BEGIN:VEVENT
DTSTART;TZID=America/New_York:20260407T070000
DTEND;TZID=America/New_York:20260407T200000
DTSTAMP:20260423T113316
CREATED:20251202T040913Z
LAST-MODIFIED:20251202T040913Z
UID:10000892-1775545200-1775592000@www.readingrecap.com
SUMMARY:🗳️ Local Town Election Day
DESCRIPTION:April 7\, 2026 Local Town Election Information \n\n\n\n\n\n\n\nRegister to Vote Online \nRegister to Vote Application (PDF) \nVote By Mail Application (PDF) \nRequest Vote By Mail Ballot Online \nAbsentee Ballot Application (PDF) \n 
URL:https://www.readingrecap.com/event/%f0%9f%97%b3%ef%b8%8f-local-town-election-day-2/
LOCATION:Hawkes Field House at Reading Memorial High School\, 62 Oakland Road\, Reading\, MA
CATEGORIES:Elections
ATTACH;FMTTYPE=image/jpeg:https://www.readingrecap.com/wp-content/uploads/2024/05/Vote-Field-House11.jpg
END:VEVENT
BEGIN:VEVENT
DTSTART;TZID=America/New_York:20250408T070000
DTEND;TZID=America/New_York:20250408T200000
DTSTAMP:20260423T113316
CREATED:20250305T154551Z
LAST-MODIFIED:20250305T154551Z
UID:10000790-1744095600-1744142400@www.readingrecap.com
SUMMARY:🗳️ Local Town Election Day
DESCRIPTION:April 8\, 2025 Local Town Election Information \n7:00 AM to 8:00 PM – Reading Memorial High School Field House \n\nDeadline to request a vote by mail ballot to be mailed is by 5:00 PM on April 1st.\nDeadline to request an absentee ballot to be mailed is by 5:00 PM on April 1st.\nDeadline to request an absentee ballot in person is by 12:00 PM on April 7th.\nLast day to Register to Vote – by 5:00 PM on March 29th.\nIn-Person Early Voting will be March 31st to April 3rd at Reading Town Hall\n\nMonday March 31st – 8:30 AM to 5:30 PM\nTuesday April 1st – 8:30 AM to 7:00 PM\nWednesday April 2nd – 8:30 AM to 5:30 PM\nThursday April 4th – 8:30 AM to 5:30 PM\n\n\n\nRegister to Vote Online \nRegister to Vote Application (PDF) \nVote By Mail Application (PDF) \nRequest Vote By Mail Ballot Online \nAbsentee Ballot Application (PDF) \n 
URL:https://www.readingrecap.com/event/%f0%9f%97%b3%ef%b8%8f-local-town-election-day/
LOCATION:Hawkes Field House at Reading Memorial High School\, 62 Oakland Road\, Reading\, MA
CATEGORIES:Elections
ATTACH;FMTTYPE=image/jpeg:https://www.readingrecap.com/wp-content/uploads/2024/05/Vote-Field-House11.jpg
END:VEVENT
BEGIN:VEVENT
DTSTART;TZID=America/New_York:20240514T070000
DTEND;TZID=America/New_York:20240514T200000
DTSTAMP:20260423T113316
CREATED:20240501T145755Z
LAST-MODIFIED:20240501T145755Z
UID:10000684-1715670000-1715716800@www.readingrecap.com
SUMMARY:🗳️ Special Election Day
DESCRIPTION:To fill a Select Board vacancy\, voting takes place from 7:00 AM to 8:00 PM at the Reading Memorial High School Field House.
URL:https://www.readingrecap.com/event/%f0%9f%97%b3%ef%b8%8f-special-election-day/
LOCATION:Hawkes Field House at Reading Memorial High School\, 62 Oakland Road\, Reading\, MA
CATEGORIES:Elections
ATTACH;FMTTYPE=image/jpeg:https://www.readingrecap.com/wp-content/uploads/2024/05/Vote-Field-House11.jpg
END:VEVENT
BEGIN:VEVENT
DTSTART;TZID=America/New_York:20240504T090000
DTEND;TZID=America/New_York:20240509T173000
DTSTAMP:20260423T113316
CREATED:20240501T150147Z
LAST-MODIFIED:20240501T150147Z
UID:10000685-1714813200-1715275800@www.readingrecap.com
SUMMARY:🗳️ Special Election Early Voting
DESCRIPTION:To fill a Select Board vacancy\, in-person early voting is available at Town Hall on the following dates and times:• Saturday May 4th – 9:00 AM to 5:00 PM• Monday May 6th – 8:30 AM to 5:30 PM• Tuesday May 7th – 8:30 AM to 7:00 PM• Wednesday May 8th – 8:30 AM to 5:30 PM• Thursday May 9th – 8:30 AM to 5:30 PM
URL:https://www.readingrecap.com/event/%f0%9f%97%b3%ef%b8%8f-special-election-early-voting/
LOCATION:Town Hall\, 16 Lowell Street\, Reading\, MA\, 01867\, United States
CATEGORIES:Elections
ATTACH;FMTTYPE=image/jpeg:https://www.readingrecap.com/wp-content/uploads/2024/05/Town-Hall.jpg
END:VEVENT
END:VCALENDAR