BEGIN:VCALENDAR
VERSION:2.0
PRODID:-//Recapping Everything in Reading, MA - ECPv6.15.20//NONSGML v1.0//EN
CALSCALE:GREGORIAN
METHOD:PUBLISH
X-WR-CALNAME:Recapping Everything in Reading, MA
X-ORIGINAL-URL:https://www.readingrecap.com
X-WR-CALDESC:Events for Recapping Everything in Reading, MA
REFRESH-INTERVAL;VALUE=DURATION:PT1H
X-Robots-Tag:noindex
X-PUBLISHED-TTL:PT1H
BEGIN:VTIMEZONE
TZID:America/New_York
BEGIN:DAYLIGHT
TZOFFSETFROM:-0500
TZOFFSETTO:-0400
TZNAME:EDT
DTSTART:20230312T070000
END:DAYLIGHT
BEGIN:STANDARD
TZOFFSETFROM:-0400
TZOFFSETTO:-0500
TZNAME:EST
DTSTART:20231105T060000
END:STANDARD
BEGIN:DAYLIGHT
TZOFFSETFROM:-0500
TZOFFSETTO:-0400
TZNAME:EDT
DTSTART:20240310T070000
END:DAYLIGHT
BEGIN:STANDARD
TZOFFSETFROM:-0400
TZOFFSETTO:-0500
TZNAME:EST
DTSTART:20241103T060000
END:STANDARD
BEGIN:DAYLIGHT
TZOFFSETFROM:-0500
TZOFFSETTO:-0400
TZNAME:EDT
DTSTART:20250309T070000
END:DAYLIGHT
BEGIN:STANDARD
TZOFFSETFROM:-0400
TZOFFSETTO:-0500
TZNAME:EST
DTSTART:20251102T060000
END:STANDARD
END:VTIMEZONE
BEGIN:VEVENT
DTSTART;TZID=America/New_York:20240411T110000
DTEND;TZID=America/New_York:20240411T220000
DTSTAMP:20260425T120908
CREATED:20240322T004740Z
LAST-MODIFIED:20240322T004740Z
UID:10000669-1712833200-1712872800@www.readingrecap.com
SUMMARY:🍕 Reading Scholarship Foundation Fundraiser at Bertuccis
DESCRIPTION:Enjoy your Bertucci’s favorites with family & friends while earning funds in support of: the Reading Scholarship Foundation today\, April 11th 11:00am – 10:00pm. VALID AT ALL BERTUCCI’S LOCATIONS. Visit www.BERTUCCIS.com to find your closest store. \nBertucci’s will donate 15% of the proceeds back to the organization \nSimply present this flyer or enter the unique code below when ordering online: 405-934-889 \nVALID ON TO-GO\, DELIVERY\, CATERING & DINE-IN \nValid on all dine in\, to go\, catering and delivery purchases tracked via the unique 9-digit code assigned to the organization. Excludes tax and gratuity. Not valid with any other offers\, discounts or towards the purchase of gift cards. Flyer valid at participating Bertucci’s locations on date listed only Flyer distribution at-site dining event is strictly prohibited. \nTo learn more about our fundraising program\, visit: BERTUCCIS.COM
URL:https://www.readingrecap.com/event/%f0%9f%8d%95-reading-scholarship-foundation-fundraiser-at-bertuccis/
LOCATION:Bertucci’s\, 45 Walkers Brook Drive\, Reading\, MA\, 01867\, United States
CATEGORIES:Fundraiser
ATTACH;FMTTYPE=image/jpeg:https://www.readingrecap.com/wp-content/uploads/2024/03/BertuccisRSF.jpg
ORGANIZER;CN="Reading Scholarship Foundation":MAILTO:scholarships@readingsf.org
END:VEVENT
BEGIN:VEVENT
DTSTART;TZID=America/New_York:20240405T113000
DTEND;TZID=America/New_York:20240405T223000
DTSTAMP:20260425T120908
CREATED:20240322T004059Z
LAST-MODIFIED:20240322T004827Z
UID:10000668-1712316600-1712356200@www.readingrecap.com
SUMMARY:🥡 Reading Scholarship Foundation Fundraiser at Mandarin
DESCRIPTION:Does your family love Asian food?\nDo you dread figuring out what to make for dinner?!\nWhy not take the night off from cooking and support the Reading Scholarship Foundation at the same time?!\nOn Friday\, April 5th\, the RSF is hosting a restaurant fundraiser at the Mandarin Reading Asian restaurant!  (296 Salem Street in Reading).\nDine in OR order take-out and the Foundation receives 20+% of sales!\nThe Mandarin Reading is open for lunch or dinner (11:30 AM – 10:30 PM)\, and our fundraiser runs all day!\nPlease see our flyer for more information and please bring your flyer to the restaurant on Friday\, April 5th.  Thank you!
URL:https://www.readingrecap.com/event/%f0%9f%a5%a1-reading-scholarship-foundation-fundraiser-at-mandarin/
LOCATION:Mandarin\, 296 Salem Street\, Reading\, MA\, 01867\, United States
CATEGORIES:Fundraiser
ATTACH;FMTTYPE=image/jpeg:https://www.readingrecap.com/wp-content/uploads/2024/01/Mandarin-Reading.jpg
ORGANIZER;CN="Reading Scholarship Foundation":MAILTO:scholarships@readingsf.org
END:VEVENT
END:VCALENDAR