BEGIN:VCALENDAR
VERSION:2.0
PRODID:-//Recapping Everything in Reading, MA - ECPv6.15.20//NONSGML v1.0//EN
CALSCALE:GREGORIAN
METHOD:PUBLISH
X-ORIGINAL-URL:https://www.readingrecap.com
X-WR-CALDESC:Events for Recapping Everything in Reading, MA
REFRESH-INTERVAL;VALUE=DURATION:PT1H
X-Robots-Tag:noindex
X-PUBLISHED-TTL:PT1H
BEGIN:VTIMEZONE
TZID:America/New_York
BEGIN:DAYLIGHT
TZOFFSETFROM:-0500
TZOFFSETTO:-0400
TZNAME:EDT
DTSTART:20210314T070000
END:DAYLIGHT
BEGIN:STANDARD
TZOFFSETFROM:-0400
TZOFFSETTO:-0500
TZNAME:EST
DTSTART:20211107T060000
END:STANDARD
BEGIN:DAYLIGHT
TZOFFSETFROM:-0500
TZOFFSETTO:-0400
TZNAME:EDT
DTSTART:20220313T070000
END:DAYLIGHT
BEGIN:STANDARD
TZOFFSETFROM:-0400
TZOFFSETTO:-0500
TZNAME:EST
DTSTART:20221106T060000
END:STANDARD
BEGIN:DAYLIGHT
TZOFFSETFROM:-0500
TZOFFSETTO:-0400
TZNAME:EDT
DTSTART:20230312T070000
END:DAYLIGHT
BEGIN:STANDARD
TZOFFSETFROM:-0400
TZOFFSETTO:-0500
TZNAME:EST
DTSTART:20231105T060000
END:STANDARD
END:VTIMEZONE
BEGIN:VEVENT
DTSTART;TZID=America/New_York:20221022T120000
DTEND;TZID=America/New_York:20221022T140000
DTSTAMP:20260421T000456
CREATED:20221009T212615Z
LAST-MODIFIED:20221009T212615Z
UID:10000121-1666440000-1666447200@www.readingrecap.com
SUMMARY:Run to Heal 5K
DESCRIPTION:  \nMark your calendars. Fitness Within’s 2022 Operation Run To Heal 5K will be IN-PERSON on Saturday\, October 22\, at Memorial Park\, with an epic after-party beer garden celebration at the Reading Common! We are thrilled to partner with Home Base and the Town of Reading to create an event that will have a massive impact on our Veterans and their Families. Join our incredible community in this year’s Operation Run To Heal 5K\, and together we will be part of something much bigger than ourselves! \n——————– \nWALK – RUN – RUCK \nWhether you want to take your time\, push your pace\, or throw a pack on to experience rucking with our brave service members\, we will complete the mission together! \n——————– \nWHAT’S INCLUDED \n\nOperation Run To Heal Race Shirt.\nOperation Run To Heal Dog Tag Finisher Medal\nFREE beer ticket for the beer garden after party (participants 21 & over)**Must show ID when picking up your race packet to receive your beer ticket\nEntertainment includes live music\, food offerings\, local vendors\n**Gold Warrior Challenge Dog Tag Medal for participants who register for the pre-race Warrior Challenge Bootcamp Class – 1.5 hours before the 5K race (ALL fitness levels welcomed) **limited spots**\nChipped Timed\n\nSchedule\n\nOctober 22 12:00 PM EDT – WARRIOR CHALLENGE BOOT-CAMP CLASS\nOctober 22 1:00 PM EDT – OPENING CEREMONY\n\nOctober 22 1:30 PM EDT – RACE START\n\n\nOctober 22 2:00 PM EDT – Beer Garden
URL:https://www.readingrecap.com/event/run-to-heal-5k/
LOCATION:Memorial Park\, 53 Harrison St\, Reading\, MA\, 01867\, United States
CATEGORIES:Sports
ATTACH;FMTTYPE=image/webp:https://www.readingrecap.com/wp-content/uploads/2022/10/Run-to-Heal-5k.webp
ORGANIZER;CN="Fitness Within":MAILTO:info@fitness-within.com
END:VEVENT
END:VCALENDAR