BEGIN:VCALENDAR
VERSION:2.0
PRODID:-//Recapping Everything in Reading, MA - ECPv6.15.20//NONSGML v1.0//EN
CALSCALE:GREGORIAN
METHOD:PUBLISH
X-ORIGINAL-URL:https://www.readingrecap.com
X-WR-CALDESC:Events for Recapping Everything in Reading, MA
REFRESH-INTERVAL;VALUE=DURATION:PT1H
X-Robots-Tag:noindex
X-PUBLISHED-TTL:PT1H
BEGIN:VTIMEZONE
TZID:America/New_York
BEGIN:DAYLIGHT
TZOFFSETFROM:-0500
TZOFFSETTO:-0400
TZNAME:EDT
DTSTART:20210314T070000
END:DAYLIGHT
BEGIN:STANDARD
TZOFFSETFROM:-0400
TZOFFSETTO:-0500
TZNAME:EST
DTSTART:20211107T060000
END:STANDARD
BEGIN:DAYLIGHT
TZOFFSETFROM:-0500
TZOFFSETTO:-0400
TZNAME:EDT
DTSTART:20220313T070000
END:DAYLIGHT
BEGIN:STANDARD
TZOFFSETFROM:-0400
TZOFFSETTO:-0500
TZNAME:EST
DTSTART:20221106T060000
END:STANDARD
BEGIN:DAYLIGHT
TZOFFSETFROM:-0500
TZOFFSETTO:-0400
TZNAME:EDT
DTSTART:20230312T070000
END:DAYLIGHT
BEGIN:STANDARD
TZOFFSETFROM:-0400
TZOFFSETTO:-0500
TZNAME:EST
DTSTART:20231105T060000
END:STANDARD
END:VTIMEZONE
BEGIN:VEVENT
DTSTART;TZID=America/New_York:20220831T190000
DTEND;TZID=America/New_York:20220831T220000
DTSTAMP:20260423T190546
CREATED:20220811T014126Z
LAST-MODIFIED:20220811T014126Z
UID:10000047-1661972400-1661983200@www.readingrecap.com
SUMMARY:Reading ARPA Advisory Committee Meeting
DESCRIPTION:
URL:https://www.readingrecap.com/event/reading-arpa-advisory-committee-meeting/
LOCATION:Town Hall\, 16 Lowell Street\, Reading\, MA\, 01867\, United States
CATEGORIES:ARPA,Town Government
ATTACH;FMTTYPE=image/jpeg:https://www.readingrecap.com/wp-content/uploads/2022/08/Reading-ARPA.jpg
END:VEVENT
END:VCALENDAR