BEGIN:VCALENDAR
VERSION:2.0
PRODID:-//Recapping Everything in Reading, MA - ECPv6.15.20//NONSGML v1.0//EN
CALSCALE:GREGORIAN
METHOD:PUBLISH
X-WR-CALNAME:Recapping Everything in Reading, MA
X-ORIGINAL-URL:https://www.readingrecap.com
X-WR-CALDESC:Events for Recapping Everything in Reading, MA
REFRESH-INTERVAL;VALUE=DURATION:PT1H
X-Robots-Tag:noindex
X-PUBLISHED-TTL:PT1H
BEGIN:VTIMEZONE
TZID:America/New_York
BEGIN:DAYLIGHT
TZOFFSETFROM:-0500
TZOFFSETTO:-0400
TZNAME:EDT
DTSTART:20240310T070000
END:DAYLIGHT
BEGIN:STANDARD
TZOFFSETFROM:-0400
TZOFFSETTO:-0500
TZNAME:EST
DTSTART:20241103T060000
END:STANDARD
BEGIN:DAYLIGHT
TZOFFSETFROM:-0500
TZOFFSETTO:-0400
TZNAME:EDT
DTSTART:20250309T070000
END:DAYLIGHT
BEGIN:STANDARD
TZOFFSETFROM:-0400
TZOFFSETTO:-0500
TZNAME:EST
DTSTART:20251102T060000
END:STANDARD
BEGIN:DAYLIGHT
TZOFFSETFROM:-0500
TZOFFSETTO:-0400
TZNAME:EDT
DTSTART:20260308T070000
END:DAYLIGHT
BEGIN:STANDARD
TZOFFSETFROM:-0400
TZOFFSETTO:-0500
TZNAME:EST
DTSTART:20261101T060000
END:STANDARD
END:VTIMEZONE
BEGIN:VEVENT
DTSTART;TZID=America/New_York:20251009T150000
DTEND;TZID=America/New_York:20251009T180000
DTSTAMP:20260425T094252
CREATED:20250922T204452Z
LAST-MODIFIED:20250922T204452Z
UID:10000857-1760022000-1760032800@www.readingrecap.com
SUMMARY:💡 RMLD Open House
DESCRIPTION:RMLD’s Public Power Week Open House is back! We had so much fun last year\, and we can’t wait to see our community members for this year’s event! We will have returning favorites like our caricaturist\, balloon artists\, face painters\, pumpkins\, and our linemen activities. Plus some other fun surprises! We hope to see you there for this fun for all ages\, FREE event!
URL:https://www.readingrecap.com/event/%f0%9f%92%a1-rmld-open-house-2/
LOCATION:RMLD\, 230 Ash Street\, Reading\, MA\, 01867\, United States
CATEGORIES:RMLD
ATTACH;FMTTYPE=image/jpeg:https://www.readingrecap.com/wp-content/uploads/2023/10/RMLD-Power-Week.jpg
ORGANIZER;CN="RMLD":MAILTO:webinars@rmld.com
END:VEVENT
BEGIN:VEVENT
DTSTART;TZID=America/New_York:20251028T170000
DTEND;TZID=America/New_York:20251028T190000
DTSTAMP:20260425T094252
CREATED:20250806T141234Z
LAST-MODIFIED:20250926T004341Z
UID:10000844-1761670800-1761678000@www.readingrecap.com
SUMMARY:🪧 Connected Reading: An Open House for Our Community
DESCRIPTION:Hello Reading!\nWhether you’re a new resident\, remember the days of The Atlantic\, or arrived sometime in-between\, you are welcome to Connected Reading: An Open House for Our Community!\nHeld on Tuesday October 28th from 5pm-7pm at the Reading Public Library\, join us to:• Meet Representatives from town government and volunteer-led committees\, schools\, youth & faith-based groups\, and community organizations • Discover Reading’s many resources\, services\, programs\, and events.• Enjoy refreshments and mingle with your neighbors!• The first 50 attendees will receive a welcome bag filled with information and gifts from local businesses (one welcome bag per family\, please!)
URL:https://www.readingrecap.com/event/%f0%9f%aa%a7-connected-reading-an-open-house-for-our-community/
LOCATION:Reading Public Library\, 64 Middlesex Ave\, Reading\, MA\, 01867\, United States
CATEGORIES:Reading Public Library,Town Government
ATTACH;FMTTYPE=image/jpeg:https://www.readingrecap.com/wp-content/uploads/2025/08/528040137_1170620925090829_7167967875073987790_n.webp
END:VEVENT
END:VCALENDAR