BEGIN:VCALENDAR
VERSION:2.0
PRODID:-//Recapping Everything in Reading, MA - ECPv6.15.20//NONSGML v1.0//EN
CALSCALE:GREGORIAN
METHOD:PUBLISH
X-WR-CALNAME:Recapping Everything in Reading, MA
X-ORIGINAL-URL:https://www.readingrecap.com
X-WR-CALDESC:Events for Recapping Everything in Reading, MA
REFRESH-INTERVAL;VALUE=DURATION:PT1H
X-Robots-Tag:noindex
X-PUBLISHED-TTL:PT1H
BEGIN:VTIMEZONE
TZID:America/New_York
BEGIN:DAYLIGHT
TZOFFSETFROM:-0500
TZOFFSETTO:-0400
TZNAME:EDT
DTSTART:20220313T070000
END:DAYLIGHT
BEGIN:STANDARD
TZOFFSETFROM:-0400
TZOFFSETTO:-0500
TZNAME:EST
DTSTART:20221106T060000
END:STANDARD
BEGIN:DAYLIGHT
TZOFFSETFROM:-0500
TZOFFSETTO:-0400
TZNAME:EDT
DTSTART:20230312T070000
END:DAYLIGHT
BEGIN:STANDARD
TZOFFSETFROM:-0400
TZOFFSETTO:-0500
TZNAME:EST
DTSTART:20231105T060000
END:STANDARD
BEGIN:DAYLIGHT
TZOFFSETFROM:-0500
TZOFFSETTO:-0400
TZNAME:EDT
DTSTART:20240310T070000
END:DAYLIGHT
BEGIN:STANDARD
TZOFFSETFROM:-0400
TZOFFSETTO:-0500
TZNAME:EST
DTSTART:20241103T060000
END:STANDARD
BEGIN:DAYLIGHT
TZOFFSETFROM:-0500
TZOFFSETTO:-0400
TZNAME:EDT
DTSTART:20250309T070000
END:DAYLIGHT
BEGIN:STANDARD
TZOFFSETFROM:-0400
TZOFFSETTO:-0500
TZNAME:EST
DTSTART:20251102T060000
END:STANDARD
BEGIN:DAYLIGHT
TZOFFSETFROM:-0500
TZOFFSETTO:-0400
TZNAME:EDT
DTSTART:20260308T070000
END:DAYLIGHT
BEGIN:STANDARD
TZOFFSETFROM:-0400
TZOFFSETTO:-0500
TZNAME:EST
DTSTART:20261101T060000
END:STANDARD
END:VTIMEZONE
BEGIN:VEVENT
DTSTART;TZID=America/New_York:20250209T140000
DTEND;TZID=America/New_York:20250209T153000
DTSTAMP:20260423T172939
CREATED:20250112T004938Z
LAST-MODIFIED:20250112T004938Z
UID:10000721-1739109600-1739115000@www.readingrecap.com
SUMMARY:🎭 RMHS Drama Club Presents "An Unoriginal Original"
DESCRIPTION:Title: RMHS Drama Club Presents “An Unoriginal Original”\nWhen:\nFeb 7th & 8th at 7:30 pm\nFeb 9th at 2:00 pm\nWhere: RMHS Endslow Performing Arts Center\, 62 Oakland Rd\, Reading\, MA 01867\nTickets: https://www.rmhsdrama.org/\nFacebook: https://www.facebook.com/share/1De85epEgu/\nDescription:\nGet ready for a wild ride in the RMHS Drama Club’s fast-paced comedy\, “An Unoriginal Original”! This uproarious one-act play takes a sharp and hilarious dive into the world of “ART-ificial Intelligence\,” where creativity meets technology in the most unexpected ways. Watch as the cast navigates a chaotic and comical exploration of what it means to be truly original in a world of endless influences and algorithms. From surprise twists to laugh-out-loud moments\, this show promises to keep you on the edge of your seat.\nDon’t miss this truly one-of-a-kind production\, which will be entering the prestigious METG One Act Play Festival in March!\nAdapted by the Cast\nDirected by Mrs. Natalie Cunha\nAssistant Directed by Ms. Katie Donovan
URL:https://www.readingrecap.com/event/%f0%9f%8e%ad-rmhs-drama-club-presents-an-unoriginal-original/2025-02-09/
LOCATION:Reading Memorial High School\, 62 Oakland Rd\, Reading\, MA\, 01867\, United States
ATTACH;FMTTYPE=image/png:https://www.readingrecap.com/wp-content/uploads/2025/01/An-Unoriginal-Original-Instagram-Post-Square.png
ORGANIZER;CN="RMHS Drama Club":MAILTO:psstofficers@gmail.com
END:VEVENT
BEGIN:VEVENT
DTSTART;TZID=America/New_York:20250208T193000
DTEND;TZID=America/New_York:20250208T210000
DTSTAMP:20260423T172939
CREATED:20250112T004938Z
LAST-MODIFIED:20250112T004938Z
UID:10000720-1739043000-1739048400@www.readingrecap.com
SUMMARY:🎭 RMHS Drama Club Presents "An Unoriginal Original"
DESCRIPTION:Title: RMHS Drama Club Presents “An Unoriginal Original”\nWhen:\nFeb 7th & 8th at 7:30 pm\nFeb 9th at 2:00 pm\nWhere: RMHS Endslow Performing Arts Center\, 62 Oakland Rd\, Reading\, MA 01867\nTickets: https://www.rmhsdrama.org/\nFacebook: https://www.facebook.com/share/1De85epEgu/\nDescription:\nGet ready for a wild ride in the RMHS Drama Club’s fast-paced comedy\, “An Unoriginal Original”! This uproarious one-act play takes a sharp and hilarious dive into the world of “ART-ificial Intelligence\,” where creativity meets technology in the most unexpected ways. Watch as the cast navigates a chaotic and comical exploration of what it means to be truly original in a world of endless influences and algorithms. From surprise twists to laugh-out-loud moments\, this show promises to keep you on the edge of your seat.\nDon’t miss this truly one-of-a-kind production\, which will be entering the prestigious METG One Act Play Festival in March!\nAdapted by the Cast\nDirected by Mrs. Natalie Cunha\nAssistant Directed by Ms. Katie Donovan
URL:https://www.readingrecap.com/event/%f0%9f%8e%ad-rmhs-drama-club-presents-an-unoriginal-original/2025-02-08/
LOCATION:Reading Memorial High School\, 62 Oakland Rd\, Reading\, MA\, 01867\, United States
ATTACH;FMTTYPE=image/png:https://www.readingrecap.com/wp-content/uploads/2025/01/An-Unoriginal-Original-Instagram-Post-Square.png
ORGANIZER;CN="RMHS Drama Club":MAILTO:psstofficers@gmail.com
END:VEVENT
BEGIN:VEVENT
DTSTART;TZID=America/New_York:20250207T193000
DTEND;TZID=America/New_York:20250207T210000
DTSTAMP:20260423T172939
CREATED:20250112T004938Z
LAST-MODIFIED:20250112T004938Z
UID:10000719-1738956600-1738962000@www.readingrecap.com
SUMMARY:🎭 RMHS Drama Club Presents "An Unoriginal Original"
DESCRIPTION:Title: RMHS Drama Club Presents “An Unoriginal Original”\nWhen:\nFeb 7th & 8th at 7:30 pm\nFeb 9th at 2:00 pm\nWhere: RMHS Endslow Performing Arts Center\, 62 Oakland Rd\, Reading\, MA 01867\nTickets: https://www.rmhsdrama.org/\nFacebook: https://www.facebook.com/share/1De85epEgu/\nDescription:\nGet ready for a wild ride in the RMHS Drama Club’s fast-paced comedy\, “An Unoriginal Original”! This uproarious one-act play takes a sharp and hilarious dive into the world of “ART-ificial Intelligence\,” where creativity meets technology in the most unexpected ways. Watch as the cast navigates a chaotic and comical exploration of what it means to be truly original in a world of endless influences and algorithms. From surprise twists to laugh-out-loud moments\, this show promises to keep you on the edge of your seat.\nDon’t miss this truly one-of-a-kind production\, which will be entering the prestigious METG One Act Play Festival in March!\nAdapted by the Cast\nDirected by Mrs. Natalie Cunha\nAssistant Directed by Ms. Katie Donovan
URL:https://www.readingrecap.com/event/%f0%9f%8e%ad-rmhs-drama-club-presents-an-unoriginal-original/2025-02-07/
LOCATION:Reading Memorial High School\, 62 Oakland Rd\, Reading\, MA\, 01867\, United States
ATTACH;FMTTYPE=image/png:https://www.readingrecap.com/wp-content/uploads/2025/01/An-Unoriginal-Original-Instagram-Post-Square.png
ORGANIZER;CN="RMHS Drama Club":MAILTO:psstofficers@gmail.com
END:VEVENT
BEGIN:VEVENT
DTSTART;TZID=America/New_York:20230507T140000
DTEND;TZID=America/New_York:20230507T160000
DTSTAMP:20260423T172939
CREATED:20230408T155927Z
LAST-MODIFIED:20230505T042141Z
UID:10000332-1683468000-1683475200@www.readingrecap.com
SUMMARY:The Giver presented by The RMHS Drama Club
DESCRIPTION:Jonas’ world is perfect. Everything is under control and safe. There is no war or fear or pain. There are also no choices. Every person is assigned a role in the community. But when Jonas turns 12\, he is chosen for special training from The Giver—to receive and keep the memories of the community. The Giver is the only person who holds the memories of real pain and real joy. Now Jonas will learn the truth about life—and the hypocrisy of his utopian world. Through this astonishing and moving adaptation\, discover what it means to grow up\, to grow wise\, and to take control of your own destiny. The Giver was commissioned by Oregon Children’s Theatre and has played to sold-out audiences\n\n\nRMHS Performing Arts Center\nReading Memorial High School\n62 Oakland Road\, Reading MA\nFriday\, May 5 at 7:30 pm\nSaturday\, May 6 at 7:30 pm\nSunday\, May 7 at 2:00 pm\n\n\nTickets are $15 for adults and $10 for senior citizens and students.\nhttps://www.ticketstage.com/T/RMHSDRAMA\nComplementary ticket available for RPS teachers + staff\, as well as current 7th grade students. If you do not have the code the checkout provided\, please email RMHSTickets@gmail.com
URL:https://www.readingrecap.com/event/the-giver-presented-by-the-rmhs-drama-club/2023-05-07/
LOCATION:Reading Memorial High School\, 62 Oakland Rd\, Reading\, MA\, 01867\, United States
CATEGORIES:Arts,Entertainment
ATTACH;FMTTYPE=image/jpeg:https://www.readingrecap.com/wp-content/uploads/2023/04/RMHS-Drama-The-Giver.jpg
ORGANIZER;CN="RMHS Drama Club":MAILTO:psstofficers@gmail.com
END:VEVENT
BEGIN:VEVENT
DTSTART;TZID=America/New_York:20230506T193000
DTEND;TZID=America/New_York:20230506T213000
DTSTAMP:20260423T172939
CREATED:20230408T155927Z
LAST-MODIFIED:20230505T042141Z
UID:10000331-1683401400-1683408600@www.readingrecap.com
SUMMARY:The Giver presented by The RMHS Drama Club
DESCRIPTION:Jonas’ world is perfect. Everything is under control and safe. There is no war or fear or pain. There are also no choices. Every person is assigned a role in the community. But when Jonas turns 12\, he is chosen for special training from The Giver—to receive and keep the memories of the community. The Giver is the only person who holds the memories of real pain and real joy. Now Jonas will learn the truth about life—and the hypocrisy of his utopian world. Through this astonishing and moving adaptation\, discover what it means to grow up\, to grow wise\, and to take control of your own destiny. The Giver was commissioned by Oregon Children’s Theatre and has played to sold-out audiences\n\n\nRMHS Performing Arts Center\nReading Memorial High School\n62 Oakland Road\, Reading MA\nFriday\, May 5 at 7:30 pm\nSaturday\, May 6 at 7:30 pm\nSunday\, May 7 at 2:00 pm\n\n\nTickets are $15 for adults and $10 for senior citizens and students.\nhttps://www.ticketstage.com/T/RMHSDRAMA\nComplementary ticket available for RPS teachers + staff\, as well as current 7th grade students. If you do not have the code the checkout provided\, please email RMHSTickets@gmail.com
URL:https://www.readingrecap.com/event/the-giver-presented-by-the-rmhs-drama-club/2023-05-06/
LOCATION:Reading Memorial High School\, 62 Oakland Rd\, Reading\, MA\, 01867\, United States
CATEGORIES:Arts,Entertainment
ATTACH;FMTTYPE=image/jpeg:https://www.readingrecap.com/wp-content/uploads/2023/04/RMHS-Drama-The-Giver.jpg
ORGANIZER;CN="RMHS Drama Club":MAILTO:psstofficers@gmail.com
END:VEVENT
BEGIN:VEVENT
DTSTART;TZID=America/New_York:20230505T193000
DTEND;TZID=America/New_York:20230505T213000
DTSTAMP:20260423T172939
CREATED:20230408T155927Z
LAST-MODIFIED:20230505T042141Z
UID:10000330-1683315000-1683322200@www.readingrecap.com
SUMMARY:The Giver presented by The RMHS Drama Club
DESCRIPTION:Jonas’ world is perfect. Everything is under control and safe. There is no war or fear or pain. There are also no choices. Every person is assigned a role in the community. But when Jonas turns 12\, he is chosen for special training from The Giver—to receive and keep the memories of the community. The Giver is the only person who holds the memories of real pain and real joy. Now Jonas will learn the truth about life—and the hypocrisy of his utopian world. Through this astonishing and moving adaptation\, discover what it means to grow up\, to grow wise\, and to take control of your own destiny. The Giver was commissioned by Oregon Children’s Theatre and has played to sold-out audiences\n\n\nRMHS Performing Arts Center\nReading Memorial High School\n62 Oakland Road\, Reading MA\nFriday\, May 5 at 7:30 pm\nSaturday\, May 6 at 7:30 pm\nSunday\, May 7 at 2:00 pm\n\n\nTickets are $15 for adults and $10 for senior citizens and students.\nhttps://www.ticketstage.com/T/RMHSDRAMA\nComplementary ticket available for RPS teachers + staff\, as well as current 7th grade students. If you do not have the code the checkout provided\, please email RMHSTickets@gmail.com
URL:https://www.readingrecap.com/event/the-giver-presented-by-the-rmhs-drama-club/2023-05-05/
LOCATION:Reading Memorial High School\, 62 Oakland Rd\, Reading\, MA\, 01867\, United States
CATEGORIES:Arts,Entertainment
ATTACH;FMTTYPE=image/jpeg:https://www.readingrecap.com/wp-content/uploads/2023/04/RMHS-Drama-The-Giver.jpg
ORGANIZER;CN="RMHS Drama Club":MAILTO:psstofficers@gmail.com
END:VEVENT
BEGIN:VEVENT
DTSTART;TZID=America/New_York:20230311T140000
DTEND;TZID=America/New_York:20230311T153000
DTSTAMP:20260423T172939
CREATED:20230216T024300Z
LAST-MODIFIED:20230216T024300Z
UID:10000242-1678543200-1678548600@www.readingrecap.com
SUMMARY:The Little Mermaid JR.
DESCRIPTION:Journey “under the sea” with Ariel and her aquatic friends in Disney’s The Little Mermaid JR.\, adapted from Disney’s Broadway production and the motion picture (featuring the enormously popular Academy Award-winning music and delightfully charming book and lyrics). Based on one of Hans Christian Andersen’s most beloved stories\, Disney’s The Little Mermaid JR. is an enchanting look at the sacrifices we all make for love and acceptance. In a magical underwater kingdom\, the beautiful young mermaid\, Ariel\, longs to leave her ocean home — and her fins — behind and live in the world above. But first\, she’ll have to defy her father\, King Triton\, make a deal with the evil sea witch\, Ursula\, and convince the handsome Prince Eric that she’s the girl whose enchanting voice he’s been seeking. Written to flow seamlessly between land and sea\, Disney’s The Little Mermaid JR. provides plenty of opportunities to bring these locations to life through creative movement and configurations. The fantasy of being underwater means your entire cast and crew can let their imaginations run wild. \nParker Middle School Auditorium\n45 Temple Street\nReading\, MA\n01867\nGet directions \n978-344-2800\nparkerdramaticketsales@gmail.com \nTickets: https://www.showtix4u.com/event-details/70616 \n\n\nPricing\n\nAdult – $15.00\n\n\nK-12 Student – $12.00\n\nThursday\, March 9\, 2023 6:30 PM\nFriday\, March 10\, 2023 7:00 PM\nSaturday\, March 11\, 2023 2:00 PM (extremely limited amount of tickets remain)
URL:https://www.readingrecap.com/event/the-little-mermaid-jr/2023-03-11/
LOCATION:Walter S. Parker Middle School\, 45 Temple Street\, Reading\, MA\, 01867\, United States
CATEGORIES:Entertainment
ATTACH;FMTTYPE=image/jpeg:https://www.readingrecap.com/wp-content/uploads/2023/02/Little-Mermaid-Drama.jpg
ORGANIZER;CN="Parker Drama":MAILTO:parkerdramaticketsales@gmail.com
END:VEVENT
BEGIN:VEVENT
DTSTART;TZID=America/New_York:20230310T190000
DTEND;TZID=America/New_York:20230310T203000
DTSTAMP:20260423T172939
CREATED:20230216T024300Z
LAST-MODIFIED:20230216T024300Z
UID:10000241-1678474800-1678480200@www.readingrecap.com
SUMMARY:The Little Mermaid JR.
DESCRIPTION:Journey “under the sea” with Ariel and her aquatic friends in Disney’s The Little Mermaid JR.\, adapted from Disney’s Broadway production and the motion picture (featuring the enormously popular Academy Award-winning music and delightfully charming book and lyrics). Based on one of Hans Christian Andersen’s most beloved stories\, Disney’s The Little Mermaid JR. is an enchanting look at the sacrifices we all make for love and acceptance. In a magical underwater kingdom\, the beautiful young mermaid\, Ariel\, longs to leave her ocean home — and her fins — behind and live in the world above. But first\, she’ll have to defy her father\, King Triton\, make a deal with the evil sea witch\, Ursula\, and convince the handsome Prince Eric that she’s the girl whose enchanting voice he’s been seeking. Written to flow seamlessly between land and sea\, Disney’s The Little Mermaid JR. provides plenty of opportunities to bring these locations to life through creative movement and configurations. The fantasy of being underwater means your entire cast and crew can let their imaginations run wild. \nParker Middle School Auditorium\n45 Temple Street\nReading\, MA\n01867\nGet directions \n978-344-2800\nparkerdramaticketsales@gmail.com \nTickets: https://www.showtix4u.com/event-details/70616 \n\n\nPricing\n\nAdult – $15.00\n\n\nK-12 Student – $12.00\n\nThursday\, March 9\, 2023 6:30 PM\nFriday\, March 10\, 2023 7:00 PM\nSaturday\, March 11\, 2023 2:00 PM (extremely limited amount of tickets remain)
URL:https://www.readingrecap.com/event/the-little-mermaid-jr/2023-03-10/
LOCATION:Walter S. Parker Middle School\, 45 Temple Street\, Reading\, MA\, 01867\, United States
CATEGORIES:Entertainment
ATTACH;FMTTYPE=image/jpeg:https://www.readingrecap.com/wp-content/uploads/2023/02/Little-Mermaid-Drama.jpg
ORGANIZER;CN="Parker Drama":MAILTO:parkerdramaticketsales@gmail.com
END:VEVENT
BEGIN:VEVENT
DTSTART;TZID=America/New_York:20230309T183000
DTEND;TZID=America/New_York:20230309T200000
DTSTAMP:20260423T172939
CREATED:20230216T024300Z
LAST-MODIFIED:20230216T024300Z
UID:10000240-1678386600-1678392000@www.readingrecap.com
SUMMARY:The Little Mermaid JR.
DESCRIPTION:Journey “under the sea” with Ariel and her aquatic friends in Disney’s The Little Mermaid JR.\, adapted from Disney’s Broadway production and the motion picture (featuring the enormously popular Academy Award-winning music and delightfully charming book and lyrics). Based on one of Hans Christian Andersen’s most beloved stories\, Disney’s The Little Mermaid JR. is an enchanting look at the sacrifices we all make for love and acceptance. In a magical underwater kingdom\, the beautiful young mermaid\, Ariel\, longs to leave her ocean home — and her fins — behind and live in the world above. But first\, she’ll have to defy her father\, King Triton\, make a deal with the evil sea witch\, Ursula\, and convince the handsome Prince Eric that she’s the girl whose enchanting voice he’s been seeking. Written to flow seamlessly between land and sea\, Disney’s The Little Mermaid JR. provides plenty of opportunities to bring these locations to life through creative movement and configurations. The fantasy of being underwater means your entire cast and crew can let their imaginations run wild. \nParker Middle School Auditorium\n45 Temple Street\nReading\, MA\n01867\nGet directions \n978-344-2800\nparkerdramaticketsales@gmail.com \nTickets: https://www.showtix4u.com/event-details/70616 \n\n\nPricing\n\nAdult – $15.00\n\n\nK-12 Student – $12.00\n\nThursday\, March 9\, 2023 6:30 PM\nFriday\, March 10\, 2023 7:00 PM\nSaturday\, March 11\, 2023 2:00 PM (extremely limited amount of tickets remain)
URL:https://www.readingrecap.com/event/the-little-mermaid-jr/2023-03-09/
LOCATION:Walter S. Parker Middle School\, 45 Temple Street\, Reading\, MA\, 01867\, United States
CATEGORIES:Entertainment
ATTACH;FMTTYPE=image/jpeg:https://www.readingrecap.com/wp-content/uploads/2023/02/Little-Mermaid-Drama.jpg
ORGANIZER;CN="Parker Drama":MAILTO:parkerdramaticketsales@gmail.com
END:VEVENT
BEGIN:VEVENT
DTSTART;TZID=America/New_York:20230115T140000
DTEND;TZID=America/New_York:20230115T160000
DTSTAMP:20260423T172939
CREATED:20230102T150502Z
LAST-MODIFIED:20230102T150502Z
UID:10000182-1673791200-1673798400@www.readingrecap.com
SUMMARY:Coolidge Middle School Drama Presents: Crazy For You
DESCRIPTION:A zany rich-boy-meets-hometown-girl romantic comedy\, Crazy For You® tells the story of young New York banker Bobby Child\, who is sent to Deadrock\, Nevada\, to foreclose on a rundown theatre. In Deadrock\, Bobby falls for spunky Polly Baker\, the theatre owner’s daughter. But Polly takes an instant dislike to the city slicker\, so Bobby vows – through cunning\, razzmatazz\, and a hilarious case of mistaken identity – to win Polly’s heart and save the theatre. Memorable Gershwin tunes from the score include “I Got Rhythm\,” “They Can’t Take That Away from Me\,” “Embraceable You\,” “Nice Work if You Can Get It” and “Someone to Watch Over Me.” \nFor more details on the performance and seating availability\, please check out the events page via the following link: https://www.showtix4u.com/event-details/69547 \nWhen: January 13 & 14th at 7:30PM and January 15th at 2PM. \nWhere: Performing Arts Center\, 62 Oakland Road Reading. \nPricing: Student (K-12) – $12.00 & Adult – $15.00 \nContact Info: 978-344-2800 or via email at coolidgedramatickets@gmail.com
URL:https://www.readingrecap.com/event/coolidge-middle-school-drama-presents-crazy-for-you/2023-01-15/
LOCATION:Reading Memorial High School\, 62 Oakland Rd\, Reading\, MA\, 01867\, United States
CATEGORIES:Arts
ATTACH;FMTTYPE=image/webp:https://www.readingrecap.com/wp-content/uploads/2023/01/Crazy-For-You-1.webp
ORGANIZER;CN="Coolidge Drama Club":MAILTO:coolidgedramatickets@gmail.com
END:VEVENT
BEGIN:VEVENT
DTSTART;TZID=America/New_York:20230114T193000
DTEND;TZID=America/New_York:20230114T210000
DTSTAMP:20260423T172939
CREATED:20230102T150502Z
LAST-MODIFIED:20230102T150502Z
UID:10000181-1673724600-1673730000@www.readingrecap.com
SUMMARY:Coolidge Middle School Drama Presents: Crazy For You
DESCRIPTION:A zany rich-boy-meets-hometown-girl romantic comedy\, Crazy For You® tells the story of young New York banker Bobby Child\, who is sent to Deadrock\, Nevada\, to foreclose on a rundown theatre. In Deadrock\, Bobby falls for spunky Polly Baker\, the theatre owner’s daughter. But Polly takes an instant dislike to the city slicker\, so Bobby vows – through cunning\, razzmatazz\, and a hilarious case of mistaken identity – to win Polly’s heart and save the theatre. Memorable Gershwin tunes from the score include “I Got Rhythm\,” “They Can’t Take That Away from Me\,” “Embraceable You\,” “Nice Work if You Can Get It” and “Someone to Watch Over Me.” \nFor more details on the performance and seating availability\, please check out the events page via the following link: https://www.showtix4u.com/event-details/69547 \nWhen: January 13 & 14th at 7:30PM and January 15th at 2PM. \nWhere: Performing Arts Center\, 62 Oakland Road Reading. \nPricing: Student (K-12) – $12.00 & Adult – $15.00 \nContact Info: 978-344-2800 or via email at coolidgedramatickets@gmail.com
URL:https://www.readingrecap.com/event/coolidge-middle-school-drama-presents-crazy-for-you/2023-01-14/
LOCATION:Reading Memorial High School\, 62 Oakland Rd\, Reading\, MA\, 01867\, United States
CATEGORIES:Arts
ATTACH;FMTTYPE=image/webp:https://www.readingrecap.com/wp-content/uploads/2023/01/Crazy-For-You-1.webp
ORGANIZER;CN="Coolidge Drama Club":MAILTO:coolidgedramatickets@gmail.com
END:VEVENT
BEGIN:VEVENT
DTSTART;TZID=America/New_York:20230113T193000
DTEND;TZID=America/New_York:20230113T210000
DTSTAMP:20260423T172939
CREATED:20230102T150502Z
LAST-MODIFIED:20230102T150502Z
UID:10000180-1673638200-1673643600@www.readingrecap.com
SUMMARY:Coolidge Middle School Drama Presents: Crazy For You
DESCRIPTION:A zany rich-boy-meets-hometown-girl romantic comedy\, Crazy For You® tells the story of young New York banker Bobby Child\, who is sent to Deadrock\, Nevada\, to foreclose on a rundown theatre. In Deadrock\, Bobby falls for spunky Polly Baker\, the theatre owner’s daughter. But Polly takes an instant dislike to the city slicker\, so Bobby vows – through cunning\, razzmatazz\, and a hilarious case of mistaken identity – to win Polly’s heart and save the theatre. Memorable Gershwin tunes from the score include “I Got Rhythm\,” “They Can’t Take That Away from Me\,” “Embraceable You\,” “Nice Work if You Can Get It” and “Someone to Watch Over Me.” \nFor more details on the performance and seating availability\, please check out the events page via the following link: https://www.showtix4u.com/event-details/69547 \nWhen: January 13 & 14th at 7:30PM and January 15th at 2PM. \nWhere: Performing Arts Center\, 62 Oakland Road Reading. \nPricing: Student (K-12) – $12.00 & Adult – $15.00 \nContact Info: 978-344-2800 or via email at coolidgedramatickets@gmail.com
URL:https://www.readingrecap.com/event/coolidge-middle-school-drama-presents-crazy-for-you/2023-01-13/
LOCATION:Reading Memorial High School\, 62 Oakland Rd\, Reading\, MA\, 01867\, United States
CATEGORIES:Arts
ATTACH;FMTTYPE=image/webp:https://www.readingrecap.com/wp-content/uploads/2023/01/Crazy-For-You-1.webp
ORGANIZER;CN="Coolidge Drama Club":MAILTO:coolidgedramatickets@gmail.com
END:VEVENT
END:VCALENDAR