BEGIN:VCALENDAR
VERSION:2.0
PRODID:-//Recapping Everything in Reading, MA - ECPv6.15.20//NONSGML v1.0//EN
CALSCALE:GREGORIAN
METHOD:PUBLISH
X-WR-CALNAME:Recapping Everything in Reading, MA
X-ORIGINAL-URL:https://www.readingrecap.com
X-WR-CALDESC:Events for Recapping Everything in Reading, MA
REFRESH-INTERVAL;VALUE=DURATION:PT1H
X-Robots-Tag:noindex
X-PUBLISHED-TTL:PT1H
BEGIN:VTIMEZONE
TZID:America/New_York
BEGIN:DAYLIGHT
TZOFFSETFROM:-0500
TZOFFSETTO:-0400
TZNAME:EDT
DTSTART:20250309T070000
END:DAYLIGHT
BEGIN:STANDARD
TZOFFSETFROM:-0400
TZOFFSETTO:-0500
TZNAME:EST
DTSTART:20251102T060000
END:STANDARD
BEGIN:DAYLIGHT
TZOFFSETFROM:-0500
TZOFFSETTO:-0400
TZNAME:EDT
DTSTART:20260308T070000
END:DAYLIGHT
BEGIN:STANDARD
TZOFFSETFROM:-0400
TZOFFSETTO:-0500
TZNAME:EST
DTSTART:20261101T060000
END:STANDARD
BEGIN:DAYLIGHT
TZOFFSETFROM:-0500
TZOFFSETTO:-0400
TZNAME:EDT
DTSTART:20270314T070000
END:DAYLIGHT
BEGIN:STANDARD
TZOFFSETFROM:-0400
TZOFFSETTO:-0500
TZNAME:EST
DTSTART:20271107T060000
END:STANDARD
END:VTIMEZONE
BEGIN:VEVENT
DTSTART;TZID=America/New_York:20260501T193000
DTEND;TZID=America/New_York:20260501T210000
DTSTAMP:20260424T130007
CREATED:20260423T155759Z
LAST-MODIFIED:20260423T155759Z
UID:10000924-1777663800-1777669200@www.readingrecap.com
SUMMARY:🔎 RMHS Drama Club Presents Clue: High School Edition
DESCRIPTION:The RMHS Drama Club proudly presents its spring production of Clue: High School Edition\, written by Sandy Rustin. \nBased on the iconic board game and inspired by the beloved 1985 film\, this fast-paced comedy invites audiences to Boddy Manor\, where six mysterious guests\, one suspicious butler\, and a mansion full of secrets collide in a night of comedic chaos. When the lights go out and the host turns up dead\, everyone becomes a suspect. Follow along to uncover the secrets of Boddy Manor and the true identity of the murderer. 🔍 \nThis special Student Showcase highlights the extraordinary talent of students both on and off stage. Featuring student direction\, design\, and performance\, the production celebrates the creativity and leadership of the award-winning RMHS Drama Club. \nPerformance Dates: \n\nFriday\, May 1 at 7:30 PM\nSaturday\, May 2 at 7:30 PM\nSunday\, May 3 at 2:00 PM\n\nLocation:\nWilliam E. Endslow Performing Arts Center\nReading Memorial High School\n62 Oakland Road\, Reading\, MA \nTickets:\nAvailable at www.rmhsdrama.org \nCreative Team: \n\nDirected by Jason Walsh ‘26\nAssistant Directors: Natalie Cunha & Katie Donovan\nTechnical Directors: Lucas Reis ‘26 & Kevin Gerstner\n\nJoin us for an evening of mystery\, mayhem\, and comedy for the whole family as Clue comes to life on stage!
URL:https://www.readingrecap.com/event/%f0%9f%94%8e-rmhs-drama-club-presents-clue-high-school-edition/2026-05-01/
LOCATION:Reading Memorial High School\, 62 Oakland Rd\, Reading\, MA\, 01867\, United States
ATTACH;FMTTYPE=image/png:https://www.readingrecap.com/wp-content/uploads/2026/04/CLUE-Instagram-Post-45-7de02b59aa589a2aff70742cf9d16cdf.webp
ORGANIZER;CN="RMHS Drama Club":MAILTO:psstofficers@gmail.com
END:VEVENT
BEGIN:VEVENT
DTSTART;TZID=America/New_York:20260502T193000
DTEND;TZID=America/New_York:20260502T210000
DTSTAMP:20260424T130007
CREATED:20260423T155759Z
LAST-MODIFIED:20260423T155759Z
UID:10000925-1777750200-1777755600@www.readingrecap.com
SUMMARY:🔎 RMHS Drama Club Presents Clue: High School Edition
DESCRIPTION:The RMHS Drama Club proudly presents its spring production of Clue: High School Edition\, written by Sandy Rustin. \nBased on the iconic board game and inspired by the beloved 1985 film\, this fast-paced comedy invites audiences to Boddy Manor\, where six mysterious guests\, one suspicious butler\, and a mansion full of secrets collide in a night of comedic chaos. When the lights go out and the host turns up dead\, everyone becomes a suspect. Follow along to uncover the secrets of Boddy Manor and the true identity of the murderer. 🔍 \nThis special Student Showcase highlights the extraordinary talent of students both on and off stage. Featuring student direction\, design\, and performance\, the production celebrates the creativity and leadership of the award-winning RMHS Drama Club. \nPerformance Dates: \n\nFriday\, May 1 at 7:30 PM\nSaturday\, May 2 at 7:30 PM\nSunday\, May 3 at 2:00 PM\n\nLocation:\nWilliam E. Endslow Performing Arts Center\nReading Memorial High School\n62 Oakland Road\, Reading\, MA \nTickets:\nAvailable at www.rmhsdrama.org \nCreative Team: \n\nDirected by Jason Walsh ‘26\nAssistant Directors: Natalie Cunha & Katie Donovan\nTechnical Directors: Lucas Reis ‘26 & Kevin Gerstner\n\nJoin us for an evening of mystery\, mayhem\, and comedy for the whole family as Clue comes to life on stage!
URL:https://www.readingrecap.com/event/%f0%9f%94%8e-rmhs-drama-club-presents-clue-high-school-edition/2026-05-02/
LOCATION:Reading Memorial High School\, 62 Oakland Rd\, Reading\, MA\, 01867\, United States
ATTACH;FMTTYPE=image/png:https://www.readingrecap.com/wp-content/uploads/2026/04/CLUE-Instagram-Post-45-7de02b59aa589a2aff70742cf9d16cdf.webp
ORGANIZER;CN="RMHS Drama Club":MAILTO:psstofficers@gmail.com
END:VEVENT
BEGIN:VEVENT
DTSTART;TZID=America/New_York:20260503T140000
DTEND;TZID=America/New_York:20260503T153000
DTSTAMP:20260424T130007
CREATED:20260423T155759Z
LAST-MODIFIED:20260423T155759Z
UID:10000926-1777816800-1777822200@www.readingrecap.com
SUMMARY:🔎 RMHS Drama Club Presents Clue: High School Edition
DESCRIPTION:The RMHS Drama Club proudly presents its spring production of Clue: High School Edition\, written by Sandy Rustin. \nBased on the iconic board game and inspired by the beloved 1985 film\, this fast-paced comedy invites audiences to Boddy Manor\, where six mysterious guests\, one suspicious butler\, and a mansion full of secrets collide in a night of comedic chaos. When the lights go out and the host turns up dead\, everyone becomes a suspect. Follow along to uncover the secrets of Boddy Manor and the true identity of the murderer. 🔍 \nThis special Student Showcase highlights the extraordinary talent of students both on and off stage. Featuring student direction\, design\, and performance\, the production celebrates the creativity and leadership of the award-winning RMHS Drama Club. \nPerformance Dates: \n\nFriday\, May 1 at 7:30 PM\nSaturday\, May 2 at 7:30 PM\nSunday\, May 3 at 2:00 PM\n\nLocation:\nWilliam E. Endslow Performing Arts Center\nReading Memorial High School\n62 Oakland Road\, Reading\, MA \nTickets:\nAvailable at www.rmhsdrama.org \nCreative Team: \n\nDirected by Jason Walsh ‘26\nAssistant Directors: Natalie Cunha & Katie Donovan\nTechnical Directors: Lucas Reis ‘26 & Kevin Gerstner\n\nJoin us for an evening of mystery\, mayhem\, and comedy for the whole family as Clue comes to life on stage!
URL:https://www.readingrecap.com/event/%f0%9f%94%8e-rmhs-drama-club-presents-clue-high-school-edition/2026-05-03/
LOCATION:Reading Memorial High School\, 62 Oakland Rd\, Reading\, MA\, 01867\, United States
ATTACH;FMTTYPE=image/png:https://www.readingrecap.com/wp-content/uploads/2026/04/CLUE-Instagram-Post-45-7de02b59aa589a2aff70742cf9d16cdf.webp
ORGANIZER;CN="RMHS Drama Club":MAILTO:psstofficers@gmail.com
END:VEVENT
END:VCALENDAR