BEGIN:VCALENDAR
VERSION:2.0
PRODID:-//Recapping Everything in Reading, MA - ECPv6.15.20//NONSGML v1.0//EN
CALSCALE:GREGORIAN
METHOD:PUBLISH
X-ORIGINAL-URL:https://www.readingrecap.com
X-WR-CALDESC:Events for Recapping Everything in Reading, MA
REFRESH-INTERVAL;VALUE=DURATION:PT1H
X-Robots-Tag:noindex
X-PUBLISHED-TTL:PT1H
BEGIN:VTIMEZONE
TZID:America/New_York
BEGIN:DAYLIGHT
TZOFFSETFROM:-0500
TZOFFSETTO:-0400
TZNAME:EDT
DTSTART:20210314T070000
END:DAYLIGHT
BEGIN:STANDARD
TZOFFSETFROM:-0400
TZOFFSETTO:-0500
TZNAME:EST
DTSTART:20211107T060000
END:STANDARD
BEGIN:DAYLIGHT
TZOFFSETFROM:-0500
TZOFFSETTO:-0400
TZNAME:EDT
DTSTART:20220313T070000
END:DAYLIGHT
BEGIN:STANDARD
TZOFFSETFROM:-0400
TZOFFSETTO:-0500
TZNAME:EST
DTSTART:20221106T060000
END:STANDARD
BEGIN:DAYLIGHT
TZOFFSETFROM:-0500
TZOFFSETTO:-0400
TZNAME:EDT
DTSTART:20230312T070000
END:DAYLIGHT
BEGIN:STANDARD
TZOFFSETFROM:-0400
TZOFFSETTO:-0500
TZNAME:EST
DTSTART:20231105T060000
END:STANDARD
END:VTIMEZONE
BEGIN:VEVENT
DTSTART;TZID=America/New_York:20221005T170000
DTEND;TZID=America/New_York:20221005T173000
DTSTAMP:20260421T112051
CREATED:20221003T142415Z
LAST-MODIFIED:20221003T142415Z
UID:10000112-1664989200-1664991000@www.readingrecap.com
SUMMARY:Classified Realty Ribbon Cutting
DESCRIPTION:We are thrilled to invite local businesses to the Grand Opening of Classified Realty.\n\n\n\nThe ribbon cutting will be happening on October 5th at 5pm\, and we are so excited!\n\n\n\nThe new office is located in the brand new Postmark Building on Haven Street in Reading. We are honored to have special guest State Representative Brad Jones in attendance!\n\n\nTo RSVP\, please register through the following link → https://readingnreadingchamberma.chambermaster.com/…/1435.
URL:https://www.readingrecap.com/event/classified-realty-ribbon-cutting/
LOCATION:Classified Realty\, 130 Haven Street\, Reading\, MA\, 01867\, United States
CATEGORIES:Shop 01867
ATTACH;FMTTYPE=image/webp:https://www.readingrecap.com/wp-content/uploads/2022/10/Classified-Realty-Group-Ribbon-Cutting.webp
ORGANIZER;CN="Reading North Reading Chamber of Commerce":MAILTO:info@rnrchamber.com
END:VEVENT
END:VCALENDAR