BEGIN:VCALENDAR
VERSION:2.0
PRODID:-//Recapping Everything in Reading, MA - ECPv6.15.20//NONSGML v1.0//EN
CALSCALE:GREGORIAN
METHOD:PUBLISH
X-ORIGINAL-URL:https://www.readingrecap.com
X-WR-CALDESC:Events for Recapping Everything in Reading, MA
REFRESH-INTERVAL;VALUE=DURATION:PT1H
X-Robots-Tag:noindex
X-PUBLISHED-TTL:PT1H
BEGIN:VTIMEZONE
TZID:America/New_York
BEGIN:DAYLIGHT
TZOFFSETFROM:-0500
TZOFFSETTO:-0400
TZNAME:EDT
DTSTART:20210314T070000
END:DAYLIGHT
BEGIN:STANDARD
TZOFFSETFROM:-0400
TZOFFSETTO:-0500
TZNAME:EST
DTSTART:20211107T060000
END:STANDARD
BEGIN:DAYLIGHT
TZOFFSETFROM:-0500
TZOFFSETTO:-0400
TZNAME:EDT
DTSTART:20220313T070000
END:DAYLIGHT
BEGIN:STANDARD
TZOFFSETFROM:-0400
TZOFFSETTO:-0500
TZNAME:EST
DTSTART:20221106T060000
END:STANDARD
BEGIN:DAYLIGHT
TZOFFSETFROM:-0500
TZOFFSETTO:-0400
TZNAME:EDT
DTSTART:20230312T070000
END:DAYLIGHT
BEGIN:STANDARD
TZOFFSETFROM:-0400
TZOFFSETTO:-0500
TZNAME:EST
DTSTART:20231105T060000
END:STANDARD
END:VTIMEZONE
BEGIN:VEVENT
DTSTART;TZID=America/New_York:20220924T190000
DTEND;TZID=America/New_York:20220924T230000
DTSTAMP:20260425T164116
CREATED:20220818T003647Z
LAST-MODIFIED:20220818T003647Z
UID:10000055-1664046000-1664060400@www.readingrecap.com
SUMMARY:Football and Cheer Social Fundraiser
DESCRIPTION:Come join us for the 2022 Season Kickoff Adult Social!! Tickets are limited so act fast!! $30 per person or $250 for Group of 10.
URL:https://www.readingrecap.com/event/football-and-cheer-social-fundraiser/
LOCATION:Wakefield Elks\, 63 Bay State Rd\, Wakefield\, 01880\, United States
CATEGORIES:Fundraiser
ATTACH;FMTTYPE=image/png:https://www.readingrecap.com/wp-content/uploads/2022/08/Reading-Pop-Warner-Flyer.png
ORGANIZER;CN="Reading Pop Warner":MAILTO:jpeledge@yahoo.com
END:VEVENT
END:VCALENDAR