BEGIN:VCALENDAR
VERSION:2.0
PRODID:-//Recapping Everything in Reading, MA - ECPv6.15.20//NONSGML v1.0//EN
CALSCALE:GREGORIAN
METHOD:PUBLISH
X-WR-CALNAME:Recapping Everything in Reading, MA
X-ORIGINAL-URL:https://www.readingrecap.com
X-WR-CALDESC:Events for Recapping Everything in Reading, MA
REFRESH-INTERVAL;VALUE=DURATION:PT1H
X-Robots-Tag:noindex
X-PUBLISHED-TTL:PT1H
BEGIN:VTIMEZONE
TZID:America/New_York
BEGIN:DAYLIGHT
TZOFFSETFROM:-0500
TZOFFSETTO:-0400
TZNAME:EDT
DTSTART:20250309T070000
END:DAYLIGHT
BEGIN:STANDARD
TZOFFSETFROM:-0400
TZOFFSETTO:-0500
TZNAME:EST
DTSTART:20251102T060000
END:STANDARD
BEGIN:DAYLIGHT
TZOFFSETFROM:-0500
TZOFFSETTO:-0400
TZNAME:EDT
DTSTART:20260308T070000
END:DAYLIGHT
BEGIN:STANDARD
TZOFFSETFROM:-0400
TZOFFSETTO:-0500
TZNAME:EST
DTSTART:20261101T060000
END:STANDARD
BEGIN:DAYLIGHT
TZOFFSETFROM:-0500
TZOFFSETTO:-0400
TZNAME:EDT
DTSTART:20270314T070000
END:DAYLIGHT
BEGIN:STANDARD
TZOFFSETFROM:-0400
TZOFFSETTO:-0500
TZNAME:EST
DTSTART:20271107T060000
END:STANDARD
END:VTIMEZONE
BEGIN:VEVENT
DTSTART;TZID=America/New_York:20260309T190000
DTEND;TZID=America/New_York:20260309T210000
DTSTAMP:20260420T034237
CREATED:20260127T202652Z
LAST-MODIFIED:20260127T202652Z
UID:10000900-1773082800-1773090000@www.readingrecap.com
SUMMARY:✡️ Evening with a Holocaust Survivor
DESCRIPTION:Join us on Monday\, March 9\, 2026\, at 7:00 PM at the Reading Memorial High School Auditorium for an unforgettable evening. Holocaust survivor Tibor Spitz\, traveling from Upstate NY for this event\, will share his remarkable story of resilience and hope. The evening will begin with a moving violin performance of the Sound of Schindler’s List\, setting the tone for a night of reflection and inspiration. \nThis is a rare opportunity to hear firsthand from one of the last living Holocaust survivors\, a testament to the strength of the human spirit. Together\, we will honor the past\, reflect on its lessons\, and commit to building a brighter future. \nFor the safety and comfort of all attendees\, security will be present. \nTickets \nTickets are $20 per person\, with a special discounted rate of $10 for students aged 14–18. \nA limited VIP reception is available for $150\, which includes a private meet-and-greet with the survivor at 6:00 pm prior to the program\, along with two front-row seats for the event. Light refreshments will be served. \nCorporate sponsorship opportunities are available\, which include prominent publicity on all event materials\, Please reach out to Rabbi@jewishwakefield.com for more details.
URL:https://www.readingrecap.com/event/%e2%9c%a1%ef%b8%8f-evening-with-a-holocaust-survivor/
LOCATION:Reading Memorial High School\, 62 Oakland Rd\, Reading\, MA\, 01867\, United States
CATEGORIES:Miscellaneous
ATTACH;FMTTYPE=image/jpeg:https://www.readingrecap.com/wp-content/uploads/2026/01/622136515_122237067212118907_872606089835586809_n.webp
END:VEVENT
END:VCALENDAR