BEGIN:VCALENDAR
VERSION:2.0
PRODID:-//Recapping Everything in Reading, MA - ECPv6.15.20//NONSGML v1.0//EN
CALSCALE:GREGORIAN
METHOD:PUBLISH
X-WR-CALNAME:Recapping Everything in Reading, MA
X-ORIGINAL-URL:https://www.readingrecap.com
X-WR-CALDESC:Events for Recapping Everything in Reading, MA
REFRESH-INTERVAL;VALUE=DURATION:PT1H
X-Robots-Tag:noindex
X-PUBLISHED-TTL:PT1H
BEGIN:VTIMEZONE
TZID:America/New_York
BEGIN:DAYLIGHT
TZOFFSETFROM:-0500
TZOFFSETTO:-0400
TZNAME:EDT
DTSTART:20220313T070000
END:DAYLIGHT
BEGIN:STANDARD
TZOFFSETFROM:-0400
TZOFFSETTO:-0500
TZNAME:EST
DTSTART:20221106T060000
END:STANDARD
BEGIN:DAYLIGHT
TZOFFSETFROM:-0500
TZOFFSETTO:-0400
TZNAME:EDT
DTSTART:20230312T070000
END:DAYLIGHT
BEGIN:STANDARD
TZOFFSETFROM:-0400
TZOFFSETTO:-0500
TZNAME:EST
DTSTART:20231105T060000
END:STANDARD
BEGIN:DAYLIGHT
TZOFFSETFROM:-0500
TZOFFSETTO:-0400
TZNAME:EDT
DTSTART:20240310T070000
END:DAYLIGHT
BEGIN:STANDARD
TZOFFSETFROM:-0400
TZOFFSETTO:-0500
TZNAME:EST
DTSTART:20241103T060000
END:STANDARD
END:VTIMEZONE
BEGIN:VEVENT
DTSTART;TZID=America/New_York:20230507T140000
DTEND;TZID=America/New_York:20230507T170000
DTSTAMP:20260424T103323
CREATED:20230505T041637Z
LAST-MODIFIED:20230505T041637Z
UID:10000373-1683468000-1683478800@www.readingrecap.com
SUMMARY:Into the Woods
DESCRIPTION:Tickets are now on sale for Colonial Chorus Players’ production of the Stephen Sondheim modern masterpiece Into the Woods. Into the Woods weaves together familiar characters from several Brothers Grimm fairy tales\, including Cinderella\, Jack (of Beanstalk fame)\, Little Red Ridinghood\, a pair of Princes\, a Witch\, and a Giant (along with a Baker and his Wife) but upends the traditional notion that “once upon a time” always leads to “happily ever after.”\n\n \n\nMusic and Lyrics by Stephen Sondheim\nBook by James Lapine\nDirected by Corey Cadigan\nMusical Direction by Alan Freedman\nProduced by Jennifer Estabrooks\nStage Management by Laura Raynor\n\n \nPerformances\n \n\nFriday\, May 5\, 2023 @ 7 PM\nSaturday\, May 6\, 2023 @ 7 PM\nSunday\, May 7\, 2023 @ 2 PM\n\n \nLocation\n \n\nShepardson Hall at Parker Middle School\n50 Temple Street\, Reading\, MA\nShepardson Hall at Parker Middle School is fully accessible with accessible seating available.\n\n \nTicket Prices\n \n\n$30/Adults\n$25/Seniors & Students\nAll Tickets Reserved Seating\n\n \nPlease Note\n \n\n 	This production runs approximately three hours with one 15-minute intermission\, and may contain content not suitable for all audiences.\n \n 	Because food and beverages are not permitted in Shepardson Hall\, water only will be available in the Lobby. Thanks for your understanding.\n\n \nHow to Purchase Tickets\n \n\nOnline Here\n\n \n\nWhen ordering online\, the ticket service adds a handling fee of $2.00 per ticket. For shows with reserved seating\, you will be able to select your seats online.\n\n \n\nBox Office:\n\n \n\nRemaining seats will be sold at the door. When a performance sells out\, we announce it on social media and through the Facebook feed on our website. For shows at the Hose House\, the Box Office opens 30 minutes before showtime. For shows at Shepardson Hall at Parker Middle School\, the Box Office opens one hour before showtime. Cash\, check\, or Venmo only at the Box Office. Sorry\, no credit cards.
URL:https://www.readingrecap.com/event/into-the-woods/2023-05-07/
LOCATION:Walter S. Parker Middle School\, 45 Temple Street\, Reading\, MA\, 01867\, United States
CATEGORIES:Entertainment
ATTACH;FMTTYPE=image/jpeg:https://www.readingrecap.com/wp-content/uploads/2023/05/Into-the-Woods-CCP.jpg
ORGANIZER;CN="Colonial Chorus Players":MAILTO:colonialchorusplayers@gmail.com
END:VEVENT
BEGIN:VEVENT
DTSTART;TZID=America/New_York:20230506T190000
DTEND;TZID=America/New_York:20230506T220000
DTSTAMP:20260424T103323
CREATED:20230505T041637Z
LAST-MODIFIED:20230505T041637Z
UID:10000372-1683399600-1683410400@www.readingrecap.com
SUMMARY:Into the Woods
DESCRIPTION:Tickets are now on sale for Colonial Chorus Players’ production of the Stephen Sondheim modern masterpiece Into the Woods. Into the Woods weaves together familiar characters from several Brothers Grimm fairy tales\, including Cinderella\, Jack (of Beanstalk fame)\, Little Red Ridinghood\, a pair of Princes\, a Witch\, and a Giant (along with a Baker and his Wife) but upends the traditional notion that “once upon a time” always leads to “happily ever after.”\n\n \n\nMusic and Lyrics by Stephen Sondheim\nBook by James Lapine\nDirected by Corey Cadigan\nMusical Direction by Alan Freedman\nProduced by Jennifer Estabrooks\nStage Management by Laura Raynor\n\n \nPerformances\n \n\nFriday\, May 5\, 2023 @ 7 PM\nSaturday\, May 6\, 2023 @ 7 PM\nSunday\, May 7\, 2023 @ 2 PM\n\n \nLocation\n \n\nShepardson Hall at Parker Middle School\n50 Temple Street\, Reading\, MA\nShepardson Hall at Parker Middle School is fully accessible with accessible seating available.\n\n \nTicket Prices\n \n\n$30/Adults\n$25/Seniors & Students\nAll Tickets Reserved Seating\n\n \nPlease Note\n \n\n 	This production runs approximately three hours with one 15-minute intermission\, and may contain content not suitable for all audiences.\n \n 	Because food and beverages are not permitted in Shepardson Hall\, water only will be available in the Lobby. Thanks for your understanding.\n\n \nHow to Purchase Tickets\n \n\nOnline Here\n\n \n\nWhen ordering online\, the ticket service adds a handling fee of $2.00 per ticket. For shows with reserved seating\, you will be able to select your seats online.\n\n \n\nBox Office:\n\n \n\nRemaining seats will be sold at the door. When a performance sells out\, we announce it on social media and through the Facebook feed on our website. For shows at the Hose House\, the Box Office opens 30 minutes before showtime. For shows at Shepardson Hall at Parker Middle School\, the Box Office opens one hour before showtime. Cash\, check\, or Venmo only at the Box Office. Sorry\, no credit cards.
URL:https://www.readingrecap.com/event/into-the-woods/2023-05-06/
LOCATION:Walter S. Parker Middle School\, 45 Temple Street\, Reading\, MA\, 01867\, United States
CATEGORIES:Entertainment
ATTACH;FMTTYPE=image/jpeg:https://www.readingrecap.com/wp-content/uploads/2023/05/Into-the-Woods-CCP.jpg
ORGANIZER;CN="Colonial Chorus Players":MAILTO:colonialchorusplayers@gmail.com
END:VEVENT
BEGIN:VEVENT
DTSTART;TZID=America/New_York:20230505T190000
DTEND;TZID=America/New_York:20230505T220000
DTSTAMP:20260424T103323
CREATED:20230505T041637Z
LAST-MODIFIED:20230505T041637Z
UID:10000371-1683313200-1683324000@www.readingrecap.com
SUMMARY:Into the Woods
DESCRIPTION:Tickets are now on sale for Colonial Chorus Players’ production of the Stephen Sondheim modern masterpiece Into the Woods. Into the Woods weaves together familiar characters from several Brothers Grimm fairy tales\, including Cinderella\, Jack (of Beanstalk fame)\, Little Red Ridinghood\, a pair of Princes\, a Witch\, and a Giant (along with a Baker and his Wife) but upends the traditional notion that “once upon a time” always leads to “happily ever after.”\n\n \n\nMusic and Lyrics by Stephen Sondheim\nBook by James Lapine\nDirected by Corey Cadigan\nMusical Direction by Alan Freedman\nProduced by Jennifer Estabrooks\nStage Management by Laura Raynor\n\n \nPerformances\n \n\nFriday\, May 5\, 2023 @ 7 PM\nSaturday\, May 6\, 2023 @ 7 PM\nSunday\, May 7\, 2023 @ 2 PM\n\n \nLocation\n \n\nShepardson Hall at Parker Middle School\n50 Temple Street\, Reading\, MA\nShepardson Hall at Parker Middle School is fully accessible with accessible seating available.\n\n \nTicket Prices\n \n\n$30/Adults\n$25/Seniors & Students\nAll Tickets Reserved Seating\n\n \nPlease Note\n \n\n 	This production runs approximately three hours with one 15-minute intermission\, and may contain content not suitable for all audiences.\n \n 	Because food and beverages are not permitted in Shepardson Hall\, water only will be available in the Lobby. Thanks for your understanding.\n\n \nHow to Purchase Tickets\n \n\nOnline Here\n\n \n\nWhen ordering online\, the ticket service adds a handling fee of $2.00 per ticket. For shows with reserved seating\, you will be able to select your seats online.\n\n \n\nBox Office:\n\n \n\nRemaining seats will be sold at the door. When a performance sells out\, we announce it on social media and through the Facebook feed on our website. For shows at the Hose House\, the Box Office opens 30 minutes before showtime. For shows at Shepardson Hall at Parker Middle School\, the Box Office opens one hour before showtime. Cash\, check\, or Venmo only at the Box Office. Sorry\, no credit cards.
URL:https://www.readingrecap.com/event/into-the-woods/2023-05-05/
LOCATION:Walter S. Parker Middle School\, 45 Temple Street\, Reading\, MA\, 01867\, United States
CATEGORIES:Entertainment
ATTACH;FMTTYPE=image/jpeg:https://www.readingrecap.com/wp-content/uploads/2023/05/Into-the-Woods-CCP.jpg
ORGANIZER;CN="Colonial Chorus Players":MAILTO:colonialchorusplayers@gmail.com
END:VEVENT
END:VCALENDAR