BEGIN:VCALENDAR
VERSION:2.0
PRODID:-//Recapping Everything in Reading, MA - ECPv6.15.20//NONSGML v1.0//EN
CALSCALE:GREGORIAN
METHOD:PUBLISH
X-WR-CALNAME:Recapping Everything in Reading, MA
X-ORIGINAL-URL:https://www.readingrecap.com
X-WR-CALDESC:Events for Recapping Everything in Reading, MA
REFRESH-INTERVAL;VALUE=DURATION:PT1H
X-Robots-Tag:noindex
X-PUBLISHED-TTL:PT1H
BEGIN:VTIMEZONE
TZID:America/New_York
BEGIN:DAYLIGHT
TZOFFSETFROM:-0500
TZOFFSETTO:-0400
TZNAME:EDT
DTSTART:20240310T070000
END:DAYLIGHT
BEGIN:STANDARD
TZOFFSETFROM:-0400
TZOFFSETTO:-0500
TZNAME:EST
DTSTART:20241103T060000
END:STANDARD
BEGIN:DAYLIGHT
TZOFFSETFROM:-0500
TZOFFSETTO:-0400
TZNAME:EDT
DTSTART:20250309T070000
END:DAYLIGHT
BEGIN:STANDARD
TZOFFSETFROM:-0400
TZOFFSETTO:-0500
TZNAME:EST
DTSTART:20251102T060000
END:STANDARD
BEGIN:DAYLIGHT
TZOFFSETFROM:-0500
TZOFFSETTO:-0400
TZNAME:EDT
DTSTART:20260308T070000
END:DAYLIGHT
BEGIN:STANDARD
TZOFFSETFROM:-0400
TZOFFSETTO:-0500
TZNAME:EST
DTSTART:20261101T060000
END:STANDARD
END:VTIMEZONE
BEGIN:VEVENT
DTSTART;TZID=America/New_York:20251004T083000
DTEND;TZID=America/New_York:20251004T103000
DTSTAMP:20260425T094257
CREATED:20250903T133201Z
LAST-MODIFIED:20250903T133201Z
UID:10000851-1759566600-1759573800@www.readingrecap.com
SUMMARY:🐦 Bird Walk in the Reading Town Forest led by Dave Williams
DESCRIPTION:Are you curious about the avian residents of the Reading Town Forest\, and the seasonal visitors who stop by while migrating? Join us for a Bird Walk in the Reading Town Forest – led by Dave Williams! \n\nWhen: October 4th Time: 8:30 AM to 10:30 AM\nWhere: Meet in the Grove Street Parking Lot binoculars (if you have them)\, & comfortable walking shoes.\nWho: Open to all ages and abilities\n\nRSVP here: https://www.signupgenius.com/go/9040E4CA5A92AA75-58286349-bird#/ \nDave Williams taught middle school science for 37 years and has been bird watching for more than 40 years. He leads bird walks for the Brookline Bird Club and MA Audubon and is a past President of the Brookline Bird Club. He is a graduate of the MA Audubon Birder’s Certificate Program and has attended National Audubon’s Field Ornithology program on Hog Island\, ME.  \nSponsored By the Town Forest Committee
URL:https://www.readingrecap.com/event/%f0%9f%90%a6-bird-walk-in-the-reading-town-forest-led-by-dave-williams/
LOCATION:Town Forest (Strout Ave)\, Strout Ave\, Reading\, MA\, 01867\, United States
CATEGORIES:Miscellaneous,Town Forest
ATTACH;FMTTYPE=image/png:https://www.readingrecap.com/wp-content/uploads/2025/09/Curious-about-the-avian-residents-of-the-Reading-Town-Forest-and-the-seasonal-visitors-who-stop-by-while-migrating-scaled.webp
ORGANIZER;CN="Town Forest Committee":MAILTO:TownForest@ci.reading.ma.us
END:VEVENT
END:VCALENDAR