BEGIN:VCALENDAR
VERSION:2.0
PRODID:-//Recapping Everything in Reading, MA - ECPv6.15.20//NONSGML v1.0//EN
CALSCALE:GREGORIAN
METHOD:PUBLISH
X-WR-CALNAME:Recapping Everything in Reading, MA
X-ORIGINAL-URL:https://www.readingrecap.com
X-WR-CALDESC:Events for Recapping Everything in Reading, MA
REFRESH-INTERVAL;VALUE=DURATION:PT1H
X-Robots-Tag:noindex
X-PUBLISHED-TTL:PT1H
BEGIN:VTIMEZONE
TZID:America/New_York
BEGIN:DAYLIGHT
TZOFFSETFROM:-0500
TZOFFSETTO:-0400
TZNAME:EDT
DTSTART:20240310T070000
END:DAYLIGHT
BEGIN:STANDARD
TZOFFSETFROM:-0400
TZOFFSETTO:-0500
TZNAME:EST
DTSTART:20241103T060000
END:STANDARD
BEGIN:DAYLIGHT
TZOFFSETFROM:-0500
TZOFFSETTO:-0400
TZNAME:EDT
DTSTART:20250309T070000
END:DAYLIGHT
BEGIN:STANDARD
TZOFFSETFROM:-0400
TZOFFSETTO:-0500
TZNAME:EST
DTSTART:20251102T060000
END:STANDARD
BEGIN:DAYLIGHT
TZOFFSETFROM:-0500
TZOFFSETTO:-0400
TZNAME:EDT
DTSTART:20260308T070000
END:DAYLIGHT
BEGIN:STANDARD
TZOFFSETFROM:-0400
TZOFFSETTO:-0500
TZNAME:EST
DTSTART:20261101T060000
END:STANDARD
END:VTIMEZONE
BEGIN:VEVENT
DTSTART;TZID=America/New_York:20250402T190000
DTEND;TZID=America/New_York:20250402T210000
DTSTAMP:20260425T072859
CREATED:20250320T230607Z
LAST-MODIFIED:20250320T230607Z
UID:10000797-1743620400-1743627600@www.readingrecap.com
SUMMARY:📆 Joint Community Forums: Killam School & Reading Center for Active Living
DESCRIPTION:Join town officials and project leaders as they come together to host two joint forums on the projects coming before the community this Spring: The Killam School Building Project and the Reading Center for Active Living (ReCAL) project.\n\n \n\nThe first forum will be held in-person on Wednesday\, April 2 at 7pm at the RMHS Performing Arts Center.  The second forum will be held virtually on Zoom on Wednesday April 16 at 7pm.\n\n \n\nBoth forums will cover the Killam School and ReCAL projects and the anticipated financial impact for residents.\n\n \n\nSee additional information about both projects here: https://www.readingma.gov/963/Improving-Reading.
URL:https://www.readingrecap.com/event/%f0%9f%93%86-joint-community-forums-killam-school-reading-center-for-active-living/
LOCATION:Reading Memorial High School\, 62 Oakland Rd\, Reading\, MA\, 01867\, United States
CATEGORIES:Forum,Town Government
ATTACH;FMTTYPE=image/jpeg:https://www.readingrecap.com/wp-content/uploads/2025/03/KillamRecal.jpg
END:VEVENT
BEGIN:VEVENT
DTSTART;TZID=America/New_York:20250408T070000
DTEND;TZID=America/New_York:20250408T200000
DTSTAMP:20260425T072859
CREATED:20250305T154551Z
LAST-MODIFIED:20250305T154551Z
UID:10000790-1744095600-1744142400@www.readingrecap.com
SUMMARY:🗳️ Local Town Election Day
DESCRIPTION:April 8\, 2025 Local Town Election Information \n7:00 AM to 8:00 PM – Reading Memorial High School Field House \n\nDeadline to request a vote by mail ballot to be mailed is by 5:00 PM on April 1st.\nDeadline to request an absentee ballot to be mailed is by 5:00 PM on April 1st.\nDeadline to request an absentee ballot in person is by 12:00 PM on April 7th.\nLast day to Register to Vote – by 5:00 PM on March 29th.\nIn-Person Early Voting will be March 31st to April 3rd at Reading Town Hall\n\nMonday March 31st – 8:30 AM to 5:30 PM\nTuesday April 1st – 8:30 AM to 7:00 PM\nWednesday April 2nd – 8:30 AM to 5:30 PM\nThursday April 4th – 8:30 AM to 5:30 PM\n\n\n\nRegister to Vote Online \nRegister to Vote Application (PDF) \nVote By Mail Application (PDF) \nRequest Vote By Mail Ballot Online \nAbsentee Ballot Application (PDF) \n 
URL:https://www.readingrecap.com/event/%f0%9f%97%b3%ef%b8%8f-local-town-election-day/
LOCATION:Hawkes Field House at Reading Memorial High School\, 62 Oakland Road\, Reading\, MA
CATEGORIES:Elections
ATTACH;FMTTYPE=image/jpeg:https://www.readingrecap.com/wp-content/uploads/2024/05/Vote-Field-House11.jpg
END:VEVENT
BEGIN:VEVENT
DTSTART;TZID=America/New_York:20250409T193000
DTEND;TZID=America/New_York:20250409T213000
DTSTAMP:20260425T072859
CREATED:20250327T133956Z
LAST-MODIFIED:20250408T032940Z
UID:10000800-1744227000-1744234200@www.readingrecap.com
SUMMARY:🎨 Reading Art Association April 9 Painting Demonstration
DESCRIPTION:On April 9\, 2025 the Reading Art Association will host a demonstration by Andrew Anderson-Bell. Andrew will demonstrate his pastel landscape technique. \nThe meeting will be held in Guild Hall\, First Congregational Church (middle side door)\, Sanborn Street\, Reading\, Wednesday April 9\, 2025 at 7:30 p.m. \nMore information about Andrew and this demo is available on the RAA website. \nhttp://www.readingart.org/apr2025demo.shtml \nYou can see some of Andrew’s work at his website: https://www.anderson-bellstudio.com/
URL:https://www.readingrecap.com/event/reading-art-association-april-9-painting-demonstration/
LOCATION:First Congregational Church\, 25 Woburn Street\, Reading MA\, 01867
CATEGORIES:Arts
ATTACH;FMTTYPE=image/png:https://www.readingrecap.com/wp-content/uploads/2025/03/RAAPblicityApr2025Demo.png
ORGANIZER;CN="Reading Art Association":MAILTO:webmaster@readingart.org
END:VEVENT
BEGIN:VEVENT
DTSTART;TZID=America/New_York:20250410T181500
DTEND;TZID=America/New_York:20250410T200000
DTSTAMP:20260425T072859
CREATED:20250404T225958Z
LAST-MODIFIED:20250404T225958Z
UID:10000803-1744308900-1744315200@www.readingrecap.com
SUMMARY:📽️ CodeSwitching: Race and Identity in the Suburban Schoolhouse
DESCRIPTION:CodeSwitching: Race and Identity in the Suburban Schoolhouse an intimate portrayal of self-identity\, race\, gender\, and education by Mike Mascoll
URL:https://www.readingrecap.com/event/%f0%9f%93%bd%ef%b8%8f-codeswitching-race-and-identity-in-the-suburban-schoolhouse/
LOCATION:Reading Memorial High School\, 62 Oakland Rd\, Reading\, MA\, 01867\, United States
CATEGORIES:Entertainment,METCO
ATTACH;FMTTYPE=image/jpeg:https://www.readingrecap.com/wp-content/uploads/2025/04/488316537_1097946812361042_1215505919889109310_n.jpg
END:VEVENT
BEGIN:VEVENT
DTSTART;TZID=America/New_York:20250412T190000
DTEND;TZID=America/New_York:20250412T220000
DTSTAMP:20260425T072859
CREATED:20250305T145216Z
LAST-MODIFIED:20250305T145216Z
UID:10000788-1744484400-1744495200@www.readingrecap.com
SUMMARY:🦁 Reading Lions Comedy Night 2025
DESCRIPTION:You’ll roar with laughter at the Reading Lions Comedy Night on April 12! \n \n\nEnjoy a night out with your friends\, family\, and the Lions! The Reading Lions Comedy Night returns to The Wakefield Elks with some of the funniest local comedians on Saturday\, April 12.\n\n \n\nThis year’s outstanding lineup includes a winner of the Boston Festival and guest on Late Night with Conan O’Brien\, Paul Nardizzi\, as well as Jason Merrill\, a rising star bringing us the laughter we all need\, and finally\, the Man Mountain himself\, Dan Donahue. Hosted by Dave Rattigan\, you’ll enjoy a night of big laughs\, fun raffles\, BYOF\, and a cash bar —\ngather up your family\, neighbors\, and friends and get your tickets today.\n\n \n\nThe evening’s proceeds fund Lions charities which support our community via the Food Pantry\, scholarships\, wellness exams\, vision care\, and more.\n\n \n\nTickets are available from your friendly Reading Lions Club member for $25 each\, tables seat 8 for $200. Mark your calendar and we’ll see you there!\n\n \n\n\n\n \n\nThe Reading Lions Club has proudly served the community of Reading and other surrounding towns for more than 75 years. Our fundraisers support Mass Lions Eye Research\, Reading Food Pantry\, and many others. There are few feelings in life that are as great as being able to help those in need\, and to do it with a fun\, dedicated
URL:https://www.readingrecap.com/event/%f0%9f%a6%81-reading-lions-comedy-night-2025/
LOCATION:Wakefield Elks\, 63 Bay State Rd\, Wakefield\, 01880\, United States
CATEGORIES:Entertainment,Fundraiser
ATTACH;FMTTYPE=image/jpeg:https://www.readingrecap.com/wp-content/uploads/2025/03/2025-Lions-Comedy-Night-April_12.jpg
ORGANIZER;CN="Reading Lions Club":MAILTO:info@readinglionsclub.org
END:VEVENT
BEGIN:VEVENT
DTSTART;TZID=America/New_York:20250416T190000
DTEND;TZID=America/New_York:20250416T210000
DTSTAMP:20260425T072859
CREATED:20250320T230713Z
LAST-MODIFIED:20250320T230713Z
UID:10000798-1744830000-1744837200@www.readingrecap.com
SUMMARY:📆 Joint Community Forums: Killam School & Reading Center for Active Living
DESCRIPTION:Join town officials and project leaders as they come together to host two joint forums on the projects coming before the community this Spring: The Killam School Building Project and the Reading Center for Active Living (ReCAL) project. \n\n\n\nThe first forum will be held in-person on Wednesday\, April 2 at 7pm at the RMHS Performing Arts Center.  The second forum will be held virtually on Zoom on Wednesday April 16 at 7pm. \n\n\n\nBoth forums will cover the Killam School and ReCAL projects and the anticipated financial impact for residents. \n\n\n\nSee additional information about both projects here: https://www.readingma.gov/963/Improving-Reading.
URL:https://www.readingrecap.com/event/%f0%9f%93%86-joint-community-forums-killam-school-reading-center-for-active-living-2/
LOCATION:Virtual / online
CATEGORIES:Forum,Town Government
ATTACH;FMTTYPE=image/jpeg:https://www.readingrecap.com/wp-content/uploads/2025/03/KillamRecal.jpg
END:VEVENT
END:VCALENDAR