BEGIN:VCALENDAR
VERSION:2.0
PRODID:-//Recapping Everything in Reading, MA - ECPv6.15.20//NONSGML v1.0//EN
CALSCALE:GREGORIAN
METHOD:PUBLISH
X-ORIGINAL-URL:https://www.readingrecap.com
X-WR-CALDESC:Events for Recapping Everything in Reading, MA
REFRESH-INTERVAL;VALUE=DURATION:PT1H
X-Robots-Tag:noindex
X-PUBLISHED-TTL:PT1H
BEGIN:VTIMEZONE
TZID:America/New_York
BEGIN:DAYLIGHT
TZOFFSETFROM:-0500
TZOFFSETTO:-0400
TZNAME:EDT
DTSTART:20210314T070000
END:DAYLIGHT
BEGIN:STANDARD
TZOFFSETFROM:-0400
TZOFFSETTO:-0500
TZNAME:EST
DTSTART:20211107T060000
END:STANDARD
BEGIN:DAYLIGHT
TZOFFSETFROM:-0500
TZOFFSETTO:-0400
TZNAME:EDT
DTSTART:20220313T070000
END:DAYLIGHT
BEGIN:STANDARD
TZOFFSETFROM:-0400
TZOFFSETTO:-0500
TZNAME:EST
DTSTART:20221106T060000
END:STANDARD
BEGIN:DAYLIGHT
TZOFFSETFROM:-0500
TZOFFSETTO:-0400
TZNAME:EDT
DTSTART:20230312T070000
END:DAYLIGHT
BEGIN:STANDARD
TZOFFSETFROM:-0400
TZOFFSETTO:-0500
TZNAME:EST
DTSTART:20231105T060000
END:STANDARD
BEGIN:DAYLIGHT
TZOFFSETFROM:-0500
TZOFFSETTO:-0400
TZNAME:EDT
DTSTART:20240310T070000
END:DAYLIGHT
BEGIN:STANDARD
TZOFFSETFROM:-0400
TZOFFSETTO:-0500
TZNAME:EST
DTSTART:20241103T060000
END:STANDARD
BEGIN:DAYLIGHT
TZOFFSETFROM:-0500
TZOFFSETTO:-0400
TZNAME:EDT
DTSTART:20250309T070000
END:DAYLIGHT
BEGIN:STANDARD
TZOFFSETFROM:-0400
TZOFFSETTO:-0500
TZNAME:EST
DTSTART:20251102T060000
END:STANDARD
BEGIN:DAYLIGHT
TZOFFSETFROM:-0500
TZOFFSETTO:-0400
TZNAME:EDT
DTSTART:20260308T070000
END:DAYLIGHT
BEGIN:STANDARD
TZOFFSETFROM:-0400
TZOFFSETTO:-0500
TZNAME:EST
DTSTART:20261101T060000
END:STANDARD
END:VTIMEZONE
BEGIN:VEVENT
DTSTART;TZID=America/New_York:20251028T160000
DTEND;TZID=America/New_York:20251028T173000
DTSTAMP:20260421T073435
CREATED:20250821T163632Z
LAST-MODIFIED:20250821T163632Z
UID:10000847-1761667200-1761672600@www.readingrecap.com
SUMMARY:🍬 Downtown Trick or Treat
DESCRIPTION:Downtown Trick or Treat from 4pm – 5:30pm on October 28th.
URL:https://www.readingrecap.com/event/%f0%9f%8d%ac-downtown-trick-or-treat/
LOCATION:Downtown Reading\, 610 Main Street\, Reading\, MA\, 01867\, United States
CATEGORIES:Holiday,Recreation Division
ATTACH;FMTTYPE=image/jpeg:https://www.readingrecap.com/wp-content/uploads/2025/08/536278283_798634625838094_6867026813217722052_n.webp
ORGANIZER;CN="Reading Recreation Division":MAILTO:recreation@ci.reading.ma.us
END:VEVENT
BEGIN:VEVENT
DTSTART;TZID=America/New_York:20250314T180000
DTEND;TZID=America/New_York:20250314T200000
DTSTAMP:20260421T073435
CREATED:20250308T150456Z
LAST-MODIFIED:20250308T150456Z
UID:10000793-1741975200-1741982400@www.readingrecap.com
SUMMARY:🕺FORR Annual Daddy Daughter Dance 💃
DESCRIPTION:Get ready for a night of fun and memories at the Hawkes Field House at Reading Memorial High School. Join us for a night of music\, dancing\, and creating unforgettable moments on Friday\, March 14 · 6 – 8pm. \nLight refreshments and snacks will also be available for purchase ($1 each); as always\, proceeds from this event will benefit the Fireworks at Reading Town Day in June 2025. \nWe will also have a photobooth to help you capture the amazing night of memories. \nDon’t miss out on this chance to make lasting memories with your little ones. \nTo simplify ticketing this year\, all tickets are $20; this covers a guardian and their daughters. \nWe can’t wait to see you there! \nTickets will also be available at the door if you would like to avoid the Eventbrite service fees. \nHere is the link to the Eventbrite page: https://www.eventbrite.com/e/2025-friends-of-reading-rec-annual-daddydaughter-dance-tickets-1253029367569
URL:https://www.readingrecap.com/event/%f0%9f%95%baforr-annual-daddy-daughter-dance-%f0%9f%92%83/
LOCATION:Hawkes Field House at Reading Memorial High School\, 62 Oakland Road\, Reading\, MA
CATEGORIES:Entertainment,Recreation Division
ATTACH;FMTTYPE=image/jpeg:https://www.readingrecap.com/wp-content/uploads/2025/03/Dance-2025.jpg
END:VEVENT
BEGIN:VEVENT
DTSTART;TZID=America/New_York:20250225T183000
DTEND;TZID=America/New_York:20250225T200000
DTSTAMP:20260421T073435
CREATED:20250219T170536Z
LAST-MODIFIED:20250219T170536Z
UID:10000770-1740508200-1740513600@www.readingrecap.com
SUMMARY:🌳 Birch Meadow Phase II Public Forum
DESCRIPTION:The Town of Reading will be holding a Public Forum on Tuesday February 25th\, 2025\, at 6:30 for the Birch Meadow Phase II Project\, located off Bancroft Ave. This project is part of the Birch Meadow Master Plan and will include renovations to the two basketball courts\, the tot lot playground\, and additional parking on Bancroft Ave.\n\n \n\nIf you’re interested in learning more about the impact of this project or have any questions\, we encourage you to attend the meeting in person\, in the Town Hall conference e room or via Zoom. Link here: https://us06web.zoom.us/j/89984900072…\n\n \n\nIf you have any questions prior to the meeting\, please reach out directly to Recreation Administrator Jim Sullivan at jsullivan@readingma.gov.
URL:https://www.readingrecap.com/event/%f0%9f%8c%b3-birch-meadow-phase-ii-public-forum/
LOCATION:Town Hall\, 16 Lowell Street\, Reading\, MA\, 01867\, United States
CATEGORIES:Forum,Recreation Division
ATTACH;FMTTYPE=image/jpeg:https://www.readingrecap.com/wp-content/uploads/2025/02/Birch-forum.jpg
ORGANIZER;CN="Reading Recreation Division":MAILTO:recreation@ci.reading.ma.us
END:VEVENT
BEGIN:VEVENT
DTSTART;TZID=America/New_York:20240626T160000
DTEND;TZID=America/New_York:20240626T180000
DTSTAMP:20260421T073435
CREATED:20240502T010643Z
LAST-MODIFIED:20240502T010643Z
UID:10000686-1719417600-1719424800@www.readingrecap.com
SUMMARY:🍦 Gelato and Suncatchers
DESCRIPTION:Join us as we kick off the summer by enjoying homemade Gelato from the Frisky Cow and making beautiful plant sun-catchers! \n$5.00 per person\nSeniors (age 60+) are free! 
URL:https://www.readingrecap.com/event/%f0%9f%8d%a6-gelato-and-suncatchers/
LOCATION:Pleasant Street Center\, 49 Pleasant Street\, Reading\, MA\, 01867\, United States
CATEGORIES:Elder and Human Services,Recreation Division
ATTACH;FMTTYPE=image/jpeg:https://www.readingrecap.com/wp-content/uploads/2024/05/Gelato.jpg
ORGANIZER;CN="Reading Recreation Division":MAILTO:recreation@ci.reading.ma.us
END:VEVENT
BEGIN:VEVENT
DTSTART;TZID=America/New_York:20240615T210000
DTEND;TZID=America/New_York:20240615T220000
DTSTAMP:20260421T073435
CREATED:20240522T132812Z
LAST-MODIFIED:20240522T132812Z
UID:10000691-1718485200-1718488800@www.readingrecap.com
SUMMARY:🎆 Annual Friends of Reading Recreation Fireworks
DESCRIPTION:Reading’s Annual Friends of Reading Recreation Fireworks will take place on Saturday\, June 15!\nWe will also be live streaming the fireworks again this year. A link for that will be posted closer to the event.
URL:https://www.readingrecap.com/event/%f0%9f%8e%86-annual-friends-of-reading-recreation-fireworks/
LOCATION:Birch Meadow Park\, Birch Meadow Park\, Reading\, MA\, 01867\, United States
CATEGORIES:Entertainment,Recreation Division
ATTACH;FMTTYPE=image/jpeg:https://www.readingrecap.com/wp-content/uploads/2023/06/Fireworks1.jpg
END:VEVENT
BEGIN:VEVENT
DTSTART;TZID=America/New_York:20240405T180000
DTEND;TZID=America/New_York:20240405T200000
DTSTAMP:20260421T073435
CREATED:20240314T164341Z
LAST-MODIFIED:20240314T164341Z
UID:10000664-1712340000-1712347200@www.readingrecap.com
SUMMARY:🪩 2024 Friends of Reading Rec Annual Daddy/Daughter Dance
DESCRIPTION:Join us at the 2024 Friends of Reading Rec Annual Daddy Daughter Dance for a night of fun\, laughter\, and unforgettable memories! \nApril 5\, 2024 from 6-8pm.
URL:https://www.readingrecap.com/event/%f0%9f%aa%a9-2024-friends-of-reading-rec-annual-daddy-daughter-dance/
LOCATION:Hawkes Field House at Reading Memorial High School\, 62 Oakland Road\, Reading\, MA
CATEGORIES:Fundraiser,Recreation Division
ATTACH;FMTTYPE=image/jpeg:https://www.readingrecap.com/wp-content/uploads/2024/03/FORR-dance.jpeg
END:VEVENT
BEGIN:VEVENT
DTSTART;TZID=America/New_York:20231024T160000
DTEND;TZID=America/New_York:20231024T173000
DTSTAMP:20260421T073435
CREATED:20230823T183252Z
LAST-MODIFIED:20230824T123002Z
UID:10000433-1698163200-1698168600@www.readingrecap.com
SUMMARY:🍬 Downtown Trick or Treat
DESCRIPTION:Downtown Trick or Treat from 4pm – 5:30pm on October 24th.
URL:https://www.readingrecap.com/event/%f0%9f%8e%83-downtown-trick-or-treat/
LOCATION:Downtown Reading\, 610 Main Street\, Reading\, MA\, 01867\, United States
CATEGORIES:Holiday,Recreation Division
ATTACH;FMTTYPE=image/jpeg:https://www.readingrecap.com/wp-content/uploads/2023/08/Downtown-Trick-or-Treat-2023.jpg
ORGANIZER;CN="Reading Recreation Division":MAILTO:recreation@ci.reading.ma.us
END:VEVENT
BEGIN:VEVENT
DTSTART;TZID=America/New_York:20231012T160000
DTEND;TZID=America/New_York:20231012T170000
DTSTAMP:20260421T073435
CREATED:20230824T122939Z
LAST-MODIFIED:20230824T122939Z
UID:10000438-1697126400-1697130000@www.readingrecap.com
SUMMARY:🎃 Pumpkin String Art
DESCRIPTION:
URL:https://www.readingrecap.com/event/%f0%9f%8e%83-pumpkin-string-art/
LOCATION:Pleasant Street Center\, 49 Pleasant Street\, Reading\, MA\, 01867\, United States
CATEGORIES:Elder and Human Services,Recreation Division
ATTACH;FMTTYPE=image/jpeg:https://www.readingrecap.com/wp-content/uploads/2023/08/Pumpkin-Pleasant.jpg
ORGANIZER;CN="Reading Recreation Division":MAILTO:recreation@ci.reading.ma.us
END:VEVENT
BEGIN:VEVENT
DTSTART;TZID=America/New_York:20230626T180000
DTEND;TZID=America/New_York:20230626T190000
DTSTAMP:20260421T073435
CREATED:20230621T035357Z
LAST-MODIFIED:20230621T040036Z
UID:10000386-1687802400-1687806000@www.readingrecap.com
SUMMARY:Birch Meadow Phase 2 Discussion
DESCRIPTION:Town of Reading Community Forum – Birch Meadow Phase 2 Discussion \nMonday June 26th\, 6:00PM – 7:00 PM \nPleasant Street Center\n49 Pleasant Street\nReading\, MA \nAll interested residents are welcome to view a short presentation and provide feedback to help the Town plan the next phase of the Birch Meadow Master Plan. Information collected will help support a potential application to Massachusetts PARC Grant Program. \nThis will be an in-person meeting. Please contact Community Services Director Jenna Fiorente (jfiorente@ci.reading.ma.us)\, or Economic Development Director Ben Cares (bcares@ci.reading.ma.us) with any questions.
URL:https://www.readingrecap.com/event/birch-meadow-phase-2-discussi/
LOCATION:Pleasant Street Center\, 49 Pleasant Street\, Reading\, MA\, 01867\, United States
CATEGORIES:Recreation Division
ATTACH;FMTTYPE=image/jpeg:https://www.readingrecap.com/wp-content/uploads/2023/06/Birch-Phase-2.jpg
ORGANIZER;CN="Reading Recreation Division":MAILTO:recreation@ci.reading.ma.us
END:VEVENT
BEGIN:VEVENT
DTSTART;TZID=America/New_York:20230511T100000
DTEND;TZID=America/New_York:20230511T130000
DTSTAMP:20260421T073435
CREATED:20230411T151115Z
LAST-MODIFIED:20230411T151115Z
UID:10000342-1683799200-1683810000@www.readingrecap.com
SUMMARY:Health and Community Resource Fair
DESCRIPTION:HEALTH & COMMUNITY RESOURCE FAIR! \nJoin us as we welcome 25+ vendors offering a variety of information\, screenings and giveaways THURSDAY MAY 11\, 2023 From 10:00-1:00pm. \n49 PLEASANT STREET READING\, MA 01867 \nThe Lions Club will be offering hearing and vision screenings including measuring distance visual acuity\, eye pressure\, refractive error and photographing the retina. Be sure to bring your glasses if you wear them.
URL:https://www.readingrecap.com/event/health-and-community-resource-fair/
LOCATION:Pleasant Street Center\, 49 Pleasant Street\, Reading\, MA\, 01867\, United States
CATEGORIES:Elder and Human Services,Recreation Division
ATTACH;FMTTYPE=image/jpeg:https://www.readingrecap.com/wp-content/uploads/2023/04/Health-Faire.jpg
ORGANIZER;CN="Reading Recreation Division":MAILTO:recreation@ci.reading.ma.us
END:VEVENT
BEGIN:VEVENT
DTSTART;TZID=America/New_York:20230221T090000
DTEND;TZID=America/New_York:20230224T150000
DTSTAMP:20260421T073435
CREATED:20230126T053711Z
LAST-MODIFIED:20230126T053711Z
UID:10000220-1676970000-1677250800@www.readingrecap.com
SUMMARY:Reading Rec February Vacation Programs
DESCRIPTION:February Vacation is one month away – but don’t panic! We have a full line-up of full and half day programs to keep everyone busy! Visit ReadingRec.com to register or view full program details. \nPrograms are filling up so make sure to check them out soon!
URL:https://www.readingrecap.com/event/reading-rec-february-vacation-programs/
LOCATION:Coolidge Middle School\, 89 Birch Meadow Dr\, Reading\, MA\, 01867\, United States
CATEGORIES:Recreation Division
ATTACH;FMTTYPE=image/jpeg:https://www.readingrecap.com/wp-content/uploads/2023/01/Reading-Rec-February-Vacation.jpg
ORGANIZER;CN="Reading Recreation Division":MAILTO:recreation@ci.reading.ma.us
END:VEVENT
BEGIN:VEVENT
DTSTART;TZID=America/New_York:20230214T080000
DTEND;TZID=America/New_York:20230214T170000
DTSTAMP:20260421T073435
CREATED:20230126T050915Z
LAST-MODIFIED:20230126T050915Z
UID:10000212-1676361600-1676394000@www.readingrecap.com
SUMMARY:Summer Daycation Registration Opens (Non-Residents)
DESCRIPTION:via the Reading Rec– We know there’s snow in the forecast but our minds are already on summer! Mark your calendars – summer registration for our ever popular Summer Daycation & Jr. Daycation programs opens up on February 7th at 8am for Reading Residents and February 14th at 8am for Non-Residents. \nPricing ranges from $30 – $285 depending on age and residency status. \nAll programs are at Coolidge Middle School\, 89 Birch Meadow Drive. \nView this year’s program details now at ReadingRec.com!
URL:https://www.readingrecap.com/event/summer-daycation-registration-opens-non-residents/
LOCATION:Coolidge Middle School\, 89 Birch Meadow Dr\, Reading\, MA\, 01867\, United States
CATEGORIES:Recreation Division
ATTACH;FMTTYPE=image/jpeg:https://www.readingrecap.com/wp-content/uploads/2023/01/Reading-Rec-Staycation.jpg
ORGANIZER;CN="Reading Recreation Division":MAILTO:recreation@ci.reading.ma.us
END:VEVENT
BEGIN:VEVENT
DTSTART;TZID=America/New_York:20230207T080000
DTEND;TZID=America/New_York:20230207T170000
DTSTAMP:20260421T073435
CREATED:20230126T050805Z
LAST-MODIFIED:20230126T050805Z
UID:10000211-1675756800-1675789200@www.readingrecap.com
SUMMARY:Summer Daycation Registration Opens (Residents)
DESCRIPTION:via the Reading Rec– We know there’s snow in the forecast but our minds are already on summer! Mark your calendars – summer registration for our ever popular Summer Daycation & Jr. Daycation programs opens up on February 7th at 8am for Reading Residents and February 14th at 8am for Non-Residents. \nPricing ranges from $30 – $285 depending on age and residency status. \nAll programs are at Coolidge Middle School\, 89 Birch Meadow Drive. \nView this year’s program details now at ReadingRec.com!
URL:https://www.readingrecap.com/event/summer-daycation-registration-opens-residents/
LOCATION:Coolidge Middle School\, 89 Birch Meadow Dr\, Reading\, MA\, 01867\, United States
CATEGORIES:Recreation Division
ATTACH;FMTTYPE=image/jpeg:https://www.readingrecap.com/wp-content/uploads/2023/01/Reading-Rec-Staycation.jpg
ORGANIZER;CN="Reading Recreation Division":MAILTO:recreation@ci.reading.ma.us
END:VEVENT
BEGIN:VEVENT
DTSTART;VALUE=DATE:20221018
DTEND;VALUE=DATE:20221019
DTSTAMP:20260421T073435
CREATED:20220927T034949Z
LAST-MODIFIED:20220927T034949Z
UID:10000105-1666051200-1666137599@www.readingrecap.com
SUMMARY:Nashoba Ski & Snowboard Program Gr. 3-8
DESCRIPTION:Reading Recreation is pleased to offer the Nashoba Valley Ski and Snowboard Program in 2023! This program will run for five consecutive weeks starting the first week in January. If the program is forced to run into late March\, cancelled sessions cannot be made up and refunds/credits will not be granted by either the Reading Recreation Division or Nashoba Valley Ski Area. \nParents\, please understand that the nature of this program requires participants to behave independently without constant adult supervision. There will be a 15:1 children to chaperone ratio. Nashoba Valley staff is not included in this ratio. If you are interested in volunteering as a monitor\, please contact Arielle Carney at (781) 942-9075 or email acarney@ci.reading.ma.us \nRegistration will open on Tuesday\, October 18th at 8:00AM and will be accepted on a first-come\, first-serve basis. Transportation will take place at the lot across from Coolidge Middle School. Children must arrive no later than 3:15pm and parents must be at the pick-up no later than 6:45pm. The program begins Tuesday\, January 3\, 2023. \nProgram Fees: Lift/Lesson/Transportation – $533\nLift/Transportation – $380 \nRenting Equipment: A separate rental night will be held on Wednesday\, November 30th at the Parker Middle School Cafeteria from 6:00PM-7:00PM. Ski Rental Corp. will fit renters for their ski/snowboard equipment. Please contact Nashoba Valley directly for rental rates. These fees must be paid on the rental night as payment is made directly to Ski Rental Corp. \nREFUND POLICY ~ PLEASE READ!!! ~\nOn or before December 15th:\nRefund minus $10 in the form of a check or a full credit to your Reading Recreation account to use for future Reading Recreation programs.\nAfter December 15th:\nNo refund checks or Reading Recreation account credits will be given for cancellations unless a doctor’s note is provided
URL:https://www.readingrecap.com/event/nashoba-ski-snowboard-program-gr-3-8/
LOCATION:Nashoba Valley Ski Area\, 79 Powers Road\, Westford\, MA\, 01886\, United States
CATEGORIES:Recreation Division
ATTACH;FMTTYPE=image/webp:https://www.readingrecap.com/wp-content/uploads/2022/09/Nashoba-Ski-and-Snowboard.webp
ORGANIZER;CN="Reading Recreation Division":MAILTO:recreation@ci.reading.ma.us
END:VEVENT
END:VCALENDAR