BEGIN:VCALENDAR
VERSION:2.0
PRODID:-//Recapping Everything in Reading, MA - ECPv6.15.20//NONSGML v1.0//EN
CALSCALE:GREGORIAN
METHOD:PUBLISH
X-WR-CALNAME:Recapping Everything in Reading, MA
X-ORIGINAL-URL:https://www.readingrecap.com
X-WR-CALDESC:Events for Recapping Everything in Reading, MA
REFRESH-INTERVAL;VALUE=DURATION:PT1H
X-Robots-Tag:noindex
X-PUBLISHED-TTL:PT1H
BEGIN:VTIMEZONE
TZID:America/New_York
BEGIN:DAYLIGHT
TZOFFSETFROM:-0500
TZOFFSETTO:-0400
TZNAME:EDT
DTSTART:20210314T070000
END:DAYLIGHT
BEGIN:STANDARD
TZOFFSETFROM:-0400
TZOFFSETTO:-0500
TZNAME:EST
DTSTART:20211107T060000
END:STANDARD
BEGIN:DAYLIGHT
TZOFFSETFROM:-0500
TZOFFSETTO:-0400
TZNAME:EDT
DTSTART:20220313T070000
END:DAYLIGHT
BEGIN:STANDARD
TZOFFSETFROM:-0400
TZOFFSETTO:-0500
TZNAME:EST
DTSTART:20221106T060000
END:STANDARD
BEGIN:DAYLIGHT
TZOFFSETFROM:-0500
TZOFFSETTO:-0400
TZNAME:EDT
DTSTART:20230312T070000
END:DAYLIGHT
BEGIN:STANDARD
TZOFFSETFROM:-0400
TZOFFSETTO:-0500
TZNAME:EST
DTSTART:20231105T060000
END:STANDARD
BEGIN:DAYLIGHT
TZOFFSETFROM:-0500
TZOFFSETTO:-0400
TZNAME:EDT
DTSTART:20240310T070000
END:DAYLIGHT
BEGIN:STANDARD
TZOFFSETFROM:-0400
TZOFFSETTO:-0500
TZNAME:EST
DTSTART:20241103T060000
END:STANDARD
END:VTIMEZONE
BEGIN:VEVENT
DTSTART;TZID=America/New_York:20230125T160000
DTEND;TZID=America/New_York:20230125T170000
DTSTAMP:20260421T100349
CREATED:20230105T131240Z
LAST-MODIFIED:20230105T131240Z
UID:10000186-1674662400-1674666000@www.readingrecap.com
SUMMARY:Therapeutic Program for Adults with McFarlane Arts
DESCRIPTION:We all seek meaningful relationships and opportunities for growth and progress in our lives. Adults with developmental disabilities including ASD and I/DD also benefit from the opportunity to express themselves and be heard and understood. This series of programs is designed for adults ages 22+ with disabilities\, including autism spectrum disorder (ASD)\, and intellectual and developmental disabilities (I/DD). They are not respite programs; caregivers are required to attend. \nCome join us in exploring your inner artist in fun and creative ways with local artist Susan McFarlane of McFarlane Arts. You can register for one session or all 6 sessions. \nFor additional information and to register visit the Reading Public Library’s website.
URL:https://www.readingrecap.com/event/therapeutic-program-for-adults-with-mcfarlane-arts/2023-01-25/
LOCATION:Reading Public Library\, 64 Middlesex Ave\, Reading\, MA\, 01867\, United States
CATEGORIES:Elder and Human Services,Reading Public Library
ATTACH;FMTTYPE=image/png:https://www.readingrecap.com/wp-content/uploads/2023/01/FB-Event-McFarlane-Arts-for-Adults.png
END:VEVENT
BEGIN:VEVENT
DTSTART;TZID=America/New_York:20230123T140000
DTEND;TZID=America/New_York:20230123T150000
DTSTAMP:20260421T100349
CREATED:20230107T181826Z
LAST-MODIFIED:20230107T181826Z
UID:10000192-1674482400-1674486000@www.readingrecap.com
SUMMARY:Bird Meetup With Dave Williams!
DESCRIPTION:You’ve learned all about birds\, but do you want to learn more about birds? And share some of your knowledge too? You’re in duck (luck)! Novice birders and experts alike are welcome to attend RPL’s casual Bird Meetups with Dave Williams every other month. These will be informal gatherings where bird-loving folk can gather to learn from each other and share their knowledge. \nRegister below!
URL:https://www.readingrecap.com/event/bird-meetup-with-dave-williams/
LOCATION:Reading Public Library\, 64 Middlesex Ave\, Reading\, MA\, 01867\, United States
CATEGORIES:Reading Public Library
ATTACH;FMTTYPE=image/png:https://www.readingrecap.com/wp-content/uploads/2023/01/FB-Event-Bird-Meetup-1200-×-628-px1.png
END:VEVENT
BEGIN:VEVENT
DTSTART;TZID=America/New_York:20230123T100000
DTEND;TZID=America/New_York:20230123T110000
DTSTAMP:20260421T100349
CREATED:20221228T175714Z
LAST-MODIFIED:20221228T175714Z
UID:10000176-1674468000-1674471600@www.readingrecap.com
SUMMARY:Mystic Valley Elder Services: Getting Specific
DESCRIPTION:Krissy McKeeman is back! And this time She’s bringing some friends. During each session in this three part series\, an expert from Mystic Valley Elder Services will come with Krissy to teach about a specific topic such as avoiding scams\, and tech troubleshooting. They will also talk about services that MVES offers to help in these areas.. \nThe session dates for this series are:Dates & Times:\n10:00am – 11:00am\, Monday\, January 9\, 2023\n10:00am – 11:00am\, Monday\, January 23\, 2023\n10:00am – 11:00am\, Monday\, January 30\, 2023\nYou will automatically be registered for all of the sessions. You do not need to attend all of the session! \nRegister to join this series at the Reading Public Library: https://libcal.readingpl.org/event/9915150
URL:https://www.readingrecap.com/event/mystic-valley-elder-services-getting-specific/2023-01-23/
LOCATION:Reading Public Library\, 64 Middlesex Ave\, Reading\, MA\, 01867\, United States
CATEGORIES:Reading Public Library
ATTACH;FMTTYPE=image/jpeg:https://www.readingrecap.com/wp-content/uploads/2022/12/FB-Event-MVES-Jan.jpg
END:VEVENT
BEGIN:VEVENT
DTSTART;TZID=America/New_York:20230111T190000
DTEND;TZID=America/New_York:20230111T203000
DTSTAMP:20260421T100349
CREATED:20221228T173419Z
LAST-MODIFIED:20221228T173419Z
UID:10000174-1673463600-1673469000@www.readingrecap.com
SUMMARY:RPL Book Group RPL Book Group
DESCRIPTION:The RPL Book Group is a participant-run adult book discussion group that meets to discuss a broad range of book selections\, both fiction and nonfiction. \nJanuary’s featured book is Hamnet by Maggie O’Farrell. \nJoin the discussion by registering using the provided link: https://libcal.readingpl.org/event/9467881
URL:https://www.readingrecap.com/event/rpl-book-group-rpl-book-group/
LOCATION:Reading Public Library\, 64 Middlesex Ave\, Reading\, MA\, 01867\, United States
CATEGORIES:Reading Public Library
ATTACH;FMTTYPE=image/png:https://www.readingrecap.com/wp-content/uploads/2022/12/FB-Event-RPL-Book-Group.png
END:VEVENT
BEGIN:VEVENT
DTSTART;TZID=America/New_York:20230111T160000
DTEND;TZID=America/New_York:20230111T170000
DTSTAMP:20260421T100349
CREATED:20230105T131240Z
LAST-MODIFIED:20230105T131240Z
UID:10000185-1673452800-1673456400@www.readingrecap.com
SUMMARY:Therapeutic Program for Adults with McFarlane Arts
DESCRIPTION:We all seek meaningful relationships and opportunities for growth and progress in our lives. Adults with developmental disabilities including ASD and I/DD also benefit from the opportunity to express themselves and be heard and understood. This series of programs is designed for adults ages 22+ with disabilities\, including autism spectrum disorder (ASD)\, and intellectual and developmental disabilities (I/DD). They are not respite programs; caregivers are required to attend. \nCome join us in exploring your inner artist in fun and creative ways with local artist Susan McFarlane of McFarlane Arts. You can register for one session or all 6 sessions. \nFor additional information and to register visit the Reading Public Library’s website.
URL:https://www.readingrecap.com/event/therapeutic-program-for-adults-with-mcfarlane-arts/2023-01-11/
LOCATION:Reading Public Library\, 64 Middlesex Ave\, Reading\, MA\, 01867\, United States
CATEGORIES:Elder and Human Services,Reading Public Library
ATTACH;FMTTYPE=image/png:https://www.readingrecap.com/wp-content/uploads/2023/01/FB-Event-McFarlane-Arts-for-Adults.png
END:VEVENT
BEGIN:VEVENT
DTSTART;TZID=America/New_York:20230111T153000
DTEND;TZID=America/New_York:20230111T163000
DTSTAMP:20260421T100349
CREATED:20230110T025044Z
LAST-MODIFIED:20230110T025044Z
UID:10000202-1673451000-1673454600@www.readingrecap.com
SUMMARY:TBW: Creative Writing for Teens!
DESCRIPTION:Join our creative writing group TBW: To Be Written \nTeens in grades 8-12 will participate in creative writing exercises and hands on activities. \nMeetings are held once a month on Wednesday at 3:30pm.\nJanuary 11th – Blackout Poetry\nFebruary 8th – Found Poems\nMarch 8th – Three Spread Book \nRegister using the link below.
URL:https://www.readingrecap.com/event/tbw-creative-writing-for-teens/2023-01-11/
LOCATION:Reading Public Library\, 64 Middlesex Ave\, Reading\, MA\, 01867\, United States
CATEGORIES:Reading Public Library
ATTACH;FMTTYPE=image/png:https://www.readingrecap.com/wp-content/uploads/2023/01/FB-Event-TBW1-2.png
END:VEVENT
BEGIN:VEVENT
DTSTART;TZID=America/New_York:20230109T100000
DTEND;TZID=America/New_York:20230109T110000
DTSTAMP:20260421T100349
CREATED:20221228T175714Z
LAST-MODIFIED:20221228T175714Z
UID:10000175-1673258400-1673262000@www.readingrecap.com
SUMMARY:Mystic Valley Elder Services: Getting Specific
DESCRIPTION:Krissy McKeeman is back! And this time She’s bringing some friends. During each session in this three part series\, an expert from Mystic Valley Elder Services will come with Krissy to teach about a specific topic such as avoiding scams\, and tech troubleshooting. They will also talk about services that MVES offers to help in these areas.. \nThe session dates for this series are:Dates & Times:\n10:00am – 11:00am\, Monday\, January 9\, 2023\n10:00am – 11:00am\, Monday\, January 23\, 2023\n10:00am – 11:00am\, Monday\, January 30\, 2023\nYou will automatically be registered for all of the sessions. You do not need to attend all of the session! \nRegister to join this series at the Reading Public Library: https://libcal.readingpl.org/event/9915150
URL:https://www.readingrecap.com/event/mystic-valley-elder-services-getting-specific/2023-01-09/
LOCATION:Reading Public Library\, 64 Middlesex Ave\, Reading\, MA\, 01867\, United States
CATEGORIES:Reading Public Library
ATTACH;FMTTYPE=image/jpeg:https://www.readingrecap.com/wp-content/uploads/2022/12/FB-Event-MVES-Jan.jpg
END:VEVENT
BEGIN:VEVENT
DTSTART;VALUE=DATE:20221207
DTEND;VALUE=DATE:20230301
DTSTAMP:20260421T100349
CREATED:20221207T220336Z
LAST-MODIFIED:20221207T220336Z
UID:10000161-1670371200-1677628799@www.readingrecap.com
SUMMARY:Winter Reading Program-Around the World in 80 Days!
DESCRIPTION:Travel the world without leaving your house! Around the World in 80 Days is our winter reading program for kids and families. Pick up your reading passport\, decide where you want to visit\, and start reading! \nThis program is for all ages and is generously sponsored by the Friends of the Reading Public Library. The challenge is to read 7 books in 80(ish) days\, and have each book be about a different continent. You can read\, listen to an audiobook\, listen to music\, or watch a movie that takes place on different continents. \nFor more information and to see our book lists\, follow the link below\, and then stop by to browse our continental displays. Passports are available in person at the Children’s desk\, or click the passport image on our webpage link to download and print your own at home. \nEvery time you visit a country\, we will stamp the passport. Once you finish all 7\, pick up your prize at the Children’s Desk! Have fun exploring and learning this winter.
URL:https://www.readingrecap.com/event/winter-reading-program-around-the-world-in-80-days/
LOCATION:Reading Public Library\, 64 Middlesex Ave\, Reading\, MA\, 01867\, United States
CATEGORIES:Reading Public Library
ATTACH;FMTTYPE=image/jpeg:https://www.readingrecap.com/wp-content/uploads/2022/12/RPL_Around-the-World-in-80-Days.jpg
END:VEVENT
BEGIN:VEVENT
DTSTART;TZID=America/New_York:20221206T190000
DTEND;TZID=America/New_York:20221206T203000
DTSTAMP:20260421T100349
CREATED:20221115T024330Z
LAST-MODIFIED:20221115T024330Z
UID:10000149-1670353200-1670358600@www.readingrecap.com
SUMMARY:Cycle of Memory-Documentary Screening @RPL
DESCRIPTION:Join the Reading Public Library and the Pleasant Street Center for a special screening of Cycle of Memory\, the new award-winning documentary about two brothers’ bicycle adventure to find the memories their grandfather lost to Alzheimer’s. Mel Schwartz escaped the Great Depression on a bicycle adventure he’d remember for the rest of his life. But when Alzheimer’s takes Mel’s memories away\, it’s left to his grandsons to recreate the life-changing bike trip and find those memories again. Guided by old photographs of the 1945 trip\, they search for places aged by time. But while searching for Grandpa Mel’s past\, the two are confronted with their own fraught history. If they’re going to complete the turbulent journey\, they’ll have to face their own emotional potholes and tumultuous relationship. This program is supported in part by a grant from the Reading Cultural Council\, a local agency which is supported by the Mass Cultural Council\, a state agency: massculturalcouncil.org. Please register! \nAbout the film:\nThe film is 72 minutes long and will be followed by a Q+A with the filmmaker.
URL:https://www.readingrecap.com/event/cycle-of-memory-documentary-screening-rpl/
LOCATION:Reading Public Library\, 64 Middlesex Ave\, Reading\, MA\, 01867\, United States
CATEGORIES:Arts,Elder and Human Services,Reading Public Library
ATTACH;FMTTYPE=image/png:https://www.readingrecap.com/wp-content/uploads/2022/11/Cycle-of-Memory-Main-Photo.png
END:VEVENT
BEGIN:VEVENT
DTSTART;TZID=America/New_York:20221025T183000
DTEND;TZID=America/New_York:20221025T193000
DTSTAMP:20260421T100349
CREATED:20221022T032943Z
LAST-MODIFIED:20221022T032943Z
UID:10000131-1666722600-1666726200@www.readingrecap.com
SUMMARY:Meet Mystic Valley Elder Services at the Library!
DESCRIPTION:Do you know about Mystic Valley Elder Services? Their mission is to make it possible for older adults to live independently in their own homes for as long as possible and as safely as possible. They offer a variety of services for older adults and caregivers too. We strive to host inclusive\, accessible events that enable all individuals to engage fully. To ask questions about accessibility or request accommodations\, please contact Ally Dowds at adowds@noblenet.org. \nAssistive listening systems will be available in this library program. Please ask library staff members for more information.
URL:https://www.readingrecap.com/event/meet-mystic-valley-elder-services-at-the-library/
LOCATION:Reading Public Library\, 64 Middlesex Ave\, Reading\, MA\, 01867\, United States
CATEGORIES:Elder and Human Services,Reading Public Library
ATTACH;FMTTYPE=image/jpeg:https://www.readingrecap.com/wp-content/uploads/2022/10/RPL-MVES-1025-.jpg
ORGANIZER;CN="Mystic Valley Public Health Coalition":MAILTO:mvroap@gmail.com
END:VEVENT
BEGIN:VEVENT
DTSTART;TZID=America/New_York:20221024T190000
DTEND;TZID=America/New_York:20221024T200000
DTSTAMP:20260421T100349
CREATED:20221012T043344Z
LAST-MODIFIED:20221014T051525Z
UID:10000126-1666638000-1666641600@www.readingrecap.com
SUMMARY:Privacy & Reproductive Rights: What You Need to Know
DESCRIPTION:This virtual webinar will cover the ways that our digital lives—including app use\, social media\, purchases\, GPS data and more—expose information about our reproductive choices. Participants will learn how to map out their own personal risk profile and will leave with strategies to protect themselves from having their personal information weaponized against them\, as well as protect the safety and choices of those around them. \nThis program is generously sponsored by The Friends of the Reading Public Library and is co-hosted with Pollard Memorial Library in Lowell and Groton Public Library.
URL:https://www.readingrecap.com/event/privacy-reproductive-rights-what-you-need-to-know/
LOCATION:Online
CATEGORIES:Reading Public Library
ATTACH;FMTTYPE=image/png:https://www.readingrecap.com/wp-content/uploads/2022/10/Insta-Privacy-Reproductive-Rights-Instagram-Post-Square.png
END:VEVENT
BEGIN:VEVENT
DTSTART;TZID=America/New_York:20221018T173000
DTEND;TZID=America/New_York:20221018T193000
DTSTAMP:20260421T100349
CREATED:20221004T182228Z
LAST-MODIFIED:20221004T192036Z
UID:10000114-1666114200-1666121400@www.readingrecap.com
SUMMARY:New Resident Open House at the Reading Public Library
DESCRIPTION:Are you new to Reading? Then you are invited to Reading’s New Resident Open House! Come to the library on October 18 to meet representatives from town government\, schools\, youth groups\, community\, and religious organizations\, learn about services\, programs\, and events in Reading\, and enjoy refreshments while you mingle with other new residents \nThe first 50 new residents to register will receive a welcome bag filled with information and swag from local businesses one welcome bag per family. Register today: https://bit.ly/RPLNewResident
URL:https://www.readingrecap.com/event/new-resident-open-house-at-the-reading-public-library/
LOCATION:Reading Public Library\, 64 Middlesex Ave\, Reading\, MA\, 01867\, United States
CATEGORIES:Reading Public Library
ATTACH;FMTTYPE=image/png:https://www.readingrecap.com/wp-content/uploads/2022/10/New-Residents-Open-House.png
END:VEVENT
BEGIN:VEVENT
DTSTART;TZID=America/New_York:20221013T153000
DTEND;TZID=America/New_York:20221013T163000
DTSTAMP:20260421T100349
CREATED:20221012T043403Z
LAST-MODIFIED:20221012T043403Z
UID:10000127-1665675000-1665678600@www.readingrecap.com
SUMMARY:What is Magic?
DESCRIPTION:It’s the The Who?What?Where? series for kids in grades 3-5. Join Ed Popielarczyk for a behind-the-scenes look at magic tricks and what magicians do. He takes children through a highly interactive magical journey through humor and story telling. This program is funded by the MEFA Youth Literacy Initiative and is part of the UFUND Start U Reading series.
URL:https://www.readingrecap.com/event/what-is-magic/
LOCATION:Reading Public Library\, 64 Middlesex Ave\, Reading\, MA\, 01867\, United States
CATEGORIES:Reading Public Library
ATTACH;FMTTYPE=image/png:https://www.readingrecap.com/wp-content/uploads/2022/10/Who-What-Where.png
END:VEVENT
END:VCALENDAR