BEGIN:VCALENDAR
VERSION:2.0
PRODID:-//Recapping Everything in Reading, MA - ECPv6.15.20//NONSGML v1.0//EN
CALSCALE:GREGORIAN
METHOD:PUBLISH
X-ORIGINAL-URL:https://www.readingrecap.com
X-WR-CALDESC:Events for Recapping Everything in Reading, MA
REFRESH-INTERVAL;VALUE=DURATION:PT1H
X-Robots-Tag:noindex
X-PUBLISHED-TTL:PT1H
BEGIN:VTIMEZONE
TZID:America/New_York
BEGIN:DAYLIGHT
TZOFFSETFROM:-0500
TZOFFSETTO:-0400
TZNAME:EDT
DTSTART:20210314T070000
END:DAYLIGHT
BEGIN:STANDARD
TZOFFSETFROM:-0400
TZOFFSETTO:-0500
TZNAME:EST
DTSTART:20211107T060000
END:STANDARD
BEGIN:DAYLIGHT
TZOFFSETFROM:-0500
TZOFFSETTO:-0400
TZNAME:EDT
DTSTART:20220313T070000
END:DAYLIGHT
BEGIN:STANDARD
TZOFFSETFROM:-0400
TZOFFSETTO:-0500
TZNAME:EST
DTSTART:20221106T060000
END:STANDARD
BEGIN:DAYLIGHT
TZOFFSETFROM:-0500
TZOFFSETTO:-0400
TZNAME:EDT
DTSTART:20230312T070000
END:DAYLIGHT
BEGIN:STANDARD
TZOFFSETFROM:-0400
TZOFFSETTO:-0500
TZNAME:EST
DTSTART:20231105T060000
END:STANDARD
BEGIN:DAYLIGHT
TZOFFSETFROM:-0500
TZOFFSETTO:-0400
TZNAME:EDT
DTSTART:20240310T070000
END:DAYLIGHT
BEGIN:STANDARD
TZOFFSETFROM:-0400
TZOFFSETTO:-0500
TZNAME:EST
DTSTART:20241103T060000
END:STANDARD
BEGIN:DAYLIGHT
TZOFFSETFROM:-0500
TZOFFSETTO:-0400
TZNAME:EDT
DTSTART:20250309T070000
END:DAYLIGHT
BEGIN:STANDARD
TZOFFSETFROM:-0400
TZOFFSETTO:-0500
TZNAME:EST
DTSTART:20251102T060000
END:STANDARD
END:VTIMEZONE
BEGIN:VEVENT
DTSTART;TZID=America/New_York:20240210T113000
DTEND;TZID=America/New_York:20240210T223000
DTSTAMP:20260423T171207
CREATED:20240202T172229Z
LAST-MODIFIED:20240202T173129Z
UID:10000624-1707564600-1707604200@www.readingrecap.com
SUMMARY:🥡 Birch Meadow PTO Fundraiser at Mandarin
DESCRIPTION:Does your family love Asian food?  \nDo you dread figuring out what to make for dinner?!\nWhy not take the night off from cooking and support the Birch PTO at the same time?!  \nOn Saturday\, February 10th\, our PTO is hosting a restaurant fundraiser at the Mandarin Reading Asian restaurant!  (296 Salem Street in Reading). \nDine in OR order take-out and the Birch PTO receives 20+% of sales!  \nThe Mandarin Reading is open for lunch or dinner (11:30 AM – 10:30 PM)\, and our fundraiser runs all day!\nPlease see our flyer for more information and please bring your flyer to the restaurant on Saturday\, February 10th.  Thank you! \n\n\n\n\n\n\nMandarin fundraiser – Birch PTO PDF
URL:https://www.readingrecap.com/event/%f0%9f%a5%a1-birch-meadow-pto-fundraiser-at-mandarin/
LOCATION:Mandarin\, 296 Salem Street\, Reading\, MA\, 01867\, United States
CATEGORIES:Fundraiser,PTO
ATTACH;FMTTYPE=image/jpeg:https://www.readingrecap.com/wp-content/uploads/2024/01/Mandarin-Reading.jpg
ORGANIZER;CN="Birch Meadow PTO":MAILTO:BirchMeadowPTO@gmail.com
END:VEVENT
BEGIN:VEVENT
DTSTART;TZID=America/New_York:20231024T170000
DTEND;TZID=America/New_York:20231024T210000
DTSTAMP:20260423T171207
CREATED:20231015T230639Z
LAST-MODIFIED:20231015T230639Z
UID:10000545-1698166800-1698181200@www.readingrecap.com
SUMMARY:🍸 Coolidge PTO Fundraiser at Venetian Moon
DESCRIPTION:October 24: PTO Restaurant Fundraiser: Venetian Moon (5 – 9 PM). See the flyer to the right for more info. \nPDF Copy of 15% Coupon
URL:https://www.readingrecap.com/event/%f0%9f%8d%b8-coolidge-pto-fundraiser-at-venetian-moon/
LOCATION:Venetian Moon\, 680 Main Street\, Reading\, MA\, 01867\, United States
CATEGORIES:Fundraiser,PTO
ATTACH;FMTTYPE=image/jpeg:https://www.readingrecap.com/wp-content/uploads/2023/10/V-Moon-Cooledge.jpeg
ORGANIZER;CN="Coolidge PTO":MAILTO:awcoolidgepto@gmail.com
END:VEVENT
BEGIN:VEVENT
DTSTART;TZID=America/New_York:20230524T150000
DTEND;TZID=America/New_York:20230524T190000
DTSTAMP:20260423T171207
CREATED:20230418T145635Z
LAST-MODIFIED:20230418T152452Z
UID:10000347-1684940400-1684954800@www.readingrecap.com
SUMMARY:Birch Meadow PTO Fundraiser at Love Struck
DESCRIPTION:Save the date for a night of shopping at the hottest tween store in New England! Shop from 3-7pm on May 24th and 20% off sales will go back to the PTO. Just mention Birch Meadow Fundraiser at check out!
URL:https://www.readingrecap.com/event/birch-meadow-pto-fundraiser-at-love-struck/
LOCATION:Love Struck\, 605 Main Street\, Reading\, MA\, 01867\, United States
CATEGORIES:Fundraiser,PTO
ATTACH;FMTTYPE=image/jpeg:https://www.readingrecap.com/wp-content/uploads/2023/04/Love-Struck-1200.jpg
ORGANIZER;CN="Birch Meadow PTO":MAILTO:BirchMeadowPTO@gmail.com
END:VEVENT
BEGIN:VEVENT
DTSTART;TZID=America/New_York:20230503T170000
DTEND;TZID=America/New_York:20230503T200000
DTSTAMP:20260423T171207
CREATED:20230418T145100Z
LAST-MODIFIED:20230418T145100Z
UID:10000346-1683133200-1683144000@www.readingrecap.com
SUMMARY:Birch Meadow PTO Fundraiser at Venetian Moon
DESCRIPTION:Save the Date! Fill your bellies with the best arancini around and an enjoy a night out at Venetian Moon! 20% of sales will benefit the PTO\, a great way to support enrichment\, field trips\, teacher appreciation and more! \nWhen: Wednesday May 3rd \nTime: 5pm-8pm \nPlease download and print flyer below and bring to Venetian Moon to participate! \nVenetian Moon Birch Meadow PTO Fundraiser Flyer
URL:https://www.readingrecap.com/event/birch-meadow-pto-fundraiser-at-venetian-moon/
LOCATION:Venetian Moon\, 680 Main Street\, Reading\, MA\, 01867\, United States
CATEGORIES:Fundraiser,PTO
ATTACH;FMTTYPE=image/jpeg:https://www.readingrecap.com/wp-content/uploads/2023/04/venetian-moon-Birch-Meadow-PTO-Fundraiser.jpg
ORGANIZER;CN="Birch Meadow PTO":MAILTO:BirchMeadowPTO@gmail.com
END:VEVENT
BEGIN:VEVENT
DTSTART;TZID=America/New_York:20221014T170000
DTEND;TZID=America/New_York:20221014T210000
DTSTAMP:20260423T171207
CREATED:20221014T175716Z
LAST-MODIFIED:20221014T175716Z
UID:10000130-1665766800-1665781200@www.readingrecap.com
SUMMARY:Wood End Fundraiser at Mandarin Restaurant
DESCRIPTION:Wood End PTO Fundraiser at Mandarin Restaurant – 20% of all purchases (take-out or dine-in only) 5-9PM with coupon will benefit Wood End PTO . If you can’t print the Coupon (image)– there should be some at the restaurant. Just tell your server you are supporting Wood End PTO today! \nDon’t forget to stop by our 50/50 raffle table!
URL:https://www.readingrecap.com/event/wood-end-fundraiser-at-mandarin-restaurant/
LOCATION:Mandarin\, 296 Salem Street\, Reading\, MA\, 01867\, United States
CATEGORIES:PTO
ATTACH;FMTTYPE=image/jpeg:https://www.readingrecap.com/wp-content/uploads/2022/10/Mandarin-Wood-End.jpg
END:VEVENT
BEGIN:VEVENT
DTSTART;TZID=America/New_York:20221014T170000
DTEND;TZID=America/New_York:20221014T190000
DTSTAMP:20260423T171207
CREATED:20220824T023013Z
LAST-MODIFIED:20220824T023013Z
UID:10000062-1665766800-1665774000@www.readingrecap.com
SUMMARY:Parker Family Fun Night
DESCRIPTION:Parker Middle School PTO presents \nPARKER FAMILY FUN NIGHT! \nLawn Games – Friday\, October 14th \nFrom 5-7 p.m. \n\nLocated outside on Parker Lawn (Gymnasium for inclement weather)\nAll grades and families welcome\n\n*****Families are encouraged to pack picnics. Light refreshments will be served.*****
URL:https://www.readingrecap.com/event/parker-family-fun-night/
LOCATION:Walter S. Parker Middle School\, 45 Temple Street\, Reading\, MA\, 01867\, United States
CATEGORIES:PTO
ORGANIZER;CN="Parker PTO":MAILTO:parkerptopres@gmail.com
END:VEVENT
BEGIN:VEVENT
DTSTART;TZID=America/New_York:20220922T120000
DTEND;TZID=America/New_York:20220922T180000
DTSTAMP:20260423T171207
CREATED:20220824T022434Z
LAST-MODIFIED:20220824T023032Z
UID:10000061-1663848000-1663869600@www.readingrecap.com
SUMMARY:Parker PTO & Cupcake City Fundraiser
DESCRIPTION:Parker PTO & Cupcake City Fundraiser\n\nThursday\, Sep. 22nd\, 12-6pm\n\n\n137 Main Street\nReading\, MA\n\n\nWho doesn’t love a good cupcake while supporting the Parker PTO? Take advantage of the early release day and head to Cupcake City for a sweet treat. Mention Parker and 20% of all sales will be donated to the PTO. \nEveryday Flavors \n\nHostess ~ Peanut Butter ~Lemon ~ Red Velvet\n\n\nSignature Chocolate ~ Vanilla ~ Oreo Cookie ~ Salted Caramel\n\nCupcakes are $3.75 each and gluten-free or vegan cupcakes are $4.25 each. Gluten-free and vegan need to be pre-ordered by September 20th. www.cupcake-city.com
URL:https://www.readingrecap.com/event/parker-pto-cupcake-city-fundraiser/
LOCATION:Cupcake City\, 137 Main Street\, Reading\, MA\, 01867\, United States
CATEGORIES:Fundraiser,PTO
ATTACH;FMTTYPE=image/jpeg:https://www.readingrecap.com/wp-content/uploads/2022/08/Beer-Garden-Cupcake-City-scaled.jpg
ORGANIZER;CN="Parker PTO":MAILTO:parkerptopres@gmail.com
END:VEVENT
END:VCALENDAR