BEGIN:VCALENDAR
VERSION:2.0
PRODID:-//Recapping Everything in Reading, MA - ECPv6.15.20//NONSGML v1.0//EN
CALSCALE:GREGORIAN
METHOD:PUBLISH
X-WR-CALNAME:Recapping Everything in Reading, MA
X-ORIGINAL-URL:https://www.readingrecap.com
X-WR-CALDESC:Events for Recapping Everything in Reading, MA
REFRESH-INTERVAL;VALUE=DURATION:PT1H
X-Robots-Tag:noindex
X-PUBLISHED-TTL:PT1H
BEGIN:VTIMEZONE
TZID:America/New_York
BEGIN:DAYLIGHT
TZOFFSETFROM:-0500
TZOFFSETTO:-0400
TZNAME:EDT
DTSTART:20240310T070000
END:DAYLIGHT
BEGIN:STANDARD
TZOFFSETFROM:-0400
TZOFFSETTO:-0500
TZNAME:EST
DTSTART:20241103T060000
END:STANDARD
BEGIN:DAYLIGHT
TZOFFSETFROM:-0500
TZOFFSETTO:-0400
TZNAME:EDT
DTSTART:20250309T070000
END:DAYLIGHT
BEGIN:STANDARD
TZOFFSETFROM:-0400
TZOFFSETTO:-0500
TZNAME:EST
DTSTART:20251102T060000
END:STANDARD
BEGIN:DAYLIGHT
TZOFFSETFROM:-0500
TZOFFSETTO:-0400
TZNAME:EDT
DTSTART:20260308T070000
END:DAYLIGHT
BEGIN:STANDARD
TZOFFSETFROM:-0400
TZOFFSETTO:-0500
TZNAME:EST
DTSTART:20261101T060000
END:STANDARD
BEGIN:DAYLIGHT
TZOFFSETFROM:-0500
TZOFFSETTO:-0400
TZNAME:EDT
DTSTART:20270314T070000
END:DAYLIGHT
BEGIN:STANDARD
TZOFFSETFROM:-0400
TZOFFSETTO:-0500
TZNAME:EST
DTSTART:20271107T060000
END:STANDARD
END:VTIMEZONE
BEGIN:VEVENT
DTSTART;TZID=America/New_York:20251206T100000
DTEND;TZID=America/New_York:20251206T200000
DTSTAMP:20260422T195147
CREATED:20251105T172118Z
LAST-MODIFIED:20251202T041731Z
UID:10000888-1765015200-1765051200@www.readingrecap.com
SUMMARY:🎄 Festival of Trees 2025
DESCRIPTION:Festival of Trees 2025\nSaturday December 6th (10am-8pm)  &  Sunday December 7th (10am-4pm)\nAt Parker Middle School – 45 Temple Street\, Reading MA 01867
URL:https://www.readingrecap.com/event/%f0%9f%8e%84-festival-of-trees-2025/2025-12-06/
LOCATION:Walter S. Parker Middle School\, 45 Temple Street\, Reading\, MA\, 01867\, United States
CATEGORIES:Fundraiser,Holiday
ATTACH;FMTTYPE=image/jpeg:https://www.readingrecap.com/wp-content/uploads/2025/11/REF-Festival.webp
ORGANIZER;CN="Reading Education Foundation":MAILTO:info@ReadingEF.org
END:VEVENT
BEGIN:VEVENT
DTSTART;TZID=America/New_York:20251207T100000
DTEND;TZID=America/New_York:20251207T160000
DTSTAMP:20260422T195147
CREATED:20251105T172118Z
LAST-MODIFIED:20251202T041731Z
UID:10000894-1765101600-1765123200@www.readingrecap.com
SUMMARY:🎄 Festival of Trees 2025
DESCRIPTION:Festival of Trees 2025\nSaturday December 6th (10am-8pm)  &  Sunday December 7th (10am-4pm)\nAt Parker Middle School – 45 Temple Street\, Reading MA 01867
URL:https://www.readingrecap.com/event/%f0%9f%8e%84-festival-of-trees-2025/2025-12-07/
LOCATION:Walter S. Parker Middle School\, 45 Temple Street\, Reading\, MA\, 01867\, United States
CATEGORIES:Fundraiser,Holiday
ATTACH;FMTTYPE=image/jpeg:https://www.readingrecap.com/wp-content/uploads/2025/11/REF-Festival.webp
ORGANIZER;CN="Reading Education Foundation":MAILTO:info@ReadingEF.org
END:VEVENT
BEGIN:VEVENT
DTSTART;TZID=America/New_York:20251213T100000
DTEND;TZID=America/New_York:20251213T150000
DTSTAMP:20260422T195147
CREATED:20251026T012046Z
LAST-MODIFIED:20251026T012046Z
UID:10000886-1765620000-1765638000@www.readingrecap.com
SUMMARY:🧵 Dickens Holiday Marketplace and Craft Fair
DESCRIPTION:You are invited to the Dickens Holiday Marketplace and Craft Fair.\nThis event is a wonderful holiday marketplace featuring approximately 50 craft vendors exhibiting and selling their creations. The RMHS Main Street hallway will be transformed with seasonal decorations and musical performances throughout the day. We look forward to strolling carolers\, Victorian-era actors\, dance troupes\, musicians\, refreshments – and 50+ crafters/vendors\, all under one weather-proof roof. Patrons will enjoy shopping\, relaxing with a cup of cocoa\, and taking in the holiday spirit. Free admission! Free parking!\nThe Dickens Holiday Marketplace and Craft Fair is a fundraiser for Parents Supporting Student Theatre (PSST)\, which supports The RMHS Drama Club. All fundraising enhances our students’ experiences by paying for extracurricular teachers (Playwriting\, Shakespeare\, Improv\, and Technical Directors)\, providing student scholarships\, covering extra production costs (mic batteries\, fog machines\, shop tools\, etc.)\, and feeding working students who spend 8 hours building sets on a Saturday!\n\nDickens Holiday Marketplace and Craft FairSaturday\, December 13\, 202510 am – 3 pmReading Memorial High School62 Oakland Rd.Reading\, MA 01867https://www.facebook.com/DickensHolidayMarketplace
URL:https://www.readingrecap.com/event/%f0%9f%a7%b5-dickens-holiday-marketplace-and-craft-fair/
LOCATION:Reading Memorial High School\, 62 Oakland Rd\, Reading\, MA\, 01867\, United States
CATEGORIES:Fundraiser,Holiday
ATTACH;FMTTYPE=image/jpeg:https://www.readingrecap.com/wp-content/uploads/2025/10/542757942_1093884869522280_4390009958873389372_n.webp
ORGANIZER;CN="RMHS Drama Club":MAILTO:psstofficers@gmail.com
END:VEVENT
BEGIN:VEVENT
DTSTART;TZID=America/New_York:20260108T150000
DTEND;TZID=America/New_York:20260108T180000
DTSTAMP:20260422T195147
CREATED:20251212T212146Z
LAST-MODIFIED:20251213T024057Z
UID:10000895-1767884400-1767895200@www.readingrecap.com
SUMMARY:🍔 Birch Meadow PTO Burgers for Benefits
DESCRIPTION:Rather not cook today? Grab dinner from Fuddruckers and support the Birch Meadow Elementary PTO! 20% of sales from 4-7pm will benefit the non-profit. Fuddruckers will donate 20% of your total meal price to the organization if this flyer below is presented to the cashier. Thank you! \n\n\n\nWhere: Fuddruckers in Jordan’s Furniture\, Reading \n\n\n\nWhen: Today! January 8th\, 4-7pm \n\n\n\nHow: Mention Birch Meadow PTO when ordering or show the flyer below on your phone
URL:https://www.readingrecap.com/event/%f0%9f%8d%94-birch-meadow-pto-burgers-for-benefits/
LOCATION:Fuddruckers\, 50 Walkers Brook Dr\, Reading\, MA\, 01867-1515\, United States
CATEGORIES:Fundraiser
ATTACH;FMTTYPE=image/png:https://www.readingrecap.com/wp-content/uploads/2025/12/Screenshot-2025-12-12-161631.webp
ORGANIZER;CN="Birch Meadow PTO":MAILTO:BirchMeadowPTO@gmail.com
END:VEVENT
BEGIN:VEVENT
DTSTART;TZID=America/New_York:20260130T113000
DTEND;TZID=America/New_York:20260130T223000
DTSTAMP:20260422T195147
CREATED:20260117T023422Z
LAST-MODIFIED:20260117T023422Z
UID:10000899-1769772600-1769812200@www.readingrecap.com
SUMMARY:🥡 Barrows PTO Fundraiser at Mandarin
DESCRIPTION:Barrows Restaurant Day at The Mandarin is FRIDAY\, January 30 — all day & night Enjoy sushi \, noodles \, and all your favorites while supporting a beloved local business and Barrows Elementary School. 20% of all proceeds will benefit Barrows when you present the event flyer at checkout (dine-in or take-out). Date: January 30 Where: The Mandarin When: All day & evening Important: Flyer required to participate It’s an easy (and delicious!) way to support our school and show some love to a local restaurant . Grab lunch\, plan dinner\, or do both — every bite helps
URL:https://www.readingrecap.com/event/%f0%9f%a5%a1-barrows-pto-fundraiser-at-mandarin/
LOCATION:Mandarin\, 296 Salem Street\, Reading\, MA\, 01867\, United States
CATEGORIES:Fundraiser
ATTACH;FMTTYPE=image/jpeg:https://www.readingrecap.com/wp-content/uploads/2024/01/Mandarin-Reading.jpg
END:VEVENT
BEGIN:VEVENT
DTSTART;TZID=America/New_York:20260225T100000
DTEND;TZID=America/New_York:20260225T200000
DTSTAMP:20260422T195147
CREATED:20260215T200331Z
LAST-MODIFIED:20260215T200331Z
UID:10000908-1772013600-1772049600@www.readingrecap.com
SUMMARY:🍕 Dine Out Night at EJ's Pizza for Reading Little League
DESCRIPTION:Support the Reading Little League at EJ’s Fresh Pizza Wednesday\, February 25\, 2026 from 10:00am – 8:00pm. EJ’s Fresh Pizza will donate a portion of proceeds will go towards the RLL. If you work from home or in the area\, pick up some lunch or dinner tonight for the family! Please mention RLL when you place your order.\n\n \n\nEJ’s is located at 337 Main Street | Wilmington (978) 447-5062
URL:https://www.readingrecap.com/event/%f0%9f%8d%95-dine-out-night-at-ejs-pizza-for-reading-little-league/
CATEGORIES:Fundraiser
ATTACH;FMTTYPE=image/jpeg:https://www.readingrecap.com/wp-content/uploads/2026/02/634202260_1493825609411555_9067199013972382141_n.webp
END:VEVENT
BEGIN:VEVENT
DTSTART;TZID=America/New_York:20260307T130000
DTEND;TZID=America/New_York:20260307T160000
DTSTAMP:20260422T195147
CREATED:20260215T195806Z
LAST-MODIFIED:20260215T195806Z
UID:10000907-1772888400-1772899200@www.readingrecap.com
SUMMARY:🍻 Sips for Samantha's Harvest at Bunratty Tavern
DESCRIPTION:Beer\, wine and spirit tasting! Huge selection\, raffle\, lots of fun!\nThank you to Bunratty Tavern for hosting this event!\n\nAdmission $20 (cash only) at door\, 21+\, and will benefit Samantha’s Harvest\, a registered 501(c)3 non-profit charitable organization.\nSamantha’s Harvest works to raise awareness by providing funding for programs and organizations that directly enhance the lives of individuals with Down syndrome.
URL:https://www.readingrecap.com/event/%f0%9f%8d%bb-sips-for-samanthas-harvest-at-bunratty-tavern/
LOCATION:Bunratty Tavern\, 620 Main Street\, Reading\, MA\, 01867\, United States
CATEGORIES:Beer Garden,Fundraiser
ATTACH;FMTTYPE=image/jpeg:https://www.readingrecap.com/wp-content/uploads/2026/02/634167397_1579972597106142_4150113059792153700_n.webp
ORGANIZER;CN="Samantha's Harvest":MAILTO:info@samanthasharvest.org
END:VEVENT
BEGIN:VEVENT
DTSTART;TZID=America/New_York:20260313T110000
DTEND;TZID=America/New_York:20260313T210000
DTSTAMP:20260422T195147
CREATED:20260302T193241Z
LAST-MODIFIED:20260302T193241Z
UID:10000910-1773399600-1773435600@www.readingrecap.com
SUMMARY:🥡 Reading Garden Club Fundraiser at Mandarin
DESCRIPTION:Come dine with us on Friday\, March 13\, 2026 to help raise money for the Reading Garden Club. Please present the coupon below and 20% of your check’s value will be donated to the Reading Garden Club (RGC)\, a non-profit 501 (C) (3) organization. Valid for dine in or take out only for the date listed above. For additional coupons\, please visit our website: readinggardenclub.org. Coupons will also be available on March 13\, 2026 at the RGC table inside the front door of the Mandarin. \n\n 
URL:https://www.readingrecap.com/event/%f0%9f%a5%a1-reading-garden-club-fundraiser-at-mandarin-3/
LOCATION:Mandarin\, 296 Salem Street\, Reading\, MA\, 01867\, United States
CATEGORIES:Fundraiser
ATTACH;FMTTYPE=image/jpeg:https://www.readingrecap.com/wp-content/uploads/2024/11/MandarinFall1.jpg
ORGANIZER;CN="Reading Garden Club":MAILTO:nreid2416@gmail.com
END:VEVENT
BEGIN:VEVENT
DTSTART;TZID=America/New_York:20260321T113000
DTEND;TZID=America/New_York:20260321T223000
DTSTAMP:20260422T195147
CREATED:20260312T022632Z
LAST-MODIFIED:20260312T022632Z
UID:10000918-1774092600-1774132200@www.readingrecap.com
SUMMARY:🥡 Reading Youth Football Fundraiser at Mandarin
DESCRIPTION:Come dine with us on Saturday\, March 21\, 2026 to help raise money for the\nReading Youth Football organization. Please present the coupon below and 20% of your\ncheck’s value will be donated to the Reading Youth Football organization. Valid for dine in or take out only.
URL:https://www.readingrecap.com/event/%f0%9f%a5%a1-reading-youth-football-fundraiser-at-mandarin-2/
LOCATION:Mandarin\, 296 Salem Street\, Reading\, MA\, 01867\, United States
CATEGORIES:Fundraiser
ATTACH;FMTTYPE=image/jpeg:https://www.readingrecap.com/wp-content/uploads/2024/01/Mandarin-Reading.jpg
ORGANIZER;CN="Reading Youth Football":MAILTO:Readingyouthfootball@gmail.com
END:VEVENT
BEGIN:VEVENT
DTSTART;TZID=America/New_York:20260413T093000
DTEND;TZID=America/New_York:20260413T163000
DTSTAMP:20260422T195147
CREATED:20260311T212647Z
LAST-MODIFIED:20260311T212647Z
UID:10000915-1776072600-1776097800@www.readingrecap.com
SUMMARY:🩸 Reading Police Department Kraft Family Blood Drive
DESCRIPTION:Join Us for a Blood Drive! 🚨 \nThe Reading Police Department is proud to host the Kraft Family Blood Donor Center on Monday\, April 13th! \nYour donation can help save lives.\nLocation: 15 Union Street\nTime: 9:30am-4:30pm \nWalk-ins welcome\, but appointments are encouraged! Let’s come together to make a difference. As a thank you for your donation\, you will receive a Boston Strong Vest. \nYou can sign up here: tinyurl.com/RPD426
URL:https://www.readingrecap.com/event/%f0%9f%a9%b8-reading-police-department-kraft-family-blood-drive/
LOCATION:Reading Police Station\, 15 Union Street\, Reading\, MA\, 01867\, United States
CATEGORIES:Donation
ATTACH;FMTTYPE=image/jpeg:https://www.readingrecap.com/wp-content/uploads/2026/03/649757119_1226558042998183_479435764062593351_n.webp
END:VEVENT
BEGIN:VEVENT
DTSTART;TZID=America/New_York:20260425T090000
DTEND;TZID=America/New_York:20260425T110000
DTSTAMP:20260422T195147
CREATED:20260413T001515Z
LAST-MODIFIED:20260413T001515Z
UID:10000922-1777107600-1777114800@www.readingrecap.com
SUMMARY:🏷️ Mission of Deeds Yard Sale
DESCRIPTION:Mission of Deeds is holding our semi-annual yard sale on Saturday\, April 25 from 9 to 11 AM in our parking lot (6 Chapin Avenue in Reading).  Mission of Deeds provides gently used furniture and brand-new beds to people in need.  We often receive donations that are not suitable for the people we help so we host a yard sale to raise funds.
URL:https://www.readingrecap.com/event/%f0%9f%8f%b7%ef%b8%8f-mission-of-deeds-yard-sale/
LOCATION:6 Chapin Avenue\, 6 Chapin Avenue\, Reading\, 01867
CATEGORIES:Fundraiser,Yard Sale
ATTACH;FMTTYPE=image/png:https://www.readingrecap.com/wp-content/uploads/2026/04/Mission-of-Deeds-scaled-1.webp
ORGANIZER;CN="Mission of Deeds":MAILTO:info@missionofdeeds.org
END:VEVENT
END:VCALENDAR