BEGIN:VCALENDAR
VERSION:2.0
PRODID:-//Recapping Everything in Reading, MA - ECPv6.15.20//NONSGML v1.0//EN
CALSCALE:GREGORIAN
METHOD:PUBLISH
X-WR-CALNAME:Recapping Everything in Reading, MA
X-ORIGINAL-URL:https://www.readingrecap.com
X-WR-CALDESC:Events for Recapping Everything in Reading, MA
REFRESH-INTERVAL;VALUE=DURATION:PT1H
X-Robots-Tag:noindex
X-PUBLISHED-TTL:PT1H
BEGIN:VTIMEZONE
TZID:America/New_York
BEGIN:DAYLIGHT
TZOFFSETFROM:-0500
TZOFFSETTO:-0400
TZNAME:EDT
DTSTART:20240310T070000
END:DAYLIGHT
BEGIN:STANDARD
TZOFFSETFROM:-0400
TZOFFSETTO:-0500
TZNAME:EST
DTSTART:20241103T060000
END:STANDARD
BEGIN:DAYLIGHT
TZOFFSETFROM:-0500
TZOFFSETTO:-0400
TZNAME:EDT
DTSTART:20250309T070000
END:DAYLIGHT
BEGIN:STANDARD
TZOFFSETFROM:-0400
TZOFFSETTO:-0500
TZNAME:EST
DTSTART:20251102T060000
END:STANDARD
BEGIN:DAYLIGHT
TZOFFSETFROM:-0500
TZOFFSETTO:-0400
TZNAME:EDT
DTSTART:20260308T070000
END:DAYLIGHT
BEGIN:STANDARD
TZOFFSETFROM:-0400
TZOFFSETTO:-0500
TZNAME:EST
DTSTART:20261101T060000
END:STANDARD
END:VTIMEZONE
BEGIN:VEVENT
DTSTART;TZID=America/New_York:20250228T113000
DTEND;TZID=America/New_York:20250228T223000
DTSTAMP:20260421T125127
CREATED:20250225T005017Z
LAST-MODIFIED:20250225T033056Z
UID:10000776-1740742200-1740781800@www.readingrecap.com
SUMMARY:🥡 Refugee Community Alliance Fundraiser at Mandarin
DESCRIPTION:Does your family love Asian food?\nDo you dread figuring out what to make for dinner?!\nWhy not take the night off from cooking and support the Refugee Community Alliance at the same time?!\nOn Friday\, February 28th\, the Refugee Community Alliance hosting a restaurant fundraiser at the Mandarin Reading Asian restaurant!  (296 Salem Street in Reading).\nDine in OR order take-out and the Refugee Community Alliance receives 20+% of sales!\nThe Mandarin Reading is open for lunch or dinner (11:30 AM – 10:30 PM)\, and our fundraiser runs all day!\nPlease see our flyer for more information and please bring your flyer to the restaurant on Friday\, February 28th.  Thank you!\n\n\nPDF – CouponBenefit-Refugee Community Alliance
URL:https://www.readingrecap.com/event/%f0%9f%a5%a1-refugee-community-alliance-fundraiser-at-mandarin/
LOCATION:Mandarin\, 296 Salem Street\, Reading\, MA\, 01867\, United States
CATEGORIES:Fundraiser
ATTACH;FMTTYPE=image/jpeg:https://www.readingrecap.com/wp-content/uploads/2024/01/Mandarin-Reading.jpg
END:VEVENT
END:VCALENDAR