BEGIN:VCALENDAR
VERSION:2.0
PRODID:-//Recapping Everything in Reading, MA - ECPv6.15.20//NONSGML v1.0//EN
CALSCALE:GREGORIAN
METHOD:PUBLISH
X-ORIGINAL-URL:https://www.readingrecap.com
X-WR-CALDESC:Events for Recapping Everything in Reading, MA
REFRESH-INTERVAL;VALUE=DURATION:PT1H
X-Robots-Tag:noindex
X-PUBLISHED-TTL:PT1H
BEGIN:VTIMEZONE
TZID:America/New_York
BEGIN:DAYLIGHT
TZOFFSETFROM:-0500
TZOFFSETTO:-0400
TZNAME:EDT
DTSTART:20240310T070000
END:DAYLIGHT
BEGIN:STANDARD
TZOFFSETFROM:-0400
TZOFFSETTO:-0500
TZNAME:EST
DTSTART:20241103T060000
END:STANDARD
BEGIN:DAYLIGHT
TZOFFSETFROM:-0500
TZOFFSETTO:-0400
TZNAME:EDT
DTSTART:20250309T070000
END:DAYLIGHT
BEGIN:STANDARD
TZOFFSETFROM:-0400
TZOFFSETTO:-0500
TZNAME:EST
DTSTART:20251102T060000
END:STANDARD
BEGIN:DAYLIGHT
TZOFFSETFROM:-0500
TZOFFSETTO:-0400
TZNAME:EDT
DTSTART:20260308T070000
END:DAYLIGHT
BEGIN:STANDARD
TZOFFSETFROM:-0400
TZOFFSETTO:-0500
TZNAME:EST
DTSTART:20261101T060000
END:STANDARD
END:VTIMEZONE
BEGIN:VEVENT
DTSTART;TZID=America/New_York:20250211T183000
DTEND;TZID=America/New_York:20250211T200000
DTSTAMP:20260421T061611
CREATED:20250125T235543Z
LAST-MODIFIED:20250125T235543Z
UID:10000762-1739298600-1739304000@www.readingrecap.com
SUMMARY:💨 Reading Rotary Movin’ to End Polio at the Burbank YMCA
DESCRIPTION:In lieu of the Polar Plunge this year\, the Reading Rotary is going to “Get Movin to End Polio” at the Burbank YMCA in Reading. \n\n\n\nEvent Date:  Tuesday\, February 11th \n\n\n\nTime:  6:30pm arrival for photos and sign waiver/Events begin at 7:00pm \n\n\n\nWho can attend:  EVERYONE!  Please bring your friends\, spouses\, families\, neighbors and Interact. \n\n\n\nEvents:  Spin Bikes\, Treadmills\, Ellipticals\, Basketball\, and Pickle Ball (modified).  Please use the link below to RSVP for your preferred activity. \n\n\n\n\n\nThe Reading Rotary has created a Raise for Rotary fundraiser page for their challenge. Please use and send the link below for people donate on your behalf.  All donations will automatically be sent to The Rotary Foundation and credited to the Club. \n\n\n\nDonation Link:  https://raise.rotary.org/Reading-Rotary/challenge
URL:https://www.readingrecap.com/event/%f0%9f%92%a8-reading-rotary-movin-to-end-polio-at-the-burbank-ymca-2/
LOCATION:Burbank YMCA\, 36 Arthur B Lord Dr\, Reading\, MA\, 01867\, United States
CATEGORIES:Fundraiser
ATTACH;FMTTYPE=image/jpeg:https://www.readingrecap.com/wp-content/uploads/2025/01/RotaryPolio.jpg
ORGANIZER;CN="Reading Rotary":MAILTO:readingmarotary@gmail.com
END:VEVENT
END:VCALENDAR