BEGIN:VCALENDAR
VERSION:2.0
PRODID:-//Recapping Everything in Reading, MA - ECPv6.15.20//NONSGML v1.0//EN
CALSCALE:GREGORIAN
METHOD:PUBLISH
X-ORIGINAL-URL:https://www.readingrecap.com
X-WR-CALDESC:Events for Recapping Everything in Reading, MA
REFRESH-INTERVAL;VALUE=DURATION:PT1H
X-Robots-Tag:noindex
X-PUBLISHED-TTL:PT1H
BEGIN:VTIMEZONE
TZID:America/New_York
BEGIN:DAYLIGHT
TZOFFSETFROM:-0500
TZOFFSETTO:-0400
TZNAME:EDT
DTSTART:20240310T070000
END:DAYLIGHT
BEGIN:STANDARD
TZOFFSETFROM:-0400
TZOFFSETTO:-0500
TZNAME:EST
DTSTART:20241103T060000
END:STANDARD
BEGIN:DAYLIGHT
TZOFFSETFROM:-0500
TZOFFSETTO:-0400
TZNAME:EDT
DTSTART:20250309T070000
END:DAYLIGHT
BEGIN:STANDARD
TZOFFSETFROM:-0400
TZOFFSETTO:-0500
TZNAME:EST
DTSTART:20251102T060000
END:STANDARD
BEGIN:DAYLIGHT
TZOFFSETFROM:-0500
TZOFFSETTO:-0400
TZNAME:EDT
DTSTART:20260308T070000
END:DAYLIGHT
BEGIN:STANDARD
TZOFFSETFROM:-0400
TZOFFSETTO:-0500
TZNAME:EST
DTSTART:20261101T060000
END:STANDARD
END:VTIMEZONE
BEGIN:VEVENT
DTSTART;TZID=America/New_York:20250314T113000
DTEND;TZID=America/New_York:20250314T223000
DTSTAMP:20260420T173911
CREATED:20250225T201347Z
LAST-MODIFIED:20250225T201347Z
UID:10000778-1741951800-1741991400@www.readingrecap.com
SUMMARY:🥡 Reading Garden Club Fundraiser at Mandarin
DESCRIPTION:Come dine with us on Friday\, March 14\, 2025 to help raise money for the\nReading Garden Club. Please present the coupon below and 20% of your\ncheck’s value will be donated to the Reading Garden Club (RGC)\, a non-profit\n501 (C) (3) organization. Valid for dine in or take out only for the date listed\nabove. To get a coupon please download from our website at www.readinggardenclub.org \n \n 
URL:https://www.readingrecap.com/event/%f0%9f%a5%a1-reading-garden-club-fundraiser-at-mandarin-2/
LOCATION:Mandarin\, 296 Salem Street\, Reading\, MA\, 01867\, United States
CATEGORIES:Fundraiser
ATTACH;FMTTYPE=image/jpeg:https://www.readingrecap.com/wp-content/uploads/2024/01/Mandarin-Reading.jpg
ORGANIZER;CN="Reading Garden Club":MAILTO:nreid2416@gmail.com
END:VEVENT
BEGIN:VEVENT
DTSTART;TZID=America/New_York:20250316T103000
DTEND;TZID=America/New_York:20250316T150000
DTSTAMP:20260420T173911
CREATED:20250305T150646Z
LAST-MODIFIED:20250305T150825Z
UID:10000789-1742121000-1742137200@www.readingrecap.com
SUMMARY:🏓 3rd Annual Community Pickleball Day
DESCRIPTION:Save the date! Sunday\, March 16th from 10:30am – 3pm. Indoors at Reading Memorial High School Hawkes Field House. Recreational & competitive play by level\, beginner & advanced beginner clinics\, intro to pickleball for beginners. Registration opens on February 18th. Proceeds to go towards dedicated\, public pickleball courts at Symonds Way.\n\n\nWe need volunteers. If you’re interested\, please contact readingmapickleball@gmail.com or visit https://www.readingmapickleball.org/ \nMore information to follow as the event drawers closer. \nInterested in participating? contact readingmapickleball@gmail.com to receive updates.\nReading Pickleball Players Association is a 501(c)(3) non profit.
URL:https://www.readingrecap.com/event/%f0%9f%8f%93-3rd-annual-community-pickleball-day/
LOCATION:Reading Memorial High School\, 62 Oakland Rd\, Reading\, MA\, 01867\, United States
CATEGORIES:Fundraiser,Sports
ATTACH;FMTTYPE=image/jpeg:https://www.readingrecap.com/wp-content/uploads/2025/02/2025-Mar-16-FINAL-Save-Date-Community-Day-FINAL.jpg
ORGANIZER;CN="Reading Pickleball Players Association":MAILTO:readingmapickleball@gmail.com
END:VEVENT
BEGIN:VEVENT
DTSTART;TZID=America/New_York:20250322T113000
DTEND;TZID=America/New_York:20250322T223000
DTSTAMP:20260420T173911
CREATED:20250321T004442Z
LAST-MODIFIED:20250321T004442Z
UID:10000799-1742643000-1742682600@www.readingrecap.com
SUMMARY:🥡 Reading Youth Football Fundraiser at Mandarin
DESCRIPTION:Come dine with us on Friday\, March 22\, 2025 to help raise money for the\nReading Youth Football organization. Please present the coupon below and 20% of your\ncheck’s value will be donated to the Reading Youth Football organization. Valid for dine in or take out only.
URL:https://www.readingrecap.com/event/%f0%9f%a5%a1-reading-youth-football-fundraiser-at-mandarin/
LOCATION:Mandarin\, 296 Salem Street\, Reading\, MA\, 01867\, United States
CATEGORIES:Fundraiser
ATTACH;FMTTYPE=image/jpeg:https://www.readingrecap.com/wp-content/uploads/2024/01/Mandarin-Reading.jpg
ORGANIZER;CN="Reading Youth Football":MAILTO:Readingyouthfootball@gmail.com
END:VEVENT
END:VCALENDAR