BEGIN:VCALENDAR
VERSION:2.0
PRODID:-//Recapping Everything in Reading, MA - ECPv6.15.20//NONSGML v1.0//EN
CALSCALE:GREGORIAN
METHOD:PUBLISH
X-ORIGINAL-URL:https://www.readingrecap.com
X-WR-CALDESC:Events for Recapping Everything in Reading, MA
REFRESH-INTERVAL;VALUE=DURATION:PT1H
X-Robots-Tag:noindex
X-PUBLISHED-TTL:PT1H
BEGIN:VTIMEZONE
TZID:America/New_York
BEGIN:DAYLIGHT
TZOFFSETFROM:-0500
TZOFFSETTO:-0400
TZNAME:EDT
DTSTART:20250309T070000
END:DAYLIGHT
BEGIN:STANDARD
TZOFFSETFROM:-0400
TZOFFSETTO:-0500
TZNAME:EST
DTSTART:20251102T060000
END:STANDARD
BEGIN:DAYLIGHT
TZOFFSETFROM:-0500
TZOFFSETTO:-0400
TZNAME:EDT
DTSTART:20260308T070000
END:DAYLIGHT
BEGIN:STANDARD
TZOFFSETFROM:-0400
TZOFFSETTO:-0500
TZNAME:EST
DTSTART:20261101T060000
END:STANDARD
BEGIN:DAYLIGHT
TZOFFSETFROM:-0500
TZOFFSETTO:-0400
TZNAME:EDT
DTSTART:20270314T070000
END:DAYLIGHT
BEGIN:STANDARD
TZOFFSETFROM:-0400
TZOFFSETTO:-0500
TZNAME:EST
DTSTART:20271107T060000
END:STANDARD
END:VTIMEZONE
BEGIN:VEVENT
DTSTART;TZID=America/New_York:20260130T113000
DTEND;TZID=America/New_York:20260130T223000
DTSTAMP:20260422T225957
CREATED:20260117T023422Z
LAST-MODIFIED:20260117T023422Z
UID:10000899-1769772600-1769812200@www.readingrecap.com
SUMMARY:🥡 Barrows PTO Fundraiser at Mandarin
DESCRIPTION:Barrows Restaurant Day at The Mandarin is FRIDAY\, January 30 — all day & night Enjoy sushi \, noodles \, and all your favorites while supporting a beloved local business and Barrows Elementary School. 20% of all proceeds will benefit Barrows when you present the event flyer at checkout (dine-in or take-out). Date: January 30 Where: The Mandarin When: All day & evening Important: Flyer required to participate It’s an easy (and delicious!) way to support our school and show some love to a local restaurant . Grab lunch\, plan dinner\, or do both — every bite helps
URL:https://www.readingrecap.com/event/%f0%9f%a5%a1-barrows-pto-fundraiser-at-mandarin/
LOCATION:Mandarin\, 296 Salem Street\, Reading\, MA\, 01867\, United States
CATEGORIES:Fundraiser
ATTACH;FMTTYPE=image/jpeg:https://www.readingrecap.com/wp-content/uploads/2024/01/Mandarin-Reading.jpg
END:VEVENT
END:VCALENDAR