BEGIN:VCALENDAR
VERSION:2.0
PRODID:-//Recapping Everything in Reading, MA - ECPv6.15.20//NONSGML v1.0//EN
CALSCALE:GREGORIAN
METHOD:PUBLISH
X-ORIGINAL-URL:https://www.readingrecap.com
X-WR-CALDESC:Events for Recapping Everything in Reading, MA
REFRESH-INTERVAL;VALUE=DURATION:PT1H
X-Robots-Tag:noindex
X-PUBLISHED-TTL:PT1H
BEGIN:VTIMEZONE
TZID:America/New_York
BEGIN:DAYLIGHT
TZOFFSETFROM:-0500
TZOFFSETTO:-0400
TZNAME:EDT
DTSTART:20240310T070000
END:DAYLIGHT
BEGIN:STANDARD
TZOFFSETFROM:-0400
TZOFFSETTO:-0500
TZNAME:EST
DTSTART:20241103T060000
END:STANDARD
BEGIN:DAYLIGHT
TZOFFSETFROM:-0500
TZOFFSETTO:-0400
TZNAME:EDT
DTSTART:20250309T070000
END:DAYLIGHT
BEGIN:STANDARD
TZOFFSETFROM:-0400
TZOFFSETTO:-0500
TZNAME:EST
DTSTART:20251102T060000
END:STANDARD
BEGIN:DAYLIGHT
TZOFFSETFROM:-0500
TZOFFSETTO:-0400
TZNAME:EDT
DTSTART:20260308T070000
END:DAYLIGHT
BEGIN:STANDARD
TZOFFSETFROM:-0400
TZOFFSETTO:-0500
TZNAME:EST
DTSTART:20261101T060000
END:STANDARD
END:VTIMEZONE
BEGIN:VEVENT
DTSTART;TZID=America/New_York:20251107T193000
DTEND;TZID=America/New_York:20251107T213000
DTSTAMP:20260422T203416
CREATED:20251013T233052Z
LAST-MODIFIED:20251014T000951Z
UID:10000863-1762543800-1762551000@www.readingrecap.com
SUMMARY:🎭 RMHS Drama Club Presents "Catch Me If You Can: The Musical"
DESCRIPTION:Reading Memorial High School Drama Club Presents Catch Me If You Can: The Musical – November 7-16 \nMusical Takes Flight at Reading Memorial High School (RMHS) \nGet ready for a high-flying adventure as the RMHS Drama Club proudly presents Catch Me If You Can: The Musical\, based on the hit DreamWorks film and the incredible true story that inspired it! Performances will run from November 7th-16th\, at the Endslow Performing Arts Center at RMHS. \nSet in the 1960s and brimming with jazzy tunes\, dazzling dance numbers\, and sharp wit\, Catch Me If You Can follows the story of Frank Abagnale\, Jr.\, a teenager who runs away from home and successfully poses as a pilot\, doctor\, and lawyer—all before his 21st birthday. As Frank’s lies grow bigger and bolder\, so does the pursuit by FBI agent Carl Hanratty\, leading to a thrilling game of cat and mouse with heart\, humor\, and a surprising emotional depth. \nWith music by Marc Shaiman (Hairspray) and lyrics by Shaiman and Scott Wittman\, this upbeat and stylish musical is suitable for the family with some mature themes\, suggested for middle schoolers and up\, offering both entertainment and important themes about identity\, consequences\, and redemption. \nDon’t miss your chance to see this energetic and heartfelt production brought to life by the talented students of RMHS. Tickets are expected to sell quickly—secure yours today and be part of the chase! Tickets at www.RMHSDRAMA.org \nCatch Me If You Can: The Musical\nBook by Terrence McNally\nMusic by Marc Shaiman\nLyrics by Marc Shaiman and Scott Wittman\nDirection by Natalie Cunha\nChoreography by Katie Donovan\nMusical Direction by Steve Sarro\nTechnical Direction by Kevin Gerstner \nDates:\nFriday\, November 7th at 7:30 pm\nSaturday\, November 8th at 7:30 pm\nSunday\, November 9th at 2:00 pm\nFriday\, November 14th at 7:30 pm\nSaturday\, November 15th at 7:30 pm\nSunday\, November 16th at 2:00 pm\nLocation: William Endslow Performing Arts Center\, Reading Memorial High School\, 62 Oakland Rd\, Reading\, MA 01867\nTicket Prices: $20 adults / $15 students and seniors\nLink:\nhttps://www.rmhsdrama.org/\nhttps://www.facebook.com/share/14KxX29AUww/ \nCatch Me If You Can is presented through special arrangement with Music Theatre International (MTI). All authorized performance materials are also supplied by MTI. www.mtishows.com
URL:https://www.readingrecap.com/event/%f0%9f%8e%ad-rmhs-drama-club-presents-catch-me-if-you-can-the-musical/2025-11-07/
LOCATION:Reading Memorial High School\, 62 Oakland Rd\, Reading\, MA\, 01867\, United States
CATEGORIES:Arts,Entertainment
ATTACH;FMTTYPE=image/png:https://www.readingrecap.com/wp-content/uploads/2025/10/Instagram-FINAL-CMIYC-Instagram-Post-45.webp
ORGANIZER;CN="RMHS Drama Club":MAILTO:psstofficers@gmail.com
END:VEVENT
BEGIN:VEVENT
DTSTART;TZID=America/New_York:20251107T193000
DTEND;TZID=America/New_York:20251108T213000
DTSTAMP:20260422T203416
CREATED:20251019T201220Z
LAST-MODIFIED:20251019T202039Z
UID:10000881-1762543800-1762637400@www.readingrecap.com
SUMMARY:🎨 Reading Art Association Fall Exhibit and Sale
DESCRIPTION:The Reading Art Association Fall Exhibit and Sale will be held the weekend of November 7th and 8th. The show will take place at the First Congregational Church in Reading on Friday\, Nov.7th from 7:30 pm to 9:30 pm\, and Saturday Nov. 8th from 10:00 am to 3:00 pm. Friday evening\, November 7 is our opening reception. Entrance to the show is through the side door of the church on Sanborn Street. \nThere will be a drawing for a framed painting by Carolyn Latanision. The winner will be announced at the end of the show and does not need to be present to win.\nAward winning works will be announced at the Friday reception at about 8:30 pm. \nYou can see an example of the display at our 2024 Fall Show on our website at http://www.readingart.org/fall2024.shtml \nMany of the art works will be for sale. The exhibit is open and free to everyone\, so come for a few minutes or come for a few hours. \nMore information about the Reading Art Association is available at our website\, http://www.readingart.org/
URL:https://www.readingrecap.com/event/reading-art-association-fall-exhibit-and-sale/2025-11-07/
LOCATION:First Congregational Church\, 25 Woburn Street\, Reading MA\, 01867
CATEGORIES:Arts
ATTACH;FMTTYPE=image/gif:https://www.readingrecap.com/wp-content/uploads/2025/10/raaheader.gif
ORGANIZER;CN="Reading Art Association":MAILTO:webmaster@readingart.org
END:VEVENT
END:VCALENDAR