BEGIN:VCALENDAR
VERSION:2.0
PRODID:-//Recapping Everything in Reading, MA - ECPv6.15.20//NONSGML v1.0//EN
CALSCALE:GREGORIAN
METHOD:PUBLISH
X-WR-CALNAME:Recapping Everything in Reading, MA
X-ORIGINAL-URL:https://www.readingrecap.com
X-WR-CALDESC:Events for Recapping Everything in Reading, MA
REFRESH-INTERVAL;VALUE=DURATION:PT1H
X-Robots-Tag:noindex
X-PUBLISHED-TTL:PT1H
BEGIN:VTIMEZONE
TZID:America/New_York
BEGIN:DAYLIGHT
TZOFFSETFROM:-0500
TZOFFSETTO:-0400
TZNAME:EDT
DTSTART:20240310T070000
END:DAYLIGHT
BEGIN:STANDARD
TZOFFSETFROM:-0400
TZOFFSETTO:-0500
TZNAME:EST
DTSTART:20241103T060000
END:STANDARD
BEGIN:DAYLIGHT
TZOFFSETFROM:-0500
TZOFFSETTO:-0400
TZNAME:EDT
DTSTART:20250309T070000
END:DAYLIGHT
BEGIN:STANDARD
TZOFFSETFROM:-0400
TZOFFSETTO:-0500
TZNAME:EST
DTSTART:20251102T060000
END:STANDARD
BEGIN:DAYLIGHT
TZOFFSETFROM:-0500
TZOFFSETTO:-0400
TZNAME:EDT
DTSTART:20260308T070000
END:DAYLIGHT
BEGIN:STANDARD
TZOFFSETFROM:-0400
TZOFFSETTO:-0500
TZNAME:EST
DTSTART:20261101T060000
END:STANDARD
END:VTIMEZONE
BEGIN:VEVENT
DTSTART;TZID=America/New_York:20250621T090000
DTEND;TZID=America/New_York:20250621T093000
DTSTAMP:20260421T113631
CREATED:20250614T234706Z
LAST-MODIFIED:20250614T234854Z
UID:10000813-1750496400-1750498200@www.readingrecap.com
SUMMARY:🐎 General Lafayette Visits Reading: 200th Anniversary Celebration
DESCRIPTION:General Lafayette Visits Reading \nAccording to The Genealogical History of Reading\, “General Lafayette\, in his visit to this country in 1825\, passed through this town on his way to Concord\, N.H. He stopped at the hotel that stood where the bank building now stands\, for half an hour or so. He made a short address to a crowd of the citizens that came to see and welcome him. The General was attended by another French gentleman and several carriages containing other distinguished parties.” \nProgram for June 21st\, 2025 \n-9:00 am\, Arrival of carriage at 643 Main Street\, Reading\, MA \n-Welcome by Peter Maguire \n-Address by Alan Hoffman\, President of the American Friends of Lafayette \n-Short address by Peter Maguire on the 50-year friendship between the Reading town doctor and Minute Man commander\, John Brooks\, and General Lafayette. \n-Address by General Lafayette. \n-Carriage continues down side street to the Senior Center to be picked up.
URL:https://www.readingrecap.com/event/%f0%9f%90%8e-lafayette-rides-again-200th-anniversary-celebration/
LOCATION:Downtown Reading\, 610 Main Street\, Reading\, MA\, 01867\, United States
ATTACH;FMTTYPE=image/webp:https://www.readingrecap.com/wp-content/uploads/2022/08/Lafayettes-Tour-Marker-Reading-MA.webp
END:VEVENT
BEGIN:VEVENT
DTSTART;TZID=America/New_York:20250621T130000
DTEND;TZID=America/New_York:20250621T190000
DTSTAMP:20260421T113631
CREATED:20250519T193311Z
LAST-MODIFIED:20250519T193311Z
UID:10000809-1750510800-1750532400@www.readingrecap.com
SUMMARY:🪘 Juneteenth Freedom Festival
DESCRIPTION:Reading Public Library\, Reading\, MA—Grab your family and friends\, take advantage of the longest day of the year\, and come down to the Town Common on Saturday\, June 21 to celebrate Juneteenth! This is a family-friendly event with music\, food\, speakers\, and a pop-up market.\n\nMore details will be available soon\, and in the meantime\, if you’d like to volunteer for the event or learn more about the program\, contact: Albert Pless: apless@readingma.gov
URL:https://www.readingrecap.com/event/%f0%9f%aa%98-juneteenth-freedom-festival-2/
LOCATION:Town Common\, 680 Main Street\, Reading\, MA\, 01867\, United States
CATEGORIES:Entertainment,Holiday
ATTACH;FMTTYPE=image/webp:https://www.readingrecap.com/wp-content/uploads/2025/05/Reading_Juneteenth_2025.webp
END:VEVENT
END:VCALENDAR