BEGIN:VCALENDAR
VERSION:2.0
PRODID:-//Recapping Everything in Reading, MA - ECPv6.15.20//NONSGML v1.0//EN
CALSCALE:GREGORIAN
METHOD:PUBLISH
X-WR-CALNAME:Recapping Everything in Reading, MA
X-ORIGINAL-URL:https://www.readingrecap.com
X-WR-CALDESC:Events for Recapping Everything in Reading, MA
REFRESH-INTERVAL;VALUE=DURATION:PT1H
X-Robots-Tag:noindex
X-PUBLISHED-TTL:PT1H
BEGIN:VTIMEZONE
TZID:America/New_York
BEGIN:DAYLIGHT
TZOFFSETFROM:-0500
TZOFFSETTO:-0400
TZNAME:EDT
DTSTART:20240310T070000
END:DAYLIGHT
BEGIN:STANDARD
TZOFFSETFROM:-0400
TZOFFSETTO:-0500
TZNAME:EST
DTSTART:20241103T060000
END:STANDARD
BEGIN:DAYLIGHT
TZOFFSETFROM:-0500
TZOFFSETTO:-0400
TZNAME:EDT
DTSTART:20250309T070000
END:DAYLIGHT
BEGIN:STANDARD
TZOFFSETFROM:-0400
TZOFFSETTO:-0500
TZNAME:EST
DTSTART:20251102T060000
END:STANDARD
BEGIN:DAYLIGHT
TZOFFSETFROM:-0500
TZOFFSETTO:-0400
TZNAME:EDT
DTSTART:20260308T070000
END:DAYLIGHT
BEGIN:STANDARD
TZOFFSETFROM:-0400
TZOFFSETTO:-0500
TZNAME:EST
DTSTART:20261101T060000
END:STANDARD
END:VTIMEZONE
BEGIN:VEVENT
DTSTART;TZID=America/New_York:20250517T090000
DTEND;TZID=America/New_York:20250517T130000
DTSTAMP:20260421T183432
CREATED:20250302T015043Z
LAST-MODIFIED:20250302T015043Z
UID:10000783-1747472400-1747486800@www.readingrecap.com
SUMMARY:♻️ Paper Shredding\, Rigid Plastics\, Electronics & Styrofoam Recycling
DESCRIPTION:Saturday\, May 17\, 2025\nDPW Garage\, 75 Newcrossing Rd\n9:00 am – 1:00 pm \n\nPaper Shredding – One box limit per household\nRigid Plastics – Plastic toys\, chairs\, containers\, etc.\nElectronics – Recycle your old Electronics! No CRT TV’s / Monitors\, or Major Appliances\nStyrofoam – Clean\, white #6 PS preformed block and sheet\, No food containers of any kind\, and No Colored Styrofoam.\nSimple Recycling – Textile Collection. Scheduled pickup service through www.SimpleRecycling.com \n\nResidents only – no businesses\nFor more info: www.readingma.gov
URL:https://www.readingrecap.com/event/%e2%99%bb%ef%b8%8f-paper-shredding-rigid-plastics-electronics-styrofoam-recycling-3/
LOCATION:Department of Public Works\, 75 New Crossing Rd\, Reading\, MA\, 01867\, United States
CATEGORIES:Public Works
ATTACH;FMTTYPE=image/png:https://www.readingrecap.com/wp-content/uploads/2025/03/DPW2025.png
END:VEVENT
BEGIN:VEVENT
DTSTART;TZID=America/New_York:20250517T100000
DTEND;TZID=America/New_York:20250517T150000
DTSTAMP:20260421T183432
CREATED:20250430T125744Z
LAST-MODIFIED:20250510T014732Z
UID:10000806-1747476000-1747494000@www.readingrecap.com
SUMMARY:🚮 Maillet\, Sommes\, and Morgan Conservation Area Cleanup
DESCRIPTION:**Update as of 5/9: Due to impending rain\, the community cleanup is moving to the rain date on Saturday\, May 17. \nJoin local volunteers for a day of outdoor community work as we care for our conservation land. Lend a hand clearing trails\, picking up litter\, and helping make the space safer\, cleaner\, and more beautiful for everyone.Let us know if you can make it! https://forms.gle/CeUitggE7kV2A6d8A
URL:https://www.readingrecap.com/event/%f0%9f%9a%ae-maillet-sommes-and-morgan-conservation-area-cleanup/
LOCATION:Maillet\, Sommes\, and Morgan Conservation Area\, 62 Willow Street\, Reading\, 01867\, United States
ATTACH;FMTTYPE=image/webp:https://www.readingrecap.com/wp-content/uploads/2025/04/494007696_1094736512679271_1535178540186022621_n.webp
END:VEVENT
END:VCALENDAR