BEGIN:VCALENDAR
VERSION:2.0
PRODID:-//Recapping Everything in Reading, MA - ECPv6.15.20//NONSGML v1.0//EN
CALSCALE:GREGORIAN
METHOD:PUBLISH
X-ORIGINAL-URL:https://www.readingrecap.com
X-WR-CALDESC:Events for Recapping Everything in Reading, MA
REFRESH-INTERVAL;VALUE=DURATION:PT1H
X-Robots-Tag:noindex
X-PUBLISHED-TTL:PT1H
BEGIN:VTIMEZONE
TZID:America/New_York
BEGIN:DAYLIGHT
TZOFFSETFROM:-0500
TZOFFSETTO:-0400
TZNAME:EDT
DTSTART:20240310T070000
END:DAYLIGHT
BEGIN:STANDARD
TZOFFSETFROM:-0400
TZOFFSETTO:-0500
TZNAME:EST
DTSTART:20241103T060000
END:STANDARD
BEGIN:DAYLIGHT
TZOFFSETFROM:-0500
TZOFFSETTO:-0400
TZNAME:EDT
DTSTART:20250309T070000
END:DAYLIGHT
BEGIN:STANDARD
TZOFFSETFROM:-0400
TZOFFSETTO:-0500
TZNAME:EST
DTSTART:20251102T060000
END:STANDARD
BEGIN:DAYLIGHT
TZOFFSETFROM:-0500
TZOFFSETTO:-0400
TZNAME:EDT
DTSTART:20260308T070000
END:DAYLIGHT
BEGIN:STANDARD
TZOFFSETFROM:-0400
TZOFFSETTO:-0500
TZNAME:EST
DTSTART:20261101T060000
END:STANDARD
END:VTIMEZONE
BEGIN:VEVENT
DTSTART;TZID=America/New_York:20250330T090000
DTEND;TZID=America/New_York:20250330T120000
DTSTAMP:20260424T005600
CREATED:20250223T200646Z
LAST-MODIFIED:20250223T200646Z
UID:10000775-1743325200-1743336000@www.readingrecap.com
SUMMARY:🐰 Easter Bunny at GoodHearts Childrens Shop
DESCRIPTION:The Easter Bunny will be at Good Hearts Sunday March 30th 9am-12pm. \nCapturing Simple Moments Photography will be joining us to photograph the children with the Easter Bunny.  \nThe cost for the event is $40 per family\, each family will have a visit and photo with the Easter Bunny. \nThe photos will be uploaded to a public gallery on Monday\, April 14th for download (at no additional charge) after the event. \n(On average 2 photos per family)  \nThe timeslot allows for up to 4 people a visit and photo with the Easter Bunny\, if you have a larger party please book an additional timeslot.  \nFee in nonrefundable.  \nTO SIGN UP: Choose an available time from drop down menu and add to cart. At check out make sure to select Store Pick Up to avoid paying shipping costs. \nIf you have any questions or need help booking a timeslot you can call the store at 781-942-9700 for assistance.
URL:https://www.readingrecap.com/event/%f0%9f%90%b0-easter-bunny-at-goodhearts-childrens-shop-2/
LOCATION:GoodHearts Childrens Shop\, 642 Main Street\, Reading\, MA\, 01867-1515\, United States
CATEGORIES:Holiday,Shop 01867
ATTACH;FMTTYPE=image/jpeg:https://www.readingrecap.com/wp-content/uploads/2025/02/Good-Hearts-Bunny-2025.jpg
ORGANIZER;CN="GoodHearts Childrens Shop":MAILTO:info@goodheartsshop.com
END:VEVENT
BEGIN:VEVENT
DTSTART;TZID=America/New_York:20250330T160000
DTEND;TZID=America/New_York:20250330T180000
DTSTAMP:20260424T005600
CREATED:20250310T015906Z
LAST-MODIFIED:20250310T015906Z
UID:10000794-1743350400-1743357600@www.readingrecap.com
SUMMARY:🎤10th Annual Tribute Concert and Hymn Sing
DESCRIPTION:10th Annual Tribute Concert and Hymn Sing \nMarch 30th\, 4 pm \nOld South United Methodist Church \nLocated at the top of Reading Square\, 6 Salem. St. \nCome hear wonderful solo and choir performances\, interspersed with your favorite hymns — at our 10th Tribute Concert and Hymn Sing! We will feature local talent\, graduates New England Conservatory and Berklee College of Music\, in addition to our brass ensemble\, handbell choir and the Tribute Concert choir.  It promises to be an uplifting afternoon of music.  https://www.oldsouthumc.org/ \nFunds are raised in advance of the concert to support the work Old South and the United Methodist Church which seeks to make this world a better place. The concert is free (no tickets!) but there is a goodwill offering\, if people feel inclined to give.  Mostly\, Old South just wants to fill the sanctuary with people and great music\, so please come join us! \nThere will be a reception following the concert\, too!
URL:https://www.readingrecap.com/event/%f0%9f%8e%a410th-annual-tribute-concert-and-hymn-sing/
LOCATION:Old South Methodist Church\, 6 Salem Street\, Reading\, 01867
CATEGORIES:Entertainment
ATTACH;FMTTYPE=image/jpeg:https://www.readingrecap.com/wp-content/uploads/2025/03/UMC.jpg
END:VEVENT
END:VCALENDAR