BEGIN:VCALENDAR
VERSION:2.0
PRODID:-//Recapping Everything in Reading, MA - ECPv6.15.20//NONSGML v1.0//EN
CALSCALE:GREGORIAN
METHOD:PUBLISH
X-ORIGINAL-URL:https://www.readingrecap.com
X-WR-CALDESC:Events for Recapping Everything in Reading, MA
REFRESH-INTERVAL;VALUE=DURATION:PT1H
X-Robots-Tag:noindex
X-PUBLISHED-TTL:PT1H
BEGIN:VTIMEZONE
TZID:America/New_York
BEGIN:DAYLIGHT
TZOFFSETFROM:-0500
TZOFFSETTO:-0400
TZNAME:EDT
DTSTART:20240310T070000
END:DAYLIGHT
BEGIN:STANDARD
TZOFFSETFROM:-0400
TZOFFSETTO:-0500
TZNAME:EST
DTSTART:20241103T060000
END:STANDARD
BEGIN:DAYLIGHT
TZOFFSETFROM:-0500
TZOFFSETTO:-0400
TZNAME:EDT
DTSTART:20250309T070000
END:DAYLIGHT
BEGIN:STANDARD
TZOFFSETFROM:-0400
TZOFFSETTO:-0500
TZNAME:EST
DTSTART:20251102T060000
END:STANDARD
BEGIN:DAYLIGHT
TZOFFSETFROM:-0500
TZOFFSETTO:-0400
TZNAME:EDT
DTSTART:20260308T070000
END:DAYLIGHT
BEGIN:STANDARD
TZOFFSETFROM:-0400
TZOFFSETTO:-0500
TZNAME:EST
DTSTART:20261101T060000
END:STANDARD
END:VTIMEZONE
BEGIN:VEVENT
DTSTART;TZID=America/New_York:20250324T190000
DTEND;TZID=America/New_York:20250324T210000
DTSTAMP:20260423T221414
CREATED:20250319T222947Z
LAST-MODIFIED:20250319T231629Z
UID:10000796-1742842800-1742850000@www.readingrecap.com
SUMMARY:🎙️ 1st Annual Candidate Conversations Forum
DESCRIPTION:On Monday May 24th from 7-9pm\, Reading Recap will be hosting it’s First Annual Candidate Conversations Forum! This will be our modern take on the typical Meet the Candidates forum of years past. Moderating both forums will be longtime Reading School Committee member\, Charles Robinson\, whose not seeking reelection this year. This will be your first look at this years candidates from the contested races of the Select Board and School Committee. We will be live-streaming it to our YouTube\, Facebook\, X and Twitch pages and it will be provided to RCTV for rebroadcast on television if they so choose. \nWe’ll have the URL’s up by this weekend as well as additional details.
URL:https://www.readingrecap.com/event/%f0%9f%8e%99%ef%b8%8f-1st-annual-candidate-conversations-forum/
LOCATION:Online
CATEGORIES:Elections,Forum
ATTACH;FMTTYPE=image/jpeg:https://www.readingrecap.com/wp-content/uploads/2025/03/Meet-the-Candidates-2.jpg
ORGANIZER;CN="Reading Recap":MAILTO:editor@readingrecap.com
END:VEVENT
END:VCALENDAR