BEGIN:VCALENDAR
VERSION:2.0
PRODID:-//Recapping Everything in Reading, MA - ECPv6.15.20//NONSGML v1.0//EN
CALSCALE:GREGORIAN
METHOD:PUBLISH
X-ORIGINAL-URL:https://www.readingrecap.com
X-WR-CALDESC:Events for Recapping Everything in Reading, MA
REFRESH-INTERVAL;VALUE=DURATION:PT1H
X-Robots-Tag:noindex
X-PUBLISHED-TTL:PT1H
BEGIN:VTIMEZONE
TZID:America/New_York
BEGIN:DAYLIGHT
TZOFFSETFROM:-0500
TZOFFSETTO:-0400
TZNAME:EDT
DTSTART:20240310T070000
END:DAYLIGHT
BEGIN:STANDARD
TZOFFSETFROM:-0400
TZOFFSETTO:-0500
TZNAME:EST
DTSTART:20241103T060000
END:STANDARD
BEGIN:DAYLIGHT
TZOFFSETFROM:-0500
TZOFFSETTO:-0400
TZNAME:EDT
DTSTART:20250309T070000
END:DAYLIGHT
BEGIN:STANDARD
TZOFFSETFROM:-0400
TZOFFSETTO:-0500
TZNAME:EST
DTSTART:20251102T060000
END:STANDARD
BEGIN:DAYLIGHT
TZOFFSETFROM:-0500
TZOFFSETTO:-0400
TZNAME:EDT
DTSTART:20260308T070000
END:DAYLIGHT
BEGIN:STANDARD
TZOFFSETFROM:-0400
TZOFFSETTO:-0500
TZNAME:EST
DTSTART:20261101T060000
END:STANDARD
END:VTIMEZONE
BEGIN:VEVENT
DTSTART;TZID=America/New_York:20250307T190000
DTEND;TZID=America/New_York:20250307T203000
DTSTAMP:20260425T065849
CREATED:20250223T195532Z
LAST-MODIFIED:20250223T195532Z
UID:10000773-1741374000-1741379400@www.readingrecap.com
SUMMARY:🎭 "Curtains the Musical" by the Parker Middle School Drama Club
DESCRIPTION:CURTAINS THE MUSICAL is playing at Reading Memorial High School on March 6th at 6:30 pm\, March 7th at 7 pm\, and March 8th at 2 pm. The show\, put on by the Parker Middle School Drama Club\, is a musical comedy about a murder mystery that takes place backstage at a 1959 Boston theater. The Parker Drama Club cast and crew are led by director Stephen MacDonald\, musical director Jennifer DiMuzio\, and choreographer Nancy Katz. All performances of CURTAINS THE MUSICAL are open to the general public at RMHS Performing Arts Center. Admission is $15 per adult and $12 per student/senior. Purchase tickets at https://cur8.com/19736/project/129934
URL:https://www.readingrecap.com/event/%f0%9f%8e%ad-curtains-the-musical-by-the-parker-middle-school-drama-club/2025-03-07/
LOCATION:Reading Memorial High School\, 62 Oakland Rd\, Reading\, MA\, 01867\, United States
CATEGORIES:Entertainment
ATTACH;FMTTYPE=image/jpeg:https://www.readingrecap.com/wp-content/uploads/2025/02/Curtains.jpg
ORGANIZER;CN="Parker Drama":MAILTO:parkerdramaticketsales@gmail.com
END:VEVENT
END:VCALENDAR