BEGIN:VCALENDAR
VERSION:2.0
PRODID:-//Recapping Everything in Reading, MA - ECPv6.15.20//NONSGML v1.0//EN
CALSCALE:GREGORIAN
METHOD:PUBLISH
X-ORIGINAL-URL:https://www.readingrecap.com
X-WR-CALDESC:Events for Recapping Everything in Reading, MA
REFRESH-INTERVAL;VALUE=DURATION:PT1H
X-Robots-Tag:noindex
X-PUBLISHED-TTL:PT1H
BEGIN:VTIMEZONE
TZID:America/New_York
BEGIN:DAYLIGHT
TZOFFSETFROM:-0500
TZOFFSETTO:-0400
TZNAME:EDT
DTSTART:20240310T070000
END:DAYLIGHT
BEGIN:STANDARD
TZOFFSETFROM:-0400
TZOFFSETTO:-0500
TZNAME:EST
DTSTART:20241103T060000
END:STANDARD
BEGIN:DAYLIGHT
TZOFFSETFROM:-0500
TZOFFSETTO:-0400
TZNAME:EDT
DTSTART:20250309T070000
END:DAYLIGHT
BEGIN:STANDARD
TZOFFSETFROM:-0400
TZOFFSETTO:-0500
TZNAME:EST
DTSTART:20251102T060000
END:STANDARD
BEGIN:DAYLIGHT
TZOFFSETFROM:-0500
TZOFFSETTO:-0400
TZNAME:EDT
DTSTART:20260308T070000
END:DAYLIGHT
BEGIN:STANDARD
TZOFFSETFROM:-0400
TZOFFSETTO:-0500
TZNAME:EST
DTSTART:20261101T060000
END:STANDARD
END:VTIMEZONE
BEGIN:VEVENT
DTSTART;TZID=America/New_York:20250306T170000
DTEND;TZID=America/New_York:20250306T200000
DTSTAMP:20260425T203838
CREATED:20250112T005129Z
LAST-MODIFIED:20250125T234908Z
UID:10000722-1741280400-1741291200@www.readingrecap.com
SUMMARY:❄️ Winterfest 2025
DESCRIPTION:Our Third Annual Winterfest is shaping up to be another great event. If you’ve never been\, you have missed out on seeing hundreds of your local customers socializing and sipping on Reading Common as the March sunsets. \nWhat is Winterfest? Winterfest is the annual outdoor celebration of downtown Reading. Established in 2022 by the Reading-North Reading Chamber of Commerce. It was created to bring the community together in a family-friendly environment as the coldest days of winter start to fade. \nThis year\, there will be fire tables and s’mores\, music\, local food and beer vendors\, lit ice sculptures\, and more. Stroll the downtown\, pop into stores and restaurants\, and make memories. \nThis is a rain-or-shine event.
URL:https://www.readingrecap.com/event/%e2%9d%84%ef%b8%8f-winterfest-2025/
LOCATION:Town Common\, 680 Main Street\, Reading\, MA\, 01867\, United States
CATEGORIES:Beer Garden,Entertainment
ATTACH;FMTTYPE=image/png:https://www.readingrecap.com/wp-content/uploads/2022/12/Winterfest-2023.png
ORGANIZER;CN="Reading North Reading Chamber of Commerce":MAILTO:info@rnrchamber.com
END:VEVENT
BEGIN:VEVENT
DTSTART;TZID=America/New_York:20250306T183000
DTEND;TZID=America/New_York:20250306T200000
DTSTAMP:20260425T203838
CREATED:20250223T195532Z
LAST-MODIFIED:20250223T195532Z
UID:10000772-1741285800-1741291200@www.readingrecap.com
SUMMARY:🎭 "Curtains the Musical" by the Parker Middle School Drama Club
DESCRIPTION:CURTAINS THE MUSICAL is playing at Reading Memorial High School on March 6th at 6:30 pm\, March 7th at 7 pm\, and March 8th at 2 pm. The show\, put on by the Parker Middle School Drama Club\, is a musical comedy about a murder mystery that takes place backstage at a 1959 Boston theater. The Parker Drama Club cast and crew are led by director Stephen MacDonald\, musical director Jennifer DiMuzio\, and choreographer Nancy Katz. All performances of CURTAINS THE MUSICAL are open to the general public at RMHS Performing Arts Center. Admission is $15 per adult and $12 per student/senior. Purchase tickets at https://cur8.com/19736/project/129934
URL:https://www.readingrecap.com/event/%f0%9f%8e%ad-curtains-the-musical-by-the-parker-middle-school-drama-club/2025-03-06/
LOCATION:Reading Memorial High School\, 62 Oakland Rd\, Reading\, MA\, 01867\, United States
CATEGORIES:Entertainment
ATTACH;FMTTYPE=image/jpeg:https://www.readingrecap.com/wp-content/uploads/2025/02/Curtains.jpg
ORGANIZER;CN="Parker Drama":MAILTO:parkerdramaticketsales@gmail.com
END:VEVENT
END:VCALENDAR