BEGIN:VCALENDAR
VERSION:2.0
PRODID:-//Recapping Everything in Reading, MA - ECPv6.15.20//NONSGML v1.0//EN
CALSCALE:GREGORIAN
METHOD:PUBLISH
X-ORIGINAL-URL:https://www.readingrecap.com
X-WR-CALDESC:Events for Recapping Everything in Reading, MA
REFRESH-INTERVAL;VALUE=DURATION:PT1H
X-Robots-Tag:noindex
X-PUBLISHED-TTL:PT1H
BEGIN:VTIMEZONE
TZID:America/New_York
BEGIN:DAYLIGHT
TZOFFSETFROM:-0500
TZOFFSETTO:-0400
TZNAME:EDT
DTSTART:20240310T070000
END:DAYLIGHT
BEGIN:STANDARD
TZOFFSETFROM:-0400
TZOFFSETTO:-0500
TZNAME:EST
DTSTART:20241103T060000
END:STANDARD
BEGIN:DAYLIGHT
TZOFFSETFROM:-0500
TZOFFSETTO:-0400
TZNAME:EDT
DTSTART:20250309T070000
END:DAYLIGHT
BEGIN:STANDARD
TZOFFSETFROM:-0400
TZOFFSETTO:-0500
TZNAME:EST
DTSTART:20251102T060000
END:STANDARD
BEGIN:DAYLIGHT
TZOFFSETFROM:-0500
TZOFFSETTO:-0400
TZNAME:EDT
DTSTART:20260308T070000
END:DAYLIGHT
BEGIN:STANDARD
TZOFFSETFROM:-0400
TZOFFSETTO:-0500
TZNAME:EST
DTSTART:20261101T060000
END:STANDARD
END:VTIMEZONE
BEGIN:VEVENT
DTSTART;TZID=America/New_York:20250303T190000
DTEND;TZID=America/New_York:20250303T210000
DTSTAMP:20260424T145552
CREATED:20250226T183929Z
LAST-MODIFIED:20250226T183929Z
UID:10000779-1741028400-1741035600@www.readingrecap.com
SUMMARY:💬 Auschwitz Survivor to Speak in Reading
DESCRIPTION:On March 3\, 2025\, the Reading community will have a rare opportunity to hear first hand testimony from 97-year-old Holocaust survivor Helga Melmed. Hosted by Chabad of Wakefield\, the event will take place at the William E. Endslow Performing Arts Center at Reading Memorial High School and is open to the public.\n\n \n\nBorn in Berlin\, Melmed’s childhood was shattered by the rise of Nazi Germany. At just five years old\, she was called a “dirty Jew” and beaten by her teacher. By the time she was thirteen\, she and her parents had been deported to the Lodz Ghetto\, where her father perished. She was later sent to Auschwitz\, forced into labor camps\, and endured a brutal death march to\n\n \n\nBergen-Belsen\, where she was near death when the British liberated the camp in 1945.\n\n \n\nNow residing in Florida\, Melmed is making a special trip to Massachusetts for this event\, recognizing the urgent need to share her story amid rising antisemitism.\n\n \n\n“There is so much hate in the world today\,” Melmed says. “I speak so people understand where hate leads\, and why we must choose kindness instead.”\n\n \n\nThe evening will feature a moving performance of the theme from Schindler’s List\, setting the tone for reflection and remembrance.\n\n \n\nTickets are $18 for adults and $10 for students and can be purchased at\n\n \n\nwww.JewishWakefield.com/tickets or by calling 781-205-9593.\n\n \n\nThis event is made possible by Chabad of Wakefield and generous corporate sponsors\, ensuring that Melmed’s message continues to educate and inspire generations to come.
URL:https://www.readingrecap.com/event/%f0%9f%92%ac-auschwitz-survivor-to-speak-in-reading/
LOCATION:Reading Memorial High School\, 62 Oakland Rd\, Reading\, MA\, 01867\, United States
CATEGORIES:Forum
ATTACH;FMTTYPE=image/webp:https://www.readingrecap.com/wp-content/uploads/2025/02/aoUU13113930.webp
END:VEVENT
END:VCALENDAR