BEGIN:VCALENDAR
VERSION:2.0
PRODID:-//Recapping Everything in Reading, MA - ECPv6.15.20//NONSGML v1.0//EN
CALSCALE:GREGORIAN
METHOD:PUBLISH
X-WR-CALNAME:Recapping Everything in Reading, MA
X-ORIGINAL-URL:https://www.readingrecap.com
X-WR-CALDESC:Events for Recapping Everything in Reading, MA
REFRESH-INTERVAL;VALUE=DURATION:PT1H
X-Robots-Tag:noindex
X-PUBLISHED-TTL:PT1H
BEGIN:VTIMEZONE
TZID:America/New_York
BEGIN:DAYLIGHT
TZOFFSETFROM:-0500
TZOFFSETTO:-0400
TZNAME:EDT
DTSTART:20240310T070000
END:DAYLIGHT
BEGIN:STANDARD
TZOFFSETFROM:-0400
TZOFFSETTO:-0500
TZNAME:EST
DTSTART:20241103T060000
END:STANDARD
BEGIN:DAYLIGHT
TZOFFSETFROM:-0500
TZOFFSETTO:-0400
TZNAME:EDT
DTSTART:20250309T070000
END:DAYLIGHT
BEGIN:STANDARD
TZOFFSETFROM:-0400
TZOFFSETTO:-0500
TZNAME:EST
DTSTART:20251102T060000
END:STANDARD
BEGIN:DAYLIGHT
TZOFFSETFROM:-0500
TZOFFSETTO:-0400
TZNAME:EDT
DTSTART:20260308T070000
END:DAYLIGHT
BEGIN:STANDARD
TZOFFSETFROM:-0400
TZOFFSETTO:-0500
TZNAME:EST
DTSTART:20261101T060000
END:STANDARD
END:VTIMEZONE
BEGIN:VEVENT
DTSTART;TZID=America/New_York:20250225T183000
DTEND;TZID=America/New_York:20250225T200000
DTSTAMP:20260424T075641
CREATED:20250219T170536Z
LAST-MODIFIED:20250219T170536Z
UID:10000770-1740508200-1740513600@www.readingrecap.com
SUMMARY:🌳 Birch Meadow Phase II Public Forum
DESCRIPTION:The Town of Reading will be holding a Public Forum on Tuesday February 25th\, 2025\, at 6:30 for the Birch Meadow Phase II Project\, located off Bancroft Ave. This project is part of the Birch Meadow Master Plan and will include renovations to the two basketball courts\, the tot lot playground\, and additional parking on Bancroft Ave.\n\n \n\nIf you’re interested in learning more about the impact of this project or have any questions\, we encourage you to attend the meeting in person\, in the Town Hall conference e room or via Zoom. Link here: https://us06web.zoom.us/j/89984900072…\n\n \n\nIf you have any questions prior to the meeting\, please reach out directly to Recreation Administrator Jim Sullivan at jsullivan@readingma.gov.
URL:https://www.readingrecap.com/event/%f0%9f%8c%b3-birch-meadow-phase-ii-public-forum/
LOCATION:Town Hall\, 16 Lowell Street\, Reading\, MA\, 01867\, United States
CATEGORIES:Forum,Recreation Division
ATTACH;FMTTYPE=image/jpeg:https://www.readingrecap.com/wp-content/uploads/2025/02/Birch-forum.jpg
ORGANIZER;CN="Reading Recreation Division":MAILTO:recreation@ci.reading.ma.us
END:VEVENT
BEGIN:VEVENT
DTSTART;TZID=America/New_York:20250225T183000
DTEND;TZID=America/New_York:20250225T200000
DTSTAMP:20260424T075641
CREATED:20250219T171205Z
LAST-MODIFIED:20250219T171206Z
UID:10000771-1740508200-1740513600@www.readingrecap.com
SUMMARY:🧠 Black History Trivia Night
DESCRIPTION:Join us on Tuesday February 25\, 6:30 pm for an evening of Black history trivia at the Reading Public Library Studio and for the unveiling of a Harriet Tubman portrait painted by Reading’s own\, Rob Surette. There will be prizes for the trivia winners!
URL:https://www.readingrecap.com/event/%f0%9f%a7%a0-black-history-trivia-night/
LOCATION:Reading Public Library\, 64 Middlesex Ave\, Reading\, MA\, 01867\, United States
CATEGORIES:Entertainment,Reading Public Library
ATTACH;FMTTYPE=image/png:https://www.readingrecap.com/wp-content/uploads/2025/02/Trivia.png
END:VEVENT
BEGIN:VEVENT
DTSTART;TZID=America/New_York:20250225T190000
DTEND;TZID=America/New_York:20250225T203000
DTSTAMP:20260424T075641
CREATED:20250212T030635Z
LAST-MODIFIED:20250212T030635Z
UID:10000769-1740510000-1740515400@www.readingrecap.com
SUMMARY:🚆 MBTA Turnback Track Public Meeting
DESCRIPTION:The MBTA will host an in-person public meeting on its Reading Turnback Track project on Tuesday\, February 25\, 2025\, at 7:00 – 8:30 PM\, at the Pleasant Street Center\, 49 Pleasant Street in Reading. The purpose of the meeting is to provide an update on the progress and benefits of the project and answer questions. The project will allow the MBTA to increase weekday Commuter Rail train frequency into and out of Boston to 30-minute intervals all day.
URL:https://www.readingrecap.com/event/%f0%9f%9a%86-mbta-turnback-track-public-meeting/
LOCATION:Pleasant Street Center\, 49 Pleasant Street\, Reading\, MA\, 01867\, United States
CATEGORIES:Construction,Forum
ATTACH;FMTTYPE=image/jpeg:https://www.readingrecap.com/wp-content/uploads/2025/02/MBTA-2nd-Track.jpg
END:VEVENT
END:VCALENDAR