BEGIN:VCALENDAR
VERSION:2.0
PRODID:-//Recapping Everything in Reading, MA - ECPv6.15.20//NONSGML v1.0//EN
CALSCALE:GREGORIAN
METHOD:PUBLISH
X-ORIGINAL-URL:https://www.readingrecap.com
X-WR-CALDESC:Events for Recapping Everything in Reading, MA
REFRESH-INTERVAL;VALUE=DURATION:PT1H
X-Robots-Tag:noindex
X-PUBLISHED-TTL:PT1H
BEGIN:VTIMEZONE
TZID:America/New_York
BEGIN:DAYLIGHT
TZOFFSETFROM:-0500
TZOFFSETTO:-0400
TZNAME:EDT
DTSTART:20240310T070000
END:DAYLIGHT
BEGIN:STANDARD
TZOFFSETFROM:-0400
TZOFFSETTO:-0500
TZNAME:EST
DTSTART:20241103T060000
END:STANDARD
BEGIN:DAYLIGHT
TZOFFSETFROM:-0500
TZOFFSETTO:-0400
TZNAME:EDT
DTSTART:20250309T070000
END:DAYLIGHT
BEGIN:STANDARD
TZOFFSETFROM:-0400
TZOFFSETTO:-0500
TZNAME:EST
DTSTART:20251102T060000
END:STANDARD
BEGIN:DAYLIGHT
TZOFFSETFROM:-0500
TZOFFSETTO:-0400
TZNAME:EDT
DTSTART:20260308T070000
END:DAYLIGHT
BEGIN:STANDARD
TZOFFSETFROM:-0400
TZOFFSETTO:-0500
TZNAME:EST
DTSTART:20261101T060000
END:STANDARD
END:VTIMEZONE
BEGIN:VEVENT
DTSTART;TZID=America/New_York:20250209T140000
DTEND;TZID=America/New_York:20250209T153000
DTSTAMP:20260425T211346
CREATED:20250112T004938Z
LAST-MODIFIED:20250112T004938Z
UID:10000721-1739109600-1739115000@www.readingrecap.com
SUMMARY:🎭 RMHS Drama Club Presents "An Unoriginal Original"
DESCRIPTION:Title: RMHS Drama Club Presents “An Unoriginal Original”\nWhen:\nFeb 7th & 8th at 7:30 pm\nFeb 9th at 2:00 pm\nWhere: RMHS Endslow Performing Arts Center\, 62 Oakland Rd\, Reading\, MA 01867\nTickets: https://www.rmhsdrama.org/\nFacebook: https://www.facebook.com/share/1De85epEgu/\nDescription:\nGet ready for a wild ride in the RMHS Drama Club’s fast-paced comedy\, “An Unoriginal Original”! This uproarious one-act play takes a sharp and hilarious dive into the world of “ART-ificial Intelligence\,” where creativity meets technology in the most unexpected ways. Watch as the cast navigates a chaotic and comical exploration of what it means to be truly original in a world of endless influences and algorithms. From surprise twists to laugh-out-loud moments\, this show promises to keep you on the edge of your seat.\nDon’t miss this truly one-of-a-kind production\, which will be entering the prestigious METG One Act Play Festival in March!\nAdapted by the Cast\nDirected by Mrs. Natalie Cunha\nAssistant Directed by Ms. Katie Donovan
URL:https://www.readingrecap.com/event/%f0%9f%8e%ad-rmhs-drama-club-presents-an-unoriginal-original/2025-02-09/
LOCATION:Reading Memorial High School\, 62 Oakland Rd\, Reading\, MA\, 01867\, United States
ATTACH;FMTTYPE=image/png:https://www.readingrecap.com/wp-content/uploads/2025/01/An-Unoriginal-Original-Instagram-Post-Square.png
ORGANIZER;CN="RMHS Drama Club":MAILTO:psstofficers@gmail.com
END:VEVENT
END:VCALENDAR