BEGIN:VCALENDAR
VERSION:2.0
PRODID:-//Recapping Everything in Reading, MA - ECPv6.15.20//NONSGML v1.0//EN
CALSCALE:GREGORIAN
METHOD:PUBLISH
X-ORIGINAL-URL:https://www.readingrecap.com
X-WR-CALDESC:Events for Recapping Everything in Reading, MA
REFRESH-INTERVAL;VALUE=DURATION:PT1H
X-Robots-Tag:noindex
X-PUBLISHED-TTL:PT1H
BEGIN:VTIMEZONE
TZID:America/New_York
BEGIN:DAYLIGHT
TZOFFSETFROM:-0500
TZOFFSETTO:-0400
TZNAME:EDT
DTSTART:20220313T070000
END:DAYLIGHT
BEGIN:STANDARD
TZOFFSETFROM:-0400
TZOFFSETTO:-0500
TZNAME:EST
DTSTART:20221106T060000
END:STANDARD
BEGIN:DAYLIGHT
TZOFFSETFROM:-0500
TZOFFSETTO:-0400
TZNAME:EDT
DTSTART:20230312T070000
END:DAYLIGHT
BEGIN:STANDARD
TZOFFSETFROM:-0400
TZOFFSETTO:-0500
TZNAME:EST
DTSTART:20231105T060000
END:STANDARD
BEGIN:DAYLIGHT
TZOFFSETFROM:-0500
TZOFFSETTO:-0400
TZNAME:EDT
DTSTART:20240310T070000
END:DAYLIGHT
BEGIN:STANDARD
TZOFFSETFROM:-0400
TZOFFSETTO:-0500
TZNAME:EST
DTSTART:20241103T060000
END:STANDARD
END:VTIMEZONE
BEGIN:VEVENT
DTSTART;TZID=America/New_York:20231015T090000
DTEND;TZID=America/New_York:20231015T100000
DTSTAMP:20260420T075817
CREATED:20231002T011622Z
LAST-MODIFIED:20231002T011845Z
UID:10000523-1697360400-1697364000@www.readingrecap.com
SUMMARY:🎗️ 10th Annual Laurel Kluge 5K Ribbon Run & Walk
DESCRIPTION:Join us for this fun\, festive\, family-friendly run in honor of Laurel Kluge’s vibrant memory If you would like to volunteer\, cut and paste this link to a separate browser: https://ymcaboston.volunteermatters.org/project-catalog/130 \nTo register for the race: \nhttps://www.racemenu.com/events/223293-10th-Annual-Laurel-Kluge-5K-Ribbon-Run-Walk- \n  9:00 AM\, Sun. Oct 15\, 2023 \n36 Arthur B Lord Drive Reading\, MA 01867
URL:https://www.readingrecap.com/event/%f0%9f%8e%97%ef%b8%8f-10th-annual-laurel-kluge-5k-ribbon-run-walk/
LOCATION:Burbank YMCA\, 36 Arthur B Lord Dr\, Reading\, MA\, 01867\, United States
CATEGORIES:Fundraiser
ATTACH;FMTTYPE=image/jpeg:https://www.readingrecap.com/wp-content/uploads/2023/10/Logo_2015_Laurel_Kluge.jpg
ORGANIZER;CN="Burbank YMCA":MAILTO:BurbankY@ymcaboston.org
END:VEVENT
BEGIN:VEVENT
DTSTART;TZID=America/New_York:20231015T110000
DTEND;TZID=America/New_York:20231015T130000
DTSTAMP:20260420T075817
CREATED:20231010T012221Z
LAST-MODIFIED:20231010T012221Z
UID:10000538-1697367600-1697374800@www.readingrecap.com
SUMMARY:😱 Reading Lions Club Scarecrow Contest
DESCRIPTION:SCARECROW  CONTEST 2023\n\n\nCelebrate fall with the 3rd Annual Lions Scarecrow Contest! Show your harvest spirit by creating a festive scarecrow for your front yard or business. \nThis is a wonderful activity for the whole family or your organization\, and your generous donation goes directly to charities supported by the Reading Lions Club.\n \nHave fun & be creative!\nPrizes for Scariest\, Funniest\, and Best Overall\n\n\nIt’s spookily easy to participate:\nThere are 2 easy ways to pick up your Scarecrow Basics Kit. \n\n$20 donation to enter. Kit includes scarecrow basics\, and   there are 2 sizes available.\nPick up your kit at Harrows Chicken Pie\, 125 Main Street\n\nSundays Oct. 1\, 8 or 15 from 11:00 am-1:00 pm\nMondays Oct. 2\, 9\, or 16 from 2:00-4:00 pm\n\n\nOr\, contact us to pick up/deliver your kit by Oct 18. via email: readinglions01867@gmail.com or call 781-944-8419.\nSubmit your photos by Oct. 21 to: readinglions01867@gmail.com\nInclude your name and your contact details! \nWinners announced Oct. 26
URL:https://www.readingrecap.com/event/%f0%9f%98%b1-reading-lions-club-scarecrow-contest/2023-10-15/
LOCATION:Reading (Townwide)\, Reading\, MA\, 01867\, United States
CATEGORIES:Fundraiser
ATTACH;FMTTYPE=image/jpeg:https://www.readingrecap.com/wp-content/uploads/2023/10/Scarecrow-Contest-2023.jpg
ORGANIZER;CN="Reading Lions Club":MAILTO:info@readinglionsclub.org
END:VEVENT
END:VCALENDAR