BEGIN:VCALENDAR
VERSION:2.0
PRODID:-//Recapping Everything in Reading, MA - ECPv6.15.20//NONSGML v1.0//EN
CALSCALE:GREGORIAN
METHOD:PUBLISH
X-ORIGINAL-URL:https://www.readingrecap.com
X-WR-CALDESC:Events for Recapping Everything in Reading, MA
REFRESH-INTERVAL;VALUE=DURATION:PT1H
X-Robots-Tag:noindex
X-PUBLISHED-TTL:PT1H
BEGIN:VTIMEZONE
TZID:America/New_York
BEGIN:DAYLIGHT
TZOFFSETFROM:-0500
TZOFFSETTO:-0400
TZNAME:EDT
DTSTART:20220313T070000
END:DAYLIGHT
BEGIN:STANDARD
TZOFFSETFROM:-0400
TZOFFSETTO:-0500
TZNAME:EST
DTSTART:20221106T060000
END:STANDARD
BEGIN:DAYLIGHT
TZOFFSETFROM:-0500
TZOFFSETTO:-0400
TZNAME:EDT
DTSTART:20230312T070000
END:DAYLIGHT
BEGIN:STANDARD
TZOFFSETFROM:-0400
TZOFFSETTO:-0500
TZNAME:EST
DTSTART:20231105T060000
END:STANDARD
BEGIN:DAYLIGHT
TZOFFSETFROM:-0500
TZOFFSETTO:-0400
TZNAME:EDT
DTSTART:20240310T070000
END:DAYLIGHT
BEGIN:STANDARD
TZOFFSETFROM:-0400
TZOFFSETTO:-0500
TZNAME:EST
DTSTART:20241103T060000
END:STANDARD
END:VTIMEZONE
BEGIN:VEVENT
DTSTART;TZID=America/New_York:20230714T120000
DTEND;TZID=America/New_York:20230714T150000
DTSTAMP:20260420T105412
CREATED:20230628T040825Z
LAST-MODIFIED:20230712T160903Z
UID:10000396-1689336000-1689346800@www.readingrecap.com
SUMMARY:*POSTPONED* 🛍️ Shop the Block on the Common
DESCRIPTION:***Postponed due to weather. A new date is currently in the works.*** \nShow Pride in Your Community. \nShop Local on the Reading Town Common. \nLocation: Reading Town Common (16 Lowell Street\, Reading MA) \nDate/Time: Friday\, July 14th from 12pm to 3pm \nParking: Upper Haven Lot\, Woburn Street\, On Street Parking throughout Downtown \nEnjoy shopping your favorite local retailers while strolling the Reading Town Common and connecting with your fellow neighbors. Order lunch to the Common from Reading’s downtown food establishments and support our thriving downtown district!
URL:https://www.readingrecap.com/event/shop-the-block-on-the-common/
LOCATION:Town Common\, 680 Main Street\, Reading\, MA\, 01867\, United States
CATEGORIES:Local Business,Shop 01867
ATTACH;FMTTYPE=image/jpeg:https://www.readingrecap.com/wp-content/uploads/2023/06/POSTPONED-Shop-the-Block-On-the-Common.jpg
ORGANIZER;CN="Reading North Reading Chamber of Commerce":MAILTO:info@rnrchamber.com
END:VEVENT
END:VCALENDAR