BEGIN:VCALENDAR
VERSION:2.0
PRODID:-//Recapping Everything in Reading, MA - ECPv6.15.20//NONSGML v1.0//EN
CALSCALE:GREGORIAN
METHOD:PUBLISH
X-WR-CALNAME:Recapping Everything in Reading, MA
X-ORIGINAL-URL:https://www.readingrecap.com
X-WR-CALDESC:Events for Recapping Everything in Reading, MA
REFRESH-INTERVAL;VALUE=DURATION:PT1H
X-Robots-Tag:noindex
X-PUBLISHED-TTL:PT1H
BEGIN:VTIMEZONE
TZID:America/New_York
BEGIN:DAYLIGHT
TZOFFSETFROM:-0500
TZOFFSETTO:-0400
TZNAME:EDT
DTSTART:20220313T070000
END:DAYLIGHT
BEGIN:STANDARD
TZOFFSETFROM:-0400
TZOFFSETTO:-0500
TZNAME:EST
DTSTART:20221106T060000
END:STANDARD
BEGIN:DAYLIGHT
TZOFFSETFROM:-0500
TZOFFSETTO:-0400
TZNAME:EDT
DTSTART:20230312T070000
END:DAYLIGHT
BEGIN:STANDARD
TZOFFSETFROM:-0400
TZOFFSETTO:-0500
TZNAME:EST
DTSTART:20231105T060000
END:STANDARD
BEGIN:DAYLIGHT
TZOFFSETFROM:-0500
TZOFFSETTO:-0400
TZNAME:EDT
DTSTART:20240310T070000
END:DAYLIGHT
BEGIN:STANDARD
TZOFFSETFROM:-0400
TZOFFSETTO:-0500
TZNAME:EST
DTSTART:20241103T060000
END:STANDARD
END:VTIMEZONE
BEGIN:VEVENT
DTSTART;TZID=America/New_York:20230713T200000
DTEND;TZID=America/New_York:20230713T233000
DTSTAMP:20260421T221059
CREATED:20230707T035559Z
LAST-MODIFIED:20230707T035926Z
UID:10000400-1689278400-1689291000@www.readingrecap.com
SUMMARY:🦟 Mosquito Spraying
DESCRIPTION:On Thursday\, July 13\, 2023\, spraying is scheduled for areas of Reading that are located west of Route 28 and north of Route 129. Also included are roads in the vicinity of Dustin Road\, Berkeley Street\, Bond Street and Mineral Street. The East Middlesex Mosquito Control Project is planning to use a truck mounted aerosol sprayer to apply Zenivex E4 (EPA Reg No. 2724.807) at a rate of 1 oz per acre. \nIf any of the nights are postponed\, spraying will be rescheduled for the following week. \nThe mosquito control product being used is Zenivex E4 (EPA Reg No. 2724.807)\, and it’s being applied at 1 oz per acre. Zenivex E4 is a non-ester pyrethroid and is classified by the EPA as a reduced risk pesticide. Mosquito control applications of Zenivex E4 do not pose a significant risk to people or their pets due to the low toxicity and the small amount used to control mosquitoes. As with any pesticide\, people should minimize their exposure.  If residents see a spray truck approaching\, they are advised to go indoors for a few minutes while the spray dissipates. Residents are also advised to close windows. Beekeepers do not need to take any special precautions since spraying begins after dusk. Zenivex E4 biodegrades rapidly and doesn’t build up in the environment. \nIf residents have any questions related to mosquitoes or mosquito control\, contact the East Middlesex Mosquito Control Project at 781-899-5730. The spray schedule can be found at the Project website at http://sudbury.ma.us/emmcp/
URL:https://www.readingrecap.com/event/%f0%9f%a6%9f-mosquito-spraying/
LOCATION:Reading (Townwide)\, Reading\, MA\, 01867\, United States
CATEGORIES:Miscellaneous
ATTACH;FMTTYPE=image/jpeg:https://www.readingrecap.com/wp-content/uploads/2023/07/Mosquito-Spraying.jpg
END:VEVENT
END:VCALENDAR