BEGIN:VCALENDAR
VERSION:2.0
PRODID:-//Recapping Everything in Reading, MA - ECPv6.15.20//NONSGML v1.0//EN
CALSCALE:GREGORIAN
METHOD:PUBLISH
X-ORIGINAL-URL:https://www.readingrecap.com
X-WR-CALDESC:Events for Recapping Everything in Reading, MA
REFRESH-INTERVAL;VALUE=DURATION:PT1H
X-Robots-Tag:noindex
X-PUBLISHED-TTL:PT1H
BEGIN:VTIMEZONE
TZID:America/New_York
BEGIN:DAYLIGHT
TZOFFSETFROM:-0500
TZOFFSETTO:-0400
TZNAME:EDT
DTSTART:20220313T070000
END:DAYLIGHT
BEGIN:STANDARD
TZOFFSETFROM:-0400
TZOFFSETTO:-0500
TZNAME:EST
DTSTART:20221106T060000
END:STANDARD
BEGIN:DAYLIGHT
TZOFFSETFROM:-0500
TZOFFSETTO:-0400
TZNAME:EDT
DTSTART:20230312T070000
END:DAYLIGHT
BEGIN:STANDARD
TZOFFSETFROM:-0400
TZOFFSETTO:-0500
TZNAME:EST
DTSTART:20231105T060000
END:STANDARD
BEGIN:DAYLIGHT
TZOFFSETFROM:-0500
TZOFFSETTO:-0400
TZNAME:EDT
DTSTART:20240310T070000
END:DAYLIGHT
BEGIN:STANDARD
TZOFFSETFROM:-0400
TZOFFSETTO:-0500
TZNAME:EST
DTSTART:20241103T060000
END:STANDARD
END:VTIMEZONE
BEGIN:VEVENT
DTSTART;TZID=America/New_York:20230624T120000
DTEND;TZID=America/New_York:20230624T170000
DTSTAMP:20260420T105417
CREATED:20230305T043030Z
LAST-MODIFIED:20230305T043030Z
UID:10000254-1687608000-1687626000@www.readingrecap.com
SUMMARY:Porchfest 2023
DESCRIPTION:Reading PorchFest #5 is in the works for Saturday\, June 24th\, 2023
URL:https://www.readingrecap.com/event/porchfest-2023/
LOCATION:MA
CATEGORIES:Entertainment,Music
ATTACH;FMTTYPE=image/jpeg:https://www.readingrecap.com/wp-content/uploads/2023/03/Porchfest-2023.jpg
ORGANIZER;CN="Porchfest":MAILTO:Porchfest@foulds.org
END:VEVENT
BEGIN:VEVENT
DTSTART;TZID=America/New_York:20230624T130000
DTEND;TZID=America/New_York:20230624T190000
DTSTAMP:20260420T105417
CREATED:20230316T170121Z
LAST-MODIFIED:20230620T175146Z
UID:10000316-1687611600-1687633200@www.readingrecap.com
SUMMARY:Juneteenth Freedom Festival
DESCRIPTION:𝙍𝙚𝙖𝙙𝙞𝙣𝙜’𝙨 𝙏𝙝𝙞𝙧𝙙 𝘼𝙣𝙣𝙪𝙖𝙡 𝙅𝙪𝙣𝙚𝙩𝙚𝙚𝙣𝙩𝙝 𝙁𝙧𝙚𝙚𝙙𝙤𝙢 𝙁𝙚𝙨𝙩𝙞𝙫𝙖𝙡\n\nCheck out vendors\, food\, & beer at Reading’s Juneteenth Freedom Festival on June 24!  Join in our town’s celebration of Juneteenth\, happening on June 24 from 1:00-7:00 pm on the Town Common. \nWe have something for everyone at this event! The program will feature community speakers\, RMHS student choir\, and dance performances by Ammaya and Area 51. In addition\, a Pop-Up Market with several black-owned businesses will offer shopping options for clothing\, organic products\, plants\, jewelry\, and more. Local human rights groups and nonprofits will have tables with lots of information and interactive children’s activities. All that shopping and celebrating is hungry work\, and you’ll find delicious options from Chez Rafiki’s Halal and Mediterranean and Work Hard Eat Good Jamaican food. There will also be a Beer Garden with Brockton Beer Company and White Lion Brewing Company. \n\n\n\nAttendees should park at the Upper Haven Parking Lot and along Woburn Street. Spillover into the Brande Court lot is also recommended. There will be designated sitting spaces\, and attendees are encouraged to bring lawn chairs or other seating arrangements. \n\n\n\nThe Juneteenth event is sponsored by OESJ\, the Town of Reading\, and the Reading Public Library. Learn more about vendors and performers: https://bit.ly/RPLJuneteenth \nJuneteenth Schedule \n\n1:00 PM Welcome\n1:10 PM African American National Anthem\n1:15 PM Interactive Dance/Drumming Ensemble by Ammaya\n2:30 PM Student Dance Performance & RMHS Mixed Choir\n3:00 PM Community Speakers (ASL interpretation available)\n4:00 PM Live DJ\n\nFor more details\, contact the Office of Equity & Social Justice\, oesj@ci.reading.ma.us. The event location is wheelchair accessible and ASL translators are available on request. We look forward to seeing you there!
URL:https://www.readingrecap.com/event/juneteenth-freedom-festival/
LOCATION:Town Common\, 680 Main Street\, Reading\, MA\, 01867\, United States
CATEGORIES:Entertainment
ATTACH;FMTTYPE=image/png:https://www.readingrecap.com/wp-content/uploads/2023/03/Juneteenth-2023.png
END:VEVENT
END:VCALENDAR