BEGIN:VCALENDAR
VERSION:2.0
PRODID:-//Recapping Everything in Reading, MA - ECPv6.15.20//NONSGML v1.0//EN
CALSCALE:GREGORIAN
METHOD:PUBLISH
X-WR-CALNAME:Recapping Everything in Reading, MA
X-ORIGINAL-URL:https://www.readingrecap.com
X-WR-CALDESC:Events for Recapping Everything in Reading, MA
REFRESH-INTERVAL;VALUE=DURATION:PT1H
X-Robots-Tag:noindex
X-PUBLISHED-TTL:PT1H
BEGIN:VTIMEZONE
TZID:America/New_York
BEGIN:DAYLIGHT
TZOFFSETFROM:-0500
TZOFFSETTO:-0400
TZNAME:EDT
DTSTART:20220313T070000
END:DAYLIGHT
BEGIN:STANDARD
TZOFFSETFROM:-0400
TZOFFSETTO:-0500
TZNAME:EST
DTSTART:20221106T060000
END:STANDARD
BEGIN:DAYLIGHT
TZOFFSETFROM:-0500
TZOFFSETTO:-0400
TZNAME:EDT
DTSTART:20230312T070000
END:DAYLIGHT
BEGIN:STANDARD
TZOFFSETFROM:-0400
TZOFFSETTO:-0500
TZNAME:EST
DTSTART:20231105T060000
END:STANDARD
BEGIN:DAYLIGHT
TZOFFSETFROM:-0500
TZOFFSETTO:-0400
TZNAME:EDT
DTSTART:20240310T070000
END:DAYLIGHT
BEGIN:STANDARD
TZOFFSETFROM:-0400
TZOFFSETTO:-0500
TZNAME:EST
DTSTART:20241103T060000
END:STANDARD
END:VTIMEZONE
BEGIN:VEVENT
DTSTART;TZID=America/New_York:20230509T153000
DTEND;TZID=America/New_York:20230509T173000
DTSTAMP:20260419T084301
CREATED:20230423T014544Z
LAST-MODIFIED:20230423T014544Z
UID:10000358-1683646200-1683653400@www.readingrecap.com
SUMMARY:Teen Crafternoon: Learn How To Embroider!
DESCRIPTION:Craftivism 101: Get acquainted with craftivism\, learn to embroider\, stitch something brilliant\, and make friends—all in just 2 hours!\nCraft-based activism has been used as a tool of resistance\, coalition building\, and even espionage! Learn from Shannon Downey—a leader in the modern craftivism movement. She will provide an introduction to the history of craftivism and ways you can get involved in the modern movement. Shannon will then teach you how to embroider and have you stabbing it out in no time.\nRegistration is required for this program\, and can be made using the link provided below.
URL:https://www.readingrecap.com/event/teen-crafternoon-learn-how-to-embroider/
LOCATION:Reading Public Library\, 64 Middlesex Ave\, Reading\, MA\, 01867\, United States
CATEGORIES:Arts
ATTACH;FMTTYPE=image/jpeg:https://www.readingrecap.com/wp-content/uploads/2023/04/FB-Event-Teen-Craft-May-1200-×-628-px-1.jpg
END:VEVENT
END:VCALENDAR