BEGIN:VCALENDAR
VERSION:2.0
PRODID:-//Recapping Everything in Reading, MA - ECPv6.15.20//NONSGML v1.0//EN
CALSCALE:GREGORIAN
METHOD:PUBLISH
X-WR-CALNAME:Recapping Everything in Reading, MA
X-ORIGINAL-URL:https://www.readingrecap.com
X-WR-CALDESC:Events for Recapping Everything in Reading, MA
REFRESH-INTERVAL;VALUE=DURATION:PT1H
X-Robots-Tag:noindex
X-PUBLISHED-TTL:PT1H
BEGIN:VTIMEZONE
TZID:America/New_York
BEGIN:DAYLIGHT
TZOFFSETFROM:-0500
TZOFFSETTO:-0400
TZNAME:EDT
DTSTART:20220313T070000
END:DAYLIGHT
BEGIN:STANDARD
TZOFFSETFROM:-0400
TZOFFSETTO:-0500
TZNAME:EST
DTSTART:20221106T060000
END:STANDARD
BEGIN:DAYLIGHT
TZOFFSETFROM:-0500
TZOFFSETTO:-0400
TZNAME:EDT
DTSTART:20230312T070000
END:DAYLIGHT
BEGIN:STANDARD
TZOFFSETFROM:-0400
TZOFFSETTO:-0500
TZNAME:EST
DTSTART:20231105T060000
END:STANDARD
BEGIN:DAYLIGHT
TZOFFSETFROM:-0500
TZOFFSETTO:-0400
TZNAME:EDT
DTSTART:20240310T070000
END:DAYLIGHT
BEGIN:STANDARD
TZOFFSETFROM:-0400
TZOFFSETTO:-0500
TZNAME:EST
DTSTART:20241103T060000
END:STANDARD
END:VTIMEZONE
BEGIN:VEVENT
DTSTART;TZID=America/New_York:20230420T140000
DTEND;TZID=America/New_York:20230420T160000
DTSTAMP:20260419T230455
CREATED:20230410T202331Z
LAST-MODIFIED:20230410T202331Z
UID:10000339-1681999200-1682006400@www.readingrecap.com
SUMMARY:Teen Crafternoon: Collages!
DESCRIPTION:What’s a collage? How do I make one? What’s the Teen Art Showcase?\nStop by the Reading Public Library’s Teen Room to learn about collages\, the Teen Art Showcase\, and create some of your own masterpieces!\nSupplies will be available for teens during April vacation on Tuesday\, Wednesday and Thursday (April 18\, 19 & 20) from 2-4pm.
URL:https://www.readingrecap.com/event/teen-crafternoon-collages/2023-04-20/
LOCATION:Reading Public Library\, 64 Middlesex Ave\, Reading\, MA\, 01867\, United States
CATEGORIES:Arts
ATTACH;FMTTYPE=image/jpeg:https://www.readingrecap.com/wp-content/uploads/2023/04/FB-Events-Teen-Vacaation-Week-1.jpg
END:VEVENT
BEGIN:VEVENT
DTSTART;TZID=America/New_York:20230420T190000
DTEND;TZID=America/New_York:20230420T203000
DTSTAMP:20260419T230455
CREATED:20230329T183701Z
LAST-MODIFIED:20230329T183701Z
UID:10000323-1682017200-1682022600@www.readingrecap.com
SUMMARY:Everything You Ever Wanted to Know About Poison Ivy
DESCRIPTION:Got Poison Ivy? Pesky Pete to the Rescue!\nPete Barron\, otherwise known as Pesky Pete\, will show us how to identify poison ivy\, how and where it grows\, and most importantly\, how to get rid of it organically.\nRegistration is suggested but NOT REQUIRED. See the link below. \nPesky Pete Tip: If you have been exposed to poison ivy\, always wash up with dish detergent (like Dawn) and cold water. Warm water just spreads the poison ivy oils.\nCome join us for more great tips!
URL:https://www.readingrecap.com/event/everything-you-ever-wanted-to-know-about-poison-ivy/
LOCATION:Reading Public Library\, 64 Middlesex Ave\, Reading\, MA\, 01867\, United States
CATEGORIES:Reading Public Library
ATTACH;FMTTYPE=image/jpeg:https://www.readingrecap.com/wp-content/uploads/2023/03/FB-Event-Poison-Ive-1.jpg
END:VEVENT
END:VCALENDAR