BEGIN:VCALENDAR
VERSION:2.0
PRODID:-//Recapping Everything in Reading, MA - ECPv6.15.20//NONSGML v1.0//EN
CALSCALE:GREGORIAN
METHOD:PUBLISH
X-WR-CALNAME:Recapping Everything in Reading, MA
X-ORIGINAL-URL:https://www.readingrecap.com
X-WR-CALDESC:Events for Recapping Everything in Reading, MA
REFRESH-INTERVAL;VALUE=DURATION:PT1H
X-Robots-Tag:noindex
X-PUBLISHED-TTL:PT1H
BEGIN:VTIMEZONE
TZID:America/New_York
BEGIN:DAYLIGHT
TZOFFSETFROM:-0500
TZOFFSETTO:-0400
TZNAME:EDT
DTSTART:20220313T070000
END:DAYLIGHT
BEGIN:STANDARD
TZOFFSETFROM:-0400
TZOFFSETTO:-0500
TZNAME:EST
DTSTART:20221106T060000
END:STANDARD
BEGIN:DAYLIGHT
TZOFFSETFROM:-0500
TZOFFSETTO:-0400
TZNAME:EDT
DTSTART:20230312T070000
END:DAYLIGHT
BEGIN:STANDARD
TZOFFSETFROM:-0400
TZOFFSETTO:-0500
TZNAME:EST
DTSTART:20231105T060000
END:STANDARD
BEGIN:DAYLIGHT
TZOFFSETFROM:-0500
TZOFFSETTO:-0400
TZNAME:EDT
DTSTART:20240310T070000
END:DAYLIGHT
BEGIN:STANDARD
TZOFFSETFROM:-0400
TZOFFSETTO:-0500
TZNAME:EST
DTSTART:20241103T060000
END:STANDARD
END:VTIMEZONE
BEGIN:VEVENT
DTSTART;TZID=America/New_York:20230412T110000
DTEND;TZID=America/New_York:20230412T120000
DTSTAMP:20260419T170612
CREATED:20230408T020410Z
LAST-MODIFIED:20230408T020455Z
UID:10000328-1681297200-1681300800@www.readingrecap.com
SUMMARY:Select Board Office Hours
DESCRIPTION:Mark your calendars to join Select Board members Mark Dockser and Jackie McCarthy for office hours on April 12 and April 26\, both 11AM-Noon\, respectively.
URL:https://www.readingrecap.com/event/mark-dockser-office-hours/2023-04-12/
LOCATION:Pleasant Street Center\, 49 Pleasant Street\, Reading\, MA\, 01867\, United States
CATEGORIES:Select Board
ATTACH;FMTTYPE=image/jpeg:https://www.readingrecap.com/wp-content/uploads/2023/04/April-Office-Hours.jpg
END:VEVENT
BEGIN:VEVENT
DTSTART;TZID=America/New_York:20230412T170000
DTEND;TZID=America/New_York:20230412T200000
DTSTAMP:20260419T170612
CREATED:20230408T000700Z
LAST-MODIFIED:20230408T000700Z
UID:10000327-1681318800-1681329600@www.readingrecap.com
SUMMARY:Reading Public Schools Present ARTSfest
DESCRIPTION:Come experience visual artwork\, music and dance performances\, and media created by K–12th graders in the Reading Public Schools! Monday\, Tuesday\, and Wednesday: April 10th\, 11th\, and 12th\, 2023 from 5–8 PM at the Reading Memorial High School Performing Arts Center!\n\n \n\nMonday\, April 10th\n\n \n\n 	4:30-5:00 PM Opening Reception on RMHS Main Street (Open to Families of Students with Visual Art on Display)\n \n 	5:00-7:00 PM District-Wide Art Show Open on RMHS Main Street\n \n 	5:30 PM Opening Concert in RMHS Performing Arts Center (Reading Elementary School Music Performances)\n\nTuesday\, April 11th\n\n\n\n 	5:00-8:00 PM District-Wide Art Show Open on RMHS Main Street\n \n 	6:00 PM Opening Concert in RMHS Performing Arts Center (8th Grade Combined Band\, Reading Memorial High School Symphonic Band)\n \n 	7:00 PM Concert in RMHS Performing Arts Center (8th Grade Combined Chorus\, Reading Memorial High School Mixed Choir and Harmonium)\n\nWednesday\, April 12th\n\n\n\n 	5:00-8:00 PM District-Wide Art Show Open on RMHS Main Street\n \n 	6:00 PM Concert in RMHS Performing Arts Center (6th Grade Combined Band\, 6th Grade Combined Chorus)\n \n 	7:00 PM Jazz Extravaganza in RMHS Performing Arts Center (Reading Middle School Jazz Band\, Reading Memorial High School Stage Band\, Reading Memorial High School Jazz Ensemble)
URL:https://www.readingrecap.com/event/reading-public-schools-present-artsfest/2023-04-12/
LOCATION:Reading Memorial High School\, 62 Oakland Rd\, Reading\, MA\, 01867\, United States
CATEGORIES:Arts
ATTACH;FMTTYPE=image/jpeg:https://www.readingrecap.com/wp-content/uploads/2023/04/ARTSfest.jpg
END:VEVENT
END:VCALENDAR