BEGIN:VCALENDAR
VERSION:2.0
PRODID:-//Recapping Everything in Reading, MA - ECPv6.15.20//NONSGML v1.0//EN
CALSCALE:GREGORIAN
METHOD:PUBLISH
X-ORIGINAL-URL:https://www.readingrecap.com
X-WR-CALDESC:Events for Recapping Everything in Reading, MA
REFRESH-INTERVAL;VALUE=DURATION:PT1H
X-Robots-Tag:noindex
X-PUBLISHED-TTL:PT1H
BEGIN:VTIMEZONE
TZID:America/New_York
BEGIN:DAYLIGHT
TZOFFSETFROM:-0500
TZOFFSETTO:-0400
TZNAME:EDT
DTSTART:20220313T070000
END:DAYLIGHT
BEGIN:STANDARD
TZOFFSETFROM:-0400
TZOFFSETTO:-0500
TZNAME:EST
DTSTART:20221106T060000
END:STANDARD
BEGIN:DAYLIGHT
TZOFFSETFROM:-0500
TZOFFSETTO:-0400
TZNAME:EDT
DTSTART:20230312T070000
END:DAYLIGHT
BEGIN:STANDARD
TZOFFSETFROM:-0400
TZOFFSETTO:-0500
TZNAME:EST
DTSTART:20231105T060000
END:STANDARD
BEGIN:DAYLIGHT
TZOFFSETFROM:-0500
TZOFFSETTO:-0400
TZNAME:EDT
DTSTART:20240310T070000
END:DAYLIGHT
BEGIN:STANDARD
TZOFFSETFROM:-0400
TZOFFSETTO:-0500
TZNAME:EST
DTSTART:20241103T060000
END:STANDARD
END:VTIMEZONE
BEGIN:VEVENT
DTSTART;TZID=America/New_York:20230410T163000
DTEND;TZID=America/New_York:20230410T190000
DTSTAMP:20260419T091528
CREATED:20230408T000700Z
LAST-MODIFIED:20230408T000700Z
UID:10000325-1681144200-1681153200@www.readingrecap.com
SUMMARY:Reading Public Schools Present ARTSfest
DESCRIPTION:Come experience visual artwork\, music and dance performances\, and media created by K–12th graders in the Reading Public Schools! Monday\, Tuesday\, and Wednesday: April 10th\, 11th\, and 12th\, 2023 from 5–8 PM at the Reading Memorial High School Performing Arts Center!\n\n \n\nMonday\, April 10th\n\n \n\n 	4:30-5:00 PM Opening Reception on RMHS Main Street (Open to Families of Students with Visual Art on Display)\n \n 	5:00-7:00 PM District-Wide Art Show Open on RMHS Main Street\n \n 	5:30 PM Opening Concert in RMHS Performing Arts Center (Reading Elementary School Music Performances)\n\nTuesday\, April 11th\n\n\n\n 	5:00-8:00 PM District-Wide Art Show Open on RMHS Main Street\n \n 	6:00 PM Opening Concert in RMHS Performing Arts Center (8th Grade Combined Band\, Reading Memorial High School Symphonic Band)\n \n 	7:00 PM Concert in RMHS Performing Arts Center (8th Grade Combined Chorus\, Reading Memorial High School Mixed Choir and Harmonium)\n\nWednesday\, April 12th\n\n\n\n 	5:00-8:00 PM District-Wide Art Show Open on RMHS Main Street\n \n 	6:00 PM Concert in RMHS Performing Arts Center (6th Grade Combined Band\, 6th Grade Combined Chorus)\n \n 	7:00 PM Jazz Extravaganza in RMHS Performing Arts Center (Reading Middle School Jazz Band\, Reading Memorial High School Stage Band\, Reading Memorial High School Jazz Ensemble)
URL:https://www.readingrecap.com/event/reading-public-schools-present-artsfest/2023-04-10/
LOCATION:Reading Memorial High School\, 62 Oakland Rd\, Reading\, MA\, 01867\, United States
CATEGORIES:Arts
ATTACH;FMTTYPE=image/jpeg:https://www.readingrecap.com/wp-content/uploads/2023/04/ARTSfest.jpg
END:VEVENT
BEGIN:VEVENT
DTSTART;TZID=America/New_York:20230410T190000
DTEND;TZID=America/New_York:20230410T200000
DTSTAMP:20260419T091528
CREATED:20230406T155811Z
LAST-MODIFIED:20230406T155811Z
UID:10000324-1681153200-1681156800@www.readingrecap.com
SUMMARY:VIRTUAL: The ABCs of Immigration
DESCRIPTION:The Reading Public Library is excited to partner with the MIRA Coaltion to offer a 3-part series to present relevant\, up-to-date\, and accurate information on immigration topics\, open to all individuals who would like to increase their knowledge of immigration-related topics and learn about helpful resources for practice with immigrant populations. You may register for all three sessions\, or choose individual sessions. Zoom information will be shared with registration. \nThe first session\, ABCs of Immigration\, provides an overview of common immigration statuses\, the privileges and restrictions associated with each\, and common pathways to obtain legal immigration status — including through family and humanitarian protections. \nTo register for this virtual program using the link provided below.
URL:https://www.readingrecap.com/event/virtual-the-abcs-of-immigration/
LOCATION:Virtual / Online Event
CATEGORIES:Reading Public Library
ATTACH;FMTTYPE=image/jpeg:https://www.readingrecap.com/wp-content/uploads/2023/04/FB-Event-Immigration-Series-1200-×-628-px.jpg
END:VEVENT
END:VCALENDAR