BEGIN:VCALENDAR
VERSION:2.0
PRODID:-//Recapping Everything in Reading, MA - ECPv6.15.20//NONSGML v1.0//EN
CALSCALE:GREGORIAN
METHOD:PUBLISH
X-WR-CALNAME:Recapping Everything in Reading, MA
X-ORIGINAL-URL:https://www.readingrecap.com
X-WR-CALDESC:Events for Recapping Everything in Reading, MA
REFRESH-INTERVAL;VALUE=DURATION:PT1H
X-Robots-Tag:noindex
X-PUBLISHED-TTL:PT1H
BEGIN:VTIMEZONE
TZID:America/New_York
BEGIN:DAYLIGHT
TZOFFSETFROM:-0500
TZOFFSETTO:-0400
TZNAME:EDT
DTSTART:20220313T070000
END:DAYLIGHT
BEGIN:STANDARD
TZOFFSETFROM:-0400
TZOFFSETTO:-0500
TZNAME:EST
DTSTART:20221106T060000
END:STANDARD
BEGIN:DAYLIGHT
TZOFFSETFROM:-0500
TZOFFSETTO:-0400
TZNAME:EDT
DTSTART:20230312T070000
END:DAYLIGHT
BEGIN:STANDARD
TZOFFSETFROM:-0400
TZOFFSETTO:-0500
TZNAME:EST
DTSTART:20231105T060000
END:STANDARD
BEGIN:DAYLIGHT
TZOFFSETFROM:-0500
TZOFFSETTO:-0400
TZNAME:EDT
DTSTART:20240310T070000
END:DAYLIGHT
BEGIN:STANDARD
TZOFFSETFROM:-0400
TZOFFSETTO:-0500
TZNAME:EST
DTSTART:20241103T060000
END:STANDARD
END:VTIMEZONE
BEGIN:VEVENT
DTSTART;TZID=America/New_York:20230407T103000
DTEND;TZID=America/New_York:20230407T150000
DTSTAMP:20260420T230027
CREATED:20240302T232327Z
LAST-MODIFIED:20240310T165743Z
UID:10000649-1680863400-1680879600@www.readingrecap.com
SUMMARY:🏓 2nd Annual Community Pickleball Day
DESCRIPTION:Save the date! Sunday\, April 7th from 10:30am – 3pm. Indoors at Reading Memorial High School Hawkes Field House. Recreational & competitive play by level\, beginner & advanced beginner clinics\, intro to pickleball for beginners. Registration is now open via the following link: https://form.jotform.com/240524291335148 \nWe need volunteers. If you’re interested\, please contact readingmapickleball@gmail.com \nMore information to follow as the event drawers closer. \nInterested in participating? contact readingmapickleball@gmail.com to receive updates.\nProceeds will go towards advancing pickleball in Reading\, MA through Reading Pickleball Players Association\, a 501(c)(3) non profit.
URL:https://www.readingrecap.com/event/%f0%9f%8f%93-2nd-annual-community-pickleball-day/
LOCATION:Reading Memorial High School\, 62 Oakland Rd\, Reading\, MA\, 01867\, United States
CATEGORIES:Fundraiser,Sports
ATTACH;FMTTYPE=image/jpeg:https://www.readingrecap.com/wp-content/uploads/2024/03/Screenshot-2024-03-10-at-12-28-21-Option-1-2024-Feb-Registration-Link-Community-Day-Option-1-2024-Feb-Registration-Link-Community-Day.jpg
ORGANIZER;CN="Reading Pickleball Players Association":MAILTO:readingmapickleball@gmail.com
END:VEVENT
END:VCALENDAR