BEGIN:VCALENDAR
VERSION:2.0
PRODID:-//Recapping Everything in Reading, MA - ECPv6.15.20//NONSGML v1.0//EN
CALSCALE:GREGORIAN
METHOD:PUBLISH
X-WR-CALNAME:Recapping Everything in Reading, MA
X-ORIGINAL-URL:https://www.readingrecap.com
X-WR-CALDESC:Events for Recapping Everything in Reading, MA
REFRESH-INTERVAL;VALUE=DURATION:PT1H
X-Robots-Tag:noindex
X-PUBLISHED-TTL:PT1H
BEGIN:VTIMEZONE
TZID:America/New_York
BEGIN:DAYLIGHT
TZOFFSETFROM:-0500
TZOFFSETTO:-0400
TZNAME:EDT
DTSTART:20220313T070000
END:DAYLIGHT
BEGIN:STANDARD
TZOFFSETFROM:-0400
TZOFFSETTO:-0500
TZNAME:EST
DTSTART:20221106T060000
END:STANDARD
BEGIN:DAYLIGHT
TZOFFSETFROM:-0500
TZOFFSETTO:-0400
TZNAME:EDT
DTSTART:20230312T070000
END:DAYLIGHT
BEGIN:STANDARD
TZOFFSETFROM:-0400
TZOFFSETTO:-0500
TZNAME:EST
DTSTART:20231105T060000
END:STANDARD
BEGIN:DAYLIGHT
TZOFFSETFROM:-0500
TZOFFSETTO:-0400
TZNAME:EDT
DTSTART:20240310T070000
END:DAYLIGHT
BEGIN:STANDARD
TZOFFSETFROM:-0400
TZOFFSETTO:-0500
TZNAME:EST
DTSTART:20241103T060000
END:STANDARD
END:VTIMEZONE
BEGIN:VEVENT
DTSTART;TZID=America/New_York:20230330T073000
DTEND;TZID=America/New_York:20230330T170000
DTSTAMP:20260422T174240
CREATED:20230228T055031Z
LAST-MODIFIED:20230228T055031Z
UID:10000251-1680161400-1680195600@www.readingrecap.com
SUMMARY:Local Election - Early Voting
DESCRIPTION:Early voting is available at Town Hall during normal business hours from March 27th-30th. \nTown Hall Hours:\nMonday\, Wednesday & Thursday\n7:30 am to 5:30 pm \nTuesday\n7:30 am to 7 pm
URL:https://www.readingrecap.com/event/local-election-early-voting/2023-03-30/
LOCATION:Town Hall\, 16 Lowell Street\, Reading\, MA\, 01867\, United States
CATEGORIES:Elections
ATTACH;FMTTYPE=image/jpeg:https://www.readingrecap.com/wp-content/uploads/2023/02/Town-Hall-Spring.jpg
END:VEVENT
BEGIN:VEVENT
DTSTART;TZID=America/New_York:20230330T173000
DTEND;TZID=America/New_York:20230330T193000
DTSTAMP:20260422T174240
CREATED:20230305T041315Z
LAST-MODIFIED:20230305T041315Z
UID:10000252-1680197400-1680204600@www.readingrecap.com
SUMMARY:Overcoming Hurdles to Disability Inclusion: Community Workshop
DESCRIPTION:Join an exciting workshop provided by MERGE Inclusion Consulting. This educational community offering is sponsored by is being hosted by The Office of Equity And Social Justice and Reading SEPAC. Additional partners include Reading Recreation\, Public Library and Public Schools\, The Burbank YMCA and Pleasant Street Center. \nWHO: Anyone from a community organization seeking to be more disability inclusive in their practice like a Camps\, Town Rec\, YMCA or JCC’s\, Scouts\, Library\, Churches\, Sport League\, Before & After School Program\, Dance\, Art or Enrichment Studios\, Museums\, or businesses. \nWHEN: Thursday\, March 30th from 5:30-7:30pm* \nWHERE: Reading Public Library Community Room \nREGISTER: https://bit.ly/ReadingInclusion
URL:https://www.readingrecap.com/event/overcoming-hurdles-to-disability-inclusion-community-workshop/
LOCATION:Reading Public Library\, 64 Middlesex Ave\, Reading\, MA\, 01867\, United States
CATEGORIES:Reading Public Library,SEPAC
ATTACH;FMTTYPE=image/jpeg:https://www.readingrecap.com/wp-content/uploads/2023/03/Inclusion-Presentation.jpg
END:VEVENT
END:VCALENDAR