BEGIN:VCALENDAR
VERSION:2.0
PRODID:-//Recapping Everything in Reading, MA - ECPv6.15.20//NONSGML v1.0//EN
CALSCALE:GREGORIAN
METHOD:PUBLISH
X-ORIGINAL-URL:https://www.readingrecap.com
X-WR-CALDESC:Events for Recapping Everything in Reading, MA
REFRESH-INTERVAL;VALUE=DURATION:PT1H
X-Robots-Tag:noindex
X-PUBLISHED-TTL:PT1H
BEGIN:VTIMEZONE
TZID:America/New_York
BEGIN:DAYLIGHT
TZOFFSETFROM:-0500
TZOFFSETTO:-0400
TZNAME:EDT
DTSTART:20220313T070000
END:DAYLIGHT
BEGIN:STANDARD
TZOFFSETFROM:-0400
TZOFFSETTO:-0500
TZNAME:EST
DTSTART:20221106T060000
END:STANDARD
BEGIN:DAYLIGHT
TZOFFSETFROM:-0500
TZOFFSETTO:-0400
TZNAME:EDT
DTSTART:20230312T070000
END:DAYLIGHT
BEGIN:STANDARD
TZOFFSETFROM:-0400
TZOFFSETTO:-0500
TZNAME:EST
DTSTART:20231105T060000
END:STANDARD
BEGIN:DAYLIGHT
TZOFFSETFROM:-0500
TZOFFSETTO:-0400
TZNAME:EDT
DTSTART:20240310T070000
END:DAYLIGHT
BEGIN:STANDARD
TZOFFSETFROM:-0400
TZOFFSETTO:-0500
TZNAME:EST
DTSTART:20241103T060000
END:STANDARD
END:VTIMEZONE
BEGIN:VEVENT
DTSTART;TZID=America/New_York:20230328T073000
DTEND;TZID=America/New_York:20230328T190000
DTSTAMP:20260419T102045
CREATED:20230228T055031Z
LAST-MODIFIED:20230228T055031Z
UID:10000249-1679988600-1680030000@www.readingrecap.com
SUMMARY:Local Election - Early Voting
DESCRIPTION:Early voting is available at Town Hall during normal business hours from March 27th-30th. \nTown Hall Hours:\nMonday\, Wednesday & Thursday\n7:30 am to 5:30 pm \nTuesday\n7:30 am to 7 pm
URL:https://www.readingrecap.com/event/local-election-early-voting/2023-03-28/
LOCATION:Town Hall\, 16 Lowell Street\, Reading\, MA\, 01867\, United States
CATEGORIES:Elections
ATTACH;FMTTYPE=image/jpeg:https://www.readingrecap.com/wp-content/uploads/2023/02/Town-Hall-Spring.jpg
END:VEVENT
BEGIN:VEVENT
DTSTART;TZID=America/New_York:20230328T160000
DTEND;TZID=America/New_York:20230328T180000
DTSTAMP:20260419T102045
CREATED:20230306T210826Z
LAST-MODIFIED:20230306T211128Z
UID:10000313-1680019200-1680026400@www.readingrecap.com
SUMMARY:Teen Meet Up: Zines!
DESCRIPTION:DIY ZINES!\nWhat are zines? How do I make one? What’s the Teen Art Showcase?\nStop by the Reading Public Library’s Teen Room to learn about zines\, the Teen Art Showcase\, and create some of your own zines!\nSupplies and instructions will be available for teens at the every Tuesday from 4-6pm during the month of March.
URL:https://www.readingrecap.com/event/teen-meet-up-zines/2023-03-28/
LOCATION:Reading Public Library\, 64 Middlesex Ave\, Reading\, MA\, 01867\, United States
CATEGORIES:Reading Public Library
ATTACH;FMTTYPE=image/jpeg:https://www.readingrecap.com/wp-content/uploads/2023/03/FB-Event-Zines-Teen-Meet-Up.jpg
END:VEVENT
END:VCALENDAR