BEGIN:VCALENDAR
VERSION:2.0
PRODID:-//Recapping Everything in Reading, MA - ECPv6.15.20//NONSGML v1.0//EN
CALSCALE:GREGORIAN
METHOD:PUBLISH
X-ORIGINAL-URL:https://www.readingrecap.com
X-WR-CALDESC:Events for Recapping Everything in Reading, MA
REFRESH-INTERVAL;VALUE=DURATION:PT1H
X-Robots-Tag:noindex
X-PUBLISHED-TTL:PT1H
BEGIN:VTIMEZONE
TZID:America/New_York
BEGIN:DAYLIGHT
TZOFFSETFROM:-0500
TZOFFSETTO:-0400
TZNAME:EDT
DTSTART:20220313T070000
END:DAYLIGHT
BEGIN:STANDARD
TZOFFSETFROM:-0400
TZOFFSETTO:-0500
TZNAME:EST
DTSTART:20221106T060000
END:STANDARD
BEGIN:DAYLIGHT
TZOFFSETFROM:-0500
TZOFFSETTO:-0400
TZNAME:EDT
DTSTART:20230312T070000
END:DAYLIGHT
BEGIN:STANDARD
TZOFFSETFROM:-0400
TZOFFSETTO:-0500
TZNAME:EST
DTSTART:20231105T060000
END:STANDARD
BEGIN:DAYLIGHT
TZOFFSETFROM:-0500
TZOFFSETTO:-0400
TZNAME:EDT
DTSTART:20240310T070000
END:DAYLIGHT
BEGIN:STANDARD
TZOFFSETFROM:-0400
TZOFFSETTO:-0500
TZNAME:EST
DTSTART:20241103T060000
END:STANDARD
END:VTIMEZONE
BEGIN:VEVENT
DTSTART;TZID=America/New_York:20230327T073000
DTEND;TZID=America/New_York:20230327T173000
DTSTAMP:20260419T102005
CREATED:20230228T055031Z
LAST-MODIFIED:20230228T055031Z
UID:10000248-1679902200-1679938200@www.readingrecap.com
SUMMARY:Local Election - Early Voting
DESCRIPTION:Early voting is available at Town Hall during normal business hours from March 27th-30th. \nTown Hall Hours:\nMonday\, Wednesday & Thursday\n7:30 am to 5:30 pm \nTuesday\n7:30 am to 7 pm
URL:https://www.readingrecap.com/event/local-election-early-voting/2023-03-27/
LOCATION:Town Hall\, 16 Lowell Street\, Reading\, MA\, 01867\, United States
CATEGORIES:Elections
ATTACH;FMTTYPE=image/jpeg:https://www.readingrecap.com/wp-content/uploads/2023/02/Town-Hall-Spring.jpg
END:VEVENT
BEGIN:VEVENT
DTSTART;TZID=America/New_York:20230327T140000
DTEND;TZID=America/New_York:20230327T150000
DTSTAMP:20260419T102005
CREATED:20230308T190018Z
LAST-MODIFIED:20230308T190018Z
UID:10000314-1679925600-1679929200@www.readingrecap.com
SUMMARY:Bird Meetup With Dave Williams!
DESCRIPTION:You’ve learned all about birds\, but do you want to learn more about birds? And share some of your knowledge too? You’re in duck luck! Novice birders and experts alike are welcome to attend RPL’s casual Bird Meetups with Dave Williams every other month. These will be informal gatherings where bird-loving folk can gather to learn from each other and share their knowledge. \nTo register\, use the link provided below:
URL:https://www.readingrecap.com/event/bird-meetup-with-dave-williams-2/
LOCATION:Reading Public Library\, 64 Middlesex Ave\, Reading\, MA\, 01867\, United States
CATEGORIES:Reading Public Library
ATTACH;FMTTYPE=image/jpeg:https://www.readingrecap.com/wp-content/uploads/2023/03/FB-Event-Bird-Meetup-1200-×-628-px2.jpg
END:VEVENT
BEGIN:VEVENT
DTSTART;TZID=America/New_York:20230327T180000
DTEND;TZID=America/New_York:20230327T190000
DTSTAMP:20260419T102005
CREATED:20230316T171123Z
LAST-MODIFIED:20230316T171123Z
UID:10000317-1679940000-1679943600@www.readingrecap.com
SUMMARY:Trash & Recycling Public Forum
DESCRIPTION:Assistant DPW Director\, Chris Cole\, will be giving a presentation about the proposed new trash and recycling barrels for town residents. \nCome listen and learn about the future of trash collection; then discuss and share your thoughts with town staff. \nIn Person at: Town Hall – Select Board Meeting Room \nor \nVIA ZOOM: Meeting ID: 824 0117 2095 Passcode: 462955 \nhttps://us06web.zoom.us/j/82401172095
URL:https://www.readingrecap.com/event/trash-recycling-public-forum/
LOCATION:Town Hall\, 16 Lowell Street\, Reading\, MA\, 01867\, United States
CATEGORIES:Public Works
ATTACH;FMTTYPE=image/jpeg:https://www.readingrecap.com/wp-content/uploads/2023/03/Trash-Forum.jpg
END:VEVENT
END:VCALENDAR